Workbook

Sheet Sheet1
G28: Bee Mos
G29: Estrada Betaun

Sheet PROGRESU EJEKUSAUN INF 2025
A6: Relatorio Alokasaun Kontra Ejekusaun Tranferensia Publicas 2025 (Inf)
A7: Nu | B7: Munisipiu | C7: Postu Administrativu | D7: Suku | E7: Aldeia | F7: Aktividades | G7: Naran Projeito | H7: Unidade | I7: Kustu Estimasaun tuir POI | J7: Menus Fee bank | K7: Kumulativu | L7: Balansu | M7: Purcentangen% Progresu | O7: Observasaun
M8: Financas | N8: Fisiku
A9: 1 | B9: Aileu | C9: Aileu VILLA | D9: Aissirimou | E9: BERKATI | F9: KONSTRUSAUN | G9: ESTRADA RURAIS - ESTRADA RAI | H9: KM | I9: 24231 | J9: 48.46 | K9: =J9 -> 48.46 | L9: =I9-J9 -> 24182.54 | M9: =J9/I9 -> 0.0019999175 | O9: Osan tama iha 02/07/2025
A10: 2 | B10: Aileu | C10: Aileu VILLA | D10: Bandudato | E10: BANDUDATO | F10: KONSTRUSAUN | G10: MORU SATAN RAI & BRONJONG | H10: KM | I10: =21430+20 -> 21450 | J10: 42.86 | K10: =J10 -> 42.86 | L10: =I10-J10 -> 21407.14 | M10: =J10/I10 -> 0.0019981352 | O10: Osan tama iha 02/07/2025
A11: 3 | B11: Aileu | C11: Aileu VILLA | D11: Fahiria | E11: SIDOLE | F11: KONSTRUSAUN | G11: ESTRADA RURAIS - ESTRADA BETAUN & DRAINAZEN | H11: KM | I11: 17223 | J11: 48.45 | K11: =J11 -> 48.45 | L11: =I11-J11 -> 17174.55 | M11: =J11/I11 -> 0.0028130988 | O11: Osan tama iha 02/07/2025
E12: SARIN | F12: MANUTENSAUN | G12: Rehabilitasaun Sede Aldeia | H12: KM | I12: 7000 | J12: 0 | K12: =J12 -> 0 | L12: =I12-J12 -> 7000 | M12: =J12/I12 -> 0 | O12: Osan tama iha 02/07/2025
A13: 4 | B13: Aileu | C13: Aileu VILLA | D13: Fatubossa | E13: CAICASA | F13: KONSTRUSAUN | G13: ESCOLA PRE PRIMARIA | H13: M2 | I13: 24076 | J13: 48.15 | K13: =J13 -> 48.15 | L13: =I13-J13 -> 24027.85 | M13: =J13/I13 -> 0.0019999169 | O13: Osan tama iha 02/07/2025
A14: 5 | B14: Aileu | C14: Aileu VILLA | D14: Hoholau | E14: MANUBATAN | F14: KONSTRUSAUN | G14: ESTRADA RURAIS- ESTRADA BETAUN | H14: M | I14: 24076 | J14: 48.15 | K14: =J14 -> 48.15 | L14: =I14-J14 -> 24027.85 | M14: =J14/I14 -> 0.0019999169 | O14: Osan tama iha 02/07/2025
A15: 6 | B15: Aileu | C15: Aileu VILLA | D15: Lahae | E15: RIATELU | F15: REHABILITASAUN | G15: KONSTRUSAUN IRIGASAUN | H15: KM | I15: 24076 | J15: 48.15 | K15: =J15 -> 48.15 | L15: =I15-J15 -> 24027.85 | M15: =J15/I15 -> 0.0019999169 | O15: Osan tama iha 02/07/2025
A16: 7 | B16: Aileu | C16: Aileu VILLA | D16: Lausi | E16: ERBUTI | F16: REHABILITASAUN | G16: EXTENSAUN SALA PROFESSOR | H16: KM | I16: 24076 | J16: 48.15 | K16: =J16 -> 48.15 | L16: =I16-J16 -> 24027.85 | M16: =J16/I16 -> 0.0019999169 | O16: Osan tama iha 02/07/2025
A17: 8 | B17: Aileu | C17: Aileu VILLA | D17: Lequitura | E17: RIHEU | F17: KONSTRUSAUN | G17: ESTRADA RURAIS - ESTRADA RAI | H17: KM | I17: 24076 | J17: 48.15 | K17: =J17 -> 48.15 | L17: =I17-J17 -> 24027.85 | M17: =J17/I17 -> 0.0019999169 | O17: Osan tama iha 02/07/2025
A18: 9 | B18: Aileu | C18: Aileu VILLA | D18: Saboria | E18: SABORIA | F18: KONSTRUSAUN | G18: ESTRADA RURAIS - ESTRADA BETAUN | H18: KM | I18: 24076 | J18: 48.14 | K18: =J18 -> 48.14 | L18: =I18-J18 -> 24027.86 | M18: =J18/I18 -> 0.0019995016 | O18: Osan tama iha 02/07/2025
A19: 10 | B19: Aileu | C19: Aileu VILLA | D19: Seloi Craic | E19: COLIHOHO | F19: RAHABILITASAUN | G19: Rehabilitasaun Bee Mos | H19: M | I19: 16015.1 | J19: 53.74 | K19: =J19 -> 53.74 | L19: =I19-J19 -> 15961.36 | M19: =J19/I19 -> 0.0033555832 | O19: Osan tama iha 02/07/2025
G20: KONSTRUSAUN BEE MOS | I20: 10853.9 | K20: =J20 -> 0
A21: 11 | B21: Aileu | C21: Aileu VILLA | D21: Seloi Malere | E21: COTABAURU | F21: REHABILITASAUN | G21: KONSTRUSAUN EST BETAUN | H21: KM | I21: 27016 | J21: 54.03 | K21: =J21 -> 54.03 | L21: =I21-J21 -> 26961.97 | M21: =J21/I21 -> 0.001999926 | O21: Osan tama iha 02/07/2025
A22: 12 | B22: Aileu | C22: Aileu VILLA | D22: Suco Liurai (Alieu Vila) | E22: FATULMAU | F22: KONSTRUSAUN | G22: BEE MOS SISTEMA GRAVITASAUN | H22: M2 | I22: 26869 | J22: 53.74 | K22: =J22 -> 53.74 | L22: =I22-J22 -> 26815.26 | M22: =J22/I22 -> 0.0020000744 | O22: Osan tama iha 02/07/2025
A23: Total | I23: =SUM(I9:I22) -> 295114 | J23: =SUM(J9:J22) -> 590.17 | K23: =SUM(K9:K22) -> 590.17 | L23: =SUM(L9:L22) -> 283669.93 | M23: =SUM(M9:M22) -> 0.026165821
A24: 13 | B24: Aileu | C24: Laulara | D24: Bocolelo | E24: DONFONAMO | F24: KONSTRUSAUN | G24: ESTRADA RURAIS - ESTRADA RAI | H24: KM | I24: 26722 | J24: 53.44 | K24: =J24 -> 53.44 | L24: =I24-J24 -> 26668.56 | M24: =J24/I24 -> 0.0019998503 | O24: Osan tama iha 02/07/2025
A25: 14 | B25: Aileu | C25: Laulara | D25: Cotolau | E25: ORNAI | F25: EXTENSAUN | G25: ESTRADA BETAUN | H25: M2 | I25: 26722 | J25: 53.44 | K25: =J25 -> 53.44 | L25: =I25-J25 -> 26668.56 | M25: =J25/I25 -> 0.0019998503 | O25: Osan tama iha 02/07/2025
A26: 15 | B26: Aileu | C26: Laulara | D26: Fatisi | E26: MAUBOUC | F26: KONSTRUSAUN | G26: ESTRADA BETAUN | H26: KM | I26: 26722 | J26: 53.44 | K26: =J26 -> 53.44 | L26: =I26-J26 -> 26668.56 | M26: =J26/I26 -> 0.0019998503 | O26: Osan tama iha 02/07/2025
A27: 16 | B27: Aileu | C27: Laulara | D27: Madabeno | E27: MANE HALO | F27: KONSTRUSAUN | G27: Rehabilitasaun Sede Aldeia | H27: KM | I27: 24076 | J27: 48.15 | K27: =J27 -> 48.15 | L27: =I27-J27 -> 24027.85 | M27: =J27/I27 -> 0.0019999169 | O27: Osan tama iha 02/07/2025
A28: 17 | B28: Aileu | C28: Laulara | D28: Talitu | E28: CASMANATUTO | F28: KONSTRUSAUN | G28: Bee Mos | H28: KM | I28: 24076 | J28: 48.15 | K28: =J28 -> 48.15 | L28: =I28-J28 -> 24027.85 | M28: =J28/I28 -> 0.0019999169 | O28: Osan tama iha 02/07/2025
A29: 18 | B29: Aileu | C29: Laulara | D29: Tohumeta | E29: TOHUMETA | F29: KONSTRUSAUN | G29: ESTRADA BETAUN | H29: KM | I29: 24076 | J29: 48.15 | K29: =J29 -> 48.15 | L29: =I29-J29 -> 24027.85 | M29: =J29/I29 -> 0.0019999169 | O29: Osan tama iha 02/07/2025
A30: Total | I30: =SUM(I24:I29) -> 152394 | J30: =SUM(J24:J29) -> 304.77 | K30: =SUM(K24:K29) -> 304.77 | L30: =SUM(L24:L29) -> 152089.23 | M30: =SUM(M24:M29) -> 0.011999302
A31: 19 | B31: Aileu | C31: Liquidoe | D31: Acubilitoho | E31: BILOCO | F31: REHABILITASAUN | G31: ESTRADA RURAIS - ESTRADA BETAUN | H31: KM | I31: 21430 | J31: 42.86 | K31: =J31 -> 42.86 | L31: =I31-J31 -> 21387.14 | M31: =J31/I31 -> 0.002 | O31: Osan tama iha 02/07/2025
A32: 20 | B32: Aileu | C32: Liquidoe | D32: Bereleu | E32: LEBUTU | F32: KONSTRUSAUN | G32: KONSTRUSAUN BEE MOS SISTEMA BOMBA | H32: KM | I32: 24076 | J32: 0 | K32: =J32 -> 0 | L32: =I32-J32 -> 24076 | M32: =J32/I32 -> 0 | O32: Osan tama iha 02/07/2025
A33: 21 | B33: Aileu | C33: Liquidoe | D33: Betulau | E33: NAUMATA | F33: REHABILITASAUN | G33: ESTRADA BETAUN | H33: M2 | I33: 24076 | J33: 48.15 | K33: =J33 -> 48.15 | L33: =I33-J33 -> 24027.85 | M33: =J33/I33 -> 0.0019999169 | O33: Osan tama iha 02/07/2025
A34: 22 | B34: Aileu | C34: Liquidoe | D34: Fahisoi | E34: LOCOTOI | F34: KONSTRUSAUN | G34: ESTRADA RURAIS - ESTRADA BETAUN | H34: KM | I34: 21430 | J34: 42.86 | K34: =J34 -> 42.86 | L34: =I34-J34 -> 21387.14 | M34: =J34/I34 -> 0.002 | O34: Osan tama iha 02/07/2025
A35: 23 | B35: Aileu | C35: Liquidoe | D35: FATURILAU | E35: LEBUMERAN | F35: KONSTRUSAUN | G35: ESTRADA RURAIS - ESTRADA BETAUN | H35: KM | I35: 24076 | J35: 48.15 | K35: =J35 -> 48.15 | L35: =I35-J35 -> 24027.85 | M35: =J35/I35 -> 0.0019999169 | O35: Osan tama iha 02/07/2025
A36: 24 | B36: Aileu | C36: Liquidoe | D36: Manucassa | E36: FATUKMRIN | F36: KONSTRUSAUN | G36: KONTRUSAUN RESIDENSIA PESSOAL SAUDE | H36: M2 | I36: 21430 | J36: 42.86 | K36: =J36 -> 42.86 | L36: =I36-J36 -> 21387.14 | M36: =J36/I36 -> 0.002 | O36: Osan tama iha 02/07/2025
A37: 25 | B37: Aileu | C37: Liquidoe | D37: Namolesso | E37: AITOIN | F37: KONSTRUSAUN | G37: ESTRADA RURAIS - ESTRADA RAI | H37: KM | I37: 21430 | J37: 42.86 | K37: =J37 -> 42.86 | L37: =I37-J37 -> 21387.14 | M37: =J37/I37 -> 0.002 | O37: Osan tama iha 02/07/2025
A38: Total | I38: =SUM(I31:I37) -> 157948 | J38: =SUM(J31:J37) -> 267.74 | K38: =SUM(K31:K37) -> 267.74 | L38: =SUM(L31:L37) -> 157680.26 | M38: =SUM(M31:M37) -> 0.011999834
A39: 26 | B39: Aileu | C39: Remexio | D39: Acumau | E39: FATUMANARUK | F39: REHABILITASAUN | G39: REHABILITASAUN BA ESTRADA | H39: M | I39: 26869 | J39: 53.74 | K39: =J39 -> 53.74 | L39: =I39-J39 -> 26815.26 | M39: =J39/I39 -> 0.0020000744 | O39: Osan tama iha 02/07/2025
A40: 27 | B40: Aileu | C40: Remexio | D40: Fadabloco | E40: RAIFATU | F40: KONSTRUSAUN | G40: KONSTRUSAUN BEE MOS SISTEMA BOMBA | H40: M2 | I40: 26869 | J40: 53.74 | K40: =J40 -> 53.74 | L40: =I40-J40 -> 26815.26 | M40: =J40/I40 -> 0.0020000744 | O40: Osan tama iha 02/07/2025
A41: 28 | B41: Aileu | C41: Remexio | D41: Fahisoi | E41: DIRUHATI | F41: KONSTRUSAUN | G41: ESTRADA BETAUN | H41: M | I41: 20899 | J41: 48.15 | K41: =J41 -> 48.15 | L41: =I41-J41 -> 20850.85 | M41: =J41/I41 -> 0.002303938 | O41: Osan tama iha 02/07/2025
G42: ESTRADA RAI | I42: 3177
A43: 29 | B43: Aileu | C43: Remexio | D43: Faturasa | E43: FACULAUN | F43: REHABILITASAUN | G43: REHABILITASAUN BEE MOS GRAVITASAUN | H43: KM | I43: 24076 | J43: 48.15 | K43: =J43 -> 48.15 | L43: =I43-J43 -> 24027.85 | M43: =J43/I43 -> 0.0019999169 | O43: Osan tama iha 02/07/2025
A44: 30 | B44: Aileu | C44: Remexio | D44: Hautoho | E44: AIBUTIHUN | F44: KONSTRUSAUN | G44: ESTRADA BETAUN | H44: KM | I44: 24076 | J44: 48.15 | K44: =J44 -> 48.15 | L44: =I44-J44 -> 24027.85 | M44: =J44/I44 -> 0.0019999169 | O44: Osan tama iha 02/07/2025
A45: 31 | B45: Aileu | C45: Remexio | D45: Maumeta | E45: TUKEU | F45: KONSTRUSAUN | G45: ESTRADA BETAUN | H45: KM | I45: 24076 | J45: 48.15 | K45: =J45 -> 48.15 | L45: =I45-J45 -> 24027.85 | M45: =J45/I45 -> 0.0019999169 | O45: Osan tama iha 02/07/2025
A46: 32 | B46: Aileu | C46: Remexio | D46: Suco Liurai (Remexio) | E46: MANUTANE | F46: REHABILITASAUN | G46: REHABILITASAUN SALA ESCOLA | H46: M2 | I46: 26722 | J46: 53.44 | K46: =J46 -> 53.44 | L46: =I46-J46 -> 26668.56 | M46: =J46/I46 -> 0.0019998503 | O46: Osan tama iha 02/07/2025
A47: 33 | B47: Aileu | C47: Remexio | D47: Tulataqueo | E47: SAMALETE | F47: KONSTRUSAUN | G47: KONSTRUSAUN BEE MOS SISTEMA BOMBA | H47: M2 | I47: 29515 | J47: 59.03 | K47: =J47 -> 59.03 | L47: =I47-J47 -> 29455.97 | M47: =J47/I47 -> 0.002 | O47: Osan tama iha 02/07/2025
A48: Total | I48: =SUM(I39:I47) -> 206279 | J48: =SUM(J39:J47) -> 412.55 | K48: =SUM(K39:K47) -> 412.55 | L48: =SUM(L39:L47) -> 202689.45 | M48: =SUM(M39:M47) -> 0.016303688
A49: Grand total | I49: =I48+I38+I30+I23 -> 811735 | J49: =J48+J38+J30+J23 -> 1575.23 | K49: =K48+K38+K30+K23 -> 1575.23 | L49: =L48+L38+L30+L23 -> 796128.87 | M49: =M48+M38+M30+M23 -> 0.066468645

Sheet EJEKUSAUN JULHO 2025
A6: Relatorio Alokasaun Kontra Ejekusaun Tranferensia Publicas 2025 (Inf)
A7: Nu | B7: Munisipiu | C7: Postu Administrativu | D7: Suku | E7: Aldeia | F7: Aktividades | G7: Naran Projeito | H7: Unidade | I7: Total Orsamentu | J7: Kustu Estimasaun tuir POI | L7: Realizasaun Gastus | N7: Kumulativu Gastus | Q7: Balansu | R7: Purcentangen% Progresu | T7: Observasaun
J8: Material | K8: Insentivus | L8: Material | M8: Insentivus | N8: Material | O8: Insentivus | P8: Total | R8: Financas | S8: Fisiku
A9: 1 | B9: Aileu | C9: Aileu VILLA | D9: Aissirimou | E9: BERKATI | F9: KONSTRUSAUN | G9: KONST.EST RAI+KONST.PASADEIRA+DEKER | H9: KM | I9: 24231 | J9: =I9-K9 -> 22836 | K9: 1395 | L9: 48.46 | N9: =L9 -> 48.46 | O9: =M9 -> 0 | P9: =N9+O9 -> 48.46 | Q9: =I9-P9 -> 24182.54 | R9: =P9/I9 -> 0.0019999175
A10: 2 | B10: Aileu | C10: Aileu VILLA | D10: Bandudato | E10: BANDUDATO | F10: KONSTRUSAUN | G10: MORU SATAN RAI & BRONJONG | H10: KM | I10: =21430+20 -> 21450 | J10: =I10-K10 -> 16910 | K10: 4540 | L10: 1342.86 | N10: =L10 -> 1342.86 | O10: =M10 -> 0 | P10: =N10+O10 -> 1342.86 | Q10: =I10-P10 -> 20107.14 | R10: =P10/I10 -> 0.062604196
A11: 3 | B11: Aileu | C11: Aileu VILLA | D11: Fahiria | E11: SIDOLE | F11: KONSTRUSAUN | G11: KONST.EST BETAUN+PASADEIRA | H11: KM | I11: 17223 | J11: =I11-K11 -> 12551.5 | K11: =2908.5+1763 -> 4671.5 | L11: 48.45 | N11: =L11 -> 48.45 | O11: =M11 -> 0 | P11: =N11+O11 -> 48.45 | Q11: =I11-P11 -> 17174.55 | R11: =P11/I11 -> 0.0028130988
E12: SARIN | F12: MANUTENSAUN | G12: REHAB.SEDE ALDEIA | H12: KM | I12: 7000 | J12: =I12-K12 -> 6500 | K12: 500 | L12: 0 | N12: =L12 -> 0 | O12: =M12 -> 0 | P12: =N12+O12 -> 0 | Q12: =I12-P12 -> 7000 | R12: =P12/I12 -> 0
A13: 4 | B13: Aileu | C13: Aileu VILLA | D13: Fatubossa | E13: CAICASA | F13: KONSTRUSAUN | G13: KONST.RESIDENCIA PROFESOR | H13: M2 | I13: 24076 | J13: =I13-K13 -> 20420.5 | K13: 3655.5 | L13: 48.15 | N13: =L13 -> 48.15 | O13: =M13 -> 0 | P13: =N13+O13 -> 48.15 | Q13: =I13-P13 -> 24027.85 | R13: =P13/I13 -> 0.0019999169
A14: 5 | B14: Aileu | C14: Aileu VILLA | D14: Hoholau | E14: MANUBATAN | F14: KONSTRUSAUN | G14: KONST. EST. BETAUN+DRAINAGEN+BRONJONG | H14: M | I14: 24076 | J14: =I14-K14 -> 20162 | K14: 3914 | L14: 48.15 | N14: =L14 -> 48.15 | O14: =M14 -> 0 | P14: =N14+O14 -> 48.15 | Q14: =I14-P14 -> 24027.85 | R14: =P14/I14 -> 0.0019999169
A15: 6 | B15: Aileu | C15: Aileu VILLA | D15: Lahae | E15: RIATELU | F15: REHABILITASAUN | G15: REHAB.SISTEMA IRIGASAUN+KONST BRONJONG | H15: KM | I15: 24076 | J15: =I15-K15 -> 18304 | K15: 5772 | L15: 48.15 | N15: =L15 -> 48.15 | O15: =M15 -> 0 | P15: =N15+O15 -> 48.15 | Q15: =I15-P15 -> 24027.85 | R15: =P15/I15 -> 0.0019999169
A16: 7 | B16: Aileu | C16: Aileu VILLA | D16: Lausi | E16: ERBUTI | F16: REHABILITASAUN | G16: KONST.RESIDENCIA PROFESOR | H16: KM | I16: 24076 | J16: =I16-K16 -> 19345 | K16: 4731 | L16: 48.15 | N16: =L16 -> 48.15 | O16: =M16 -> 0 | P16: =N16+O16 -> 48.15 | Q16: =I16-P16 -> 24027.85 | R16: =P16/I16 -> 0.0019999169
A17: 8 | B17: Aileu | C17: Aileu VILLA | D17: Lequitura | E17: RIHEU | F17: KONSTRUSAUN | G17: KONST.EST RAI+KONST DRAINAGEN | H17: KM | I17: 24076 | J17: =I17-K17 -> 22347 | K17: 1729 | L17: 16802.32 | N17: =L17 -> 16802.32 | O17: =M17 -> 0 | P17: =N17+O17 -> 16802.32 | Q17: =I17-P17 -> 7273.68 | R17: =P17/I17 -> 0.69788669
A18: 9 | B18: Aileu | C18: Aileu VILLA | D18: Saboria | E18: SABORIA | F18: KONSTRUSAUN | G18: KONST. EST. BETAUN+DRAINAGEN | H18: KM | I18: 24076 | J18: =I18-K18 -> 19003 | K18: 5073 | L18: 6488.14 | N18: =L18 -> 6488.14 | O18: =M18 -> 0 | P18: =N18+O18 -> 6488.14 | Q18: =I18-P18 -> 17587.86 | R18: =P18/I18 -> 0.26948579
A19: 10 | B19: Aileu | C19: Aileu VILLA | D19: Seloi Craic | E19: COLIHOHO | F19: RAHABILITASAUN | G19: REHAB.SITEMA BEE MOS GRAVITASAUN | H19: M | I19: 16015.1 | J19: =I19-K19 -> 13323.65 | K19: 2691.45 | L19: 53.74 | N19: =L19 -> 53.74 | O19: =M19 -> 0 | P19: =N19+O19 -> 53.74 | Q19: =I19-P19 -> 15961.36 | R19: =P19/I19 -> 0.0033555832
F20: KONSTRUSAUN | G20: KONST.SISTEMA BEE MOS GRAVITASAUN | I20: 10853.9 | J20: =I20-K20 -> 9026.41 | K20: 1827.49 | L20: 0 | N20: =L20 -> 0 | O20: =M20 -> 0 | P20: =N20+O20 -> 0 | Q20: =I20-P20 -> 10853.9 | R20: =P20/I20 -> 0
A21: 11 | B21: Aileu | C21: Aileu VILLA | D21: Seloi Malere | E21: COTABAURU | F21: REHABILITASAUN | G21: KONSTRUSAUN EST BETAUN | H21: KM | I21: 27016 | J21: =I21-K21 -> 22940 | K21: 4076 | L21: 54.03 | N21: =L21 -> 54.03 | O21: =M21 -> 0 | P21: =N21+O21 -> 54.03 | Q21: =I21-P21 -> 26961.97 | R21: =P21/I21 -> 0.001999926
A22: 12 | B22: Aileu | C22: Aileu VILLA | D22: Suco Liurai (Alieu Vila) | E22: FATULMAU | F22: KONSTRUSAUN | G22: BEE MOS SISTEMA GRAVITASAUN | H22: M2 | I22: 26869 | J22: =I22-K22 -> 22440.14 | K22: 4428.86 | L22: 7235.74 | N22: =L22 -> 7235.74 | O22: =M22 -> 0 | P22: =N22+O22 -> 7235.74 | Q22: =I22-P22 -> 19633.26 | R22: =P22/I22 -> 0.26929696
A23: Total | C23: Aileu VILLA | H23: 14 | I23: =SUM(I9:I22) -> 295114 | J23: =SUM(J9:J22) -> 246109.2 | K23: =SUM(K9:K22) -> 49004.8 | L23: =SUM(L9:L22) -> 32266.34 | M23: =SUM(M9:M22) -> 0 | N23: =SUM(N9:N22) -> 32266.34 | O23: =SUM(O9:O22) -> 0 | P23: =SUM(P9:P22) -> 32266.34 | Q23: =SUM(Q9:Q22) -> 262847.66 | R23: =P23/I23 -> 0.10933517
A24: 13 | B24: Aileu | C24: Laulara | D24: Bocolelo | E24: DONFONAMO | F24: KONSTRUSAUN | G24: ESTRADA RURAIS - ESTRADA RAI | H24: KM | I24: 26722 | J24: =I24-K24 -> 25487 | K24: 1235 | L24: 53.44 | N24: =L24 -> 53.44 | O24: =M24 -> 0 | P24: =N24+O24 -> 53.44 | Q24: =I24-P24 -> 26668.56 | R24: =P24/I24 -> 0.0019998503
A25: 14 | B25: Aileu | C25: Laulara | D25: Cotolau | E25: ORNAI | F25: EXTENSAUN | G25: DAPUR E SALA MERENDA ESKOLAR | H25: M2 | I25: 26722 | J25: =I25-K25 -> 22068 | K25: 4654 | L25: 53.44 | N25: =L25 -> 53.44 | O25: =M25 -> 0 | P25: =N25+O25 -> 53.44 | Q25: =I25-P25 -> 26668.56 | R25: =P25/I25 -> 0.0019998503
A26: 15 | B26: Aileu | C26: Laulara | D26: Fatisi | E26: MAUBOUC | F26: KONSTRUSAUN | G26: ESTRADA BETAUN | H26: KM | I26: 26722 | J26: =I26-K26 -> 22775 | K26: 3947 | L26: 53.44 | N26: =L26 -> 53.44 | O26: =M26 -> 0 | P26: =N26+O26 -> 53.44 | Q26: =I26-P26 -> 26668.56 | R26: =P26/I26 -> 0.0019998503
A27: 16 | B27: Aileu | C27: Laulara | D27: Madabeno | E27: MANE HALO | F27: KONSTRUSAUN | G27: REHAB.SEDE ALDEIA | H27: KM | I27: 24076 | J27: =I27-K27 -> 20911 | K27: 3165 | L27: 48.15 | N27: =L27 -> 48.15 | O27: =M27 -> 0 | P27: =N27+O27 -> 48.15 | Q27: =I27-P27 -> 24027.85 | R27: =P27/I27 -> 0.0019999169
A28: 17 | B28: Aileu | C28: Laulara | D28: Talitu | E28: CASMANATUTO | F28: KONSTRUSAUN | G28: ESTRADA BETAUN | H28: KM | I28: 24076 | J28: =I28-K28 -> 20253 | K28: 3823 | L28: 48.15 | N28: =L28 -> 48.15 | O28: =M28 -> 0 | P28: =N28+O28 -> 48.15 | Q28: =I28-P28 -> 24027.85 | R28: =P28/I28 -> 0.0019999169
A29: 18 | B29: Aileu | C29: Laulara | D29: Tohumeta | E29: TOHUMETA | F29: KONSTRUSAUN | G29: ESTRADA BETAUN | H29: KM | I29: 24076 | J29: =I29-K29 -> 20699 | K29: 3377 | L29: 48.15 | N29: =L29 -> 48.15 | O29: =M29 -> 0 | P29: =N29+O29 -> 48.15 | Q29: =I29-P29 -> 24027.85 | R29: =P29/I29 -> 0.0019999169
A30: Total | C30: Laulara | H30: 6 | I30: =SUM(I24:I29) -> 152394 | J30: =SUM(J24:J29) -> 132193 | K30: =SUM(K24:K29) -> 20201 | L30: =SUM(L24:L29) -> 304.77 | M30: =SUM(M24:M29) -> 0 | N30: =SUM(N24:N29) -> 304.77 | O30: =SUM(O24:O29) -> 0 | P30: =SUM(P24:P29) -> 304.77 | Q30: =SUM(Q24:Q29) -> 152089.23 | R30: =P30/I30 -> 0.0019998819
A31: 19 | B31: Aileu | C31: Liquidoe | D31: Acubilitoho | E31: BILOCO | F31: REHABILITASAUN | G31: ESTRADA RURAIS - ESTRADA BETAUN | H31: KM | I31: 21430 | J31: =I31-K31 -> 17569 | K31: 3861 | L31: 42.86 | N31: =L31 -> 42.86 | O31: =M31 -> 0 | P31: =N31+O31 -> 42.86 | Q31: =I31-P31 -> 21387.14 | R31: =P31/I31 -> 0.002
A32: 20 | B32: Aileu | C32: Liquidoe | D32: Bereleu | E32: LEBUTU | F32: KONSTRUSAUN | G32: KONSTRUSAUN BEE MOS SISTEMA BOMBA | H32: KM | I32: 24076 | J32: =I32-K32 -> 19529.04 | K32: 4546.96 | L32: 0 | N32: =L32 -> 0 | O32: =M32 -> 0 | P32: =N32+O32 -> 0 | Q32: =I32-P32 -> 24076 | R32: =P32/I32 -> 0
A33: 21 | B33: Aileu | C33: Liquidoe | D33: Betulau | E33: NAUMATA | F33: REHABILITASAUN | G33: ESTRADA BETAUN | H33: M2 | I33: 24076 | J33: =I33-K33 -> 19419 | K33: 4657 | L33: 48.15 | N33: =L33 -> 48.15 | O33: =M33 -> 0 | P33: =N33+O33 -> 48.15 | Q33: =I33-P33 -> 24027.85 | R33: =P33/I33 -> 0.0019999169
A34: 22 | B34: Aileu | C34: Liquidoe | D34: Fahisoi | E34: LOCOTOI | F34: KONSTRUSAUN | G34: ESTRADA RURAIS - ESTRADA BETAUN | H34: KM | I34: 21430 | J34: =I34-K34 -> 17641 | K34: 3789 | L34: 42.86 | N34: =L34 -> 42.86 | O34: =M34 -> 0 | P34: =N34+O34 -> 42.86 | Q34: =I34-P34 -> 21387.14 | R34: =P34/I34 -> 0.002
A35: 23 | B35: Aileu | C35: Liquidoe | D35: FATURILAU | E35: LEBUMERAN | F35: KONSTRUSAUN | G35: ESTRADA RURAIS - ESTRADA BETAUN | H35: KM | I35: 24076 | J35: =I35-K35 -> 19909 | K35: 4167 | L35: 48.15 | N35: =L35 -> 48.15 | O35: =M35 -> 0 | P35: =N35+O35 -> 48.15 | Q35: =I35-P35 -> 24027.85 | R35: =P35/I35 -> 0.0019999169
A36: 24 | B36: Aileu | C36: Liquidoe | D36: Manucassa | E36: FATUKMRIN | F36: KONSTRUSAUN | G36: KONTRUSAUN RESIDENSIA PESSOAL SAUDE | H36: M2 | I36: 21430 | J36: =I36-K36 -> 17564 | K36: 3866 | L36: 42.86 | N36: =L36 -> 42.86 | O36: =M36 -> 0 | P36: =N36+O36 -> 42.86 | Q36: =I36-P36 -> 21387.14 | R36: =P36/I36 -> 0.002
A37: 25 | B37: Aileu | C37: Liquidoe | D37: Namolesso | E37: AITOIN | F37: KONSTRUSAUN | G37: ESTRADA RURAIS - ESTRADA RAI | H37: KM | I37: 21430 | J37: =I37-K37 -> 19505 | K37: 1925 | L37: 42.86 | N37: =L37 -> 42.86 | O37: =M37 -> 0 | P37: =N37+O37 -> 42.86 | Q37: =I37-P37 -> 21387.14 | R37: =P37/I37 -> 0.002
A38: Total | C38: Liquidoe | H38: 7 | I38: =SUM(I31:I37) -> 157948 | J38: =SUM(J31:J37) -> 131136.04 | K38: =SUM(K31:K37) -> 26811.96 | L38: =SUM(L31:L37) -> 267.74 | M38: =SUM(M31:M37) -> 0 | N38: =SUM(N31:N37) -> 267.74 | O38: =SUM(O31:O37) -> 0 | P38: =SUM(P31:P37) -> 267.74 | Q38: =SUM(Q31:Q37) -> 157680.26 | R38: =P38/I38 -> 0.0016951148
A39: 26 | B39: Aileu | C39: Remexio | D39: Acumau | E39: FATUMANARUK | F39: REHABILITASAUN | G39: REHABILITASAUN BA ESTRADA | H39: M | I39: 26869 | J39: =I39-K39 -> 22553 | K39: 4316 | L39: 53.74 | N39: =L39 -> 53.74 | O39: =M39 -> 0 | P39: =N39+O39 -> 53.74 | Q39: =I39-P39 -> 26815.26 | R39: =P39/I39 -> 0.0020000744
A40: 27 | B40: Aileu | C40: Remexio | D40: Fadabloco | E40: RAIFATU | F40: KONSTRUSAUN | G40: KONSTRUSAUN BEE MOS SISTEMA BOMBA | H40: M2 | I40: 26869 | J40: =I40-K40 -> 23077 | K40: 3792 | L40: 53.74 | N40: =L40 -> 53.74 | O40: =M40 -> 0 | P40: =N40+O40 -> 53.74 | Q40: =I40-P40 -> 26815.26 | R40: =P40/I40 -> 0.0020000744
A41: 28 | B41: Aileu | C41: Remexio | D41: Fahisoi | E41: DIRUHATI | F41: KONSTRUSAUN | G41: ESTRADA BETAUN | H41: M | I41: 20899 | J41: =I41-K41 -> 17243.5 | K41: 3655.5 | L41: 48.15 | N41: =L41 -> 48.15 | O41: =M41 -> 0 | P41: =N41+O41 -> 48.15 | Q41: =I41-P41 -> 20850.85 | R41: =P41/I41 -> 0.002303938
G42: ESTRADA RAI | I42: 3177 | J42: =I42-K42 -> 3177 | N42: =L42 -> 0 | O42: =M42 -> 0 | P42: =N42+O42 -> 0 | Q42: =I42-P42 -> 3177 | R42: =P42/I42 -> 0
A43: 29 | B43: Aileu | C43: Remexio | D43: Faturasa | E43: FACULAUN | F43: REHABILITASAUN | G43: REHABILITASAUN BEE MOS GRAVITASAUN | H43: KM | I43: 24076 | J43: =I43-K43 -> 19677.3 | K43: 4398.7 | L43: 48.15 | N43: =L43 -> 48.15 | O43: =M43 -> 0 | P43: =N43+O43 -> 48.15 | Q43: =I43-P43 -> 24027.85 | R43: =P43/I43 -> 0.0019999169
A44: 30 | B44: Aileu | C44: Remexio | D44: Hautoho | E44: AIBUTIHUN | F44: KONSTRUSAUN | G44: ESTRADA BETAUN | H44: KM | I44: 24076 | J44: =I44-K44 -> 20130 | K44: 3946 | L44: 48.15 | N44: =L44 -> 48.15 | O44: =M44 -> 0 | P44: =N44+O44 -> 48.15 | Q44: =I44-P44 -> 24027.85 | R44: =P44/I44 -> 0.0019999169
A45: 31 | B45: Aileu | C45: Remexio | D45: Maumeta | E45: TUKEU | F45: KONSTRUSAUN | G45: ESTRADA BETAUN | H45: KM | I45: 24076 | J45: =I45-K45 -> 20815 | K45: 3261 | L45: 48.15 | N45: =L45 -> 48.15 | O45: =M45 -> 0 | P45: =N45+O45 -> 48.15 | Q45: =I45-P45 -> 24027.85 | R45: =P45/I45 -> 0.0019999169
A46: 32 | B46: Aileu | C46: Remexio | D46: Suco Liurai (Remexio) | E46: MANUTANE | F46: REHABILITASAUN | G46: REHABILITASAUN SALA ESCOLA | H46: M2 | I46: 26722 | J46: =I46-K46 -> 22323.3 | K46: 4398.7 | L46: 53.44 | N46: =L46 -> 53.44 | O46: =M46 -> 0 | P46: =N46+O46 -> 53.44 | Q46: =I46-P46 -> 26668.56 | R46: =P46/I46 -> 0.0019998503
A47: 33 | B47: Aileu | C47: Remexio | D47: Tulataqueo | E47: SAMALETE | F47: KONSTRUSAUN | G47: KONSTRUSAUN BEE MOS SISTEMA BOMBA | H47: M2 | I47: 29515 | J47: =I47-K47 -> 27322.79 | K47: 2192.21 | L47: 59.03 | N47: =L47 -> 59.03 | O47: =M47 -> 0 | P47: =N47+O47 -> 59.03 | Q47: =I47-P47 -> 29455.97 | R47: =P47/I47 -> 0.002
A48: Total | C48: Remexio | H48: 9 | I48: =SUM(I39:I47) -> 206279 | J48: =SUM(J39:J47) -> 176318.89 | K48: =SUM(K39:K47) -> 29960.11 | L48: =SUM(L39:L47) -> 412.55 | M48: =SUM(M39:M47) -> 0 | N48: =SUM(N39:N47) -> 412.55 | O48: =SUM(O39:O47) -> 0 | P48: =SUM(P39:P47) -> 412.55 | Q48: =SUM(Q39:Q47) -> 205866.45 | R48: =P48/I48 -> 0.0019999612
A49: Grand total | H49: =H48+H38+H30+H23 -> 36 | I49: =I48+I38+I30+I23 -> 811735 | J49: =J48+J38+J30+J23 -> 685757.13 | K49: =K48+K38+K30+K23 -> 125977.87 | L49: =L48+L38+L30+L23 -> 33251.4 | M49: =M48+M38+M30+M23 -> 0 | N49: =N48+N38+N30+N23 -> 33251.4 | O49: =O48+O38+O30+O23 -> 0 | ... Q49: =Q48+Q38+Q30+Q23 -> 778483.6 | R49: =P49/I49 -> 0.040963369
U51: Linha Setorais | V51: Nu Projeito
U52: Obras Publikas | V52: 21
U53: Agricultura | V53: 1
U54: Bee no Saneamentu | V54: 7
U55: Saude | V55: 1
U56: Edukasaun | V56: 4
U57: Seluk | V57: 2
U58: Total | V58: =SUBTOTAL(9,V52:V57) -> 36

Sheet EJEKUSAUN AUGUSTU 2025 
A6: Relatorio Alokasaun Kontra Ejekusaun Tranferensia Publicas 2025 (Inf)
A7: Nu | B7: Munisipiu | C7: Postu Administrativu | D7: Suku | E7: Aldeia | F7: Aktividades | G7: Naran Projeito | H7: Unidade | I7: Total Orsamentu | J7: Kustu Estimasaun tuir POI | L7: Realizasaun Gastus | N7: Kumulativu Gastus | Q7: Balansu | R7: Purcentangen% Progresu | T7: Observasaun
J8: Material | K8: Insentivus | L8: Material | M8: Insentivus | N8: Material | O8: Insentivus | P8: Total | R8: Financas | S8: Fisiku | T8: Diff
A9: 1 | B9: Aileu | C9: Aileu VILLA | D9: Aissirimou | E9: BERKATI | F9: KONSTRUSAUN | G9: KONST.EST RAI+KONST.PASADEIRA+DEKER | H9: KM | I9: 24231 | J9: =I9-K9 -> 22836 | K9: 1395 | L9: 14993.4 | N9: ='EJEKUSAUN JULHO 2025'!N9+'EJEKUSAUN AUGUSTU 2025 '!L9 -> 15041.86 | O9: ='EJEKUSAUN JULHO 2025'!O9+'EJEKUSAUN AUGUSTU 2025 '!M9 -> 0 | P9: =N9+O9 -> 15041.86 | Q9: =I9-P9 -> 9189.14 | R9: =P9/I9 -> 0.62076926
A10: 2 | B10: Aileu | C10: Aileu VILLA | D10: Bandudato | E10: BANDUDATO | F10: KONSTRUSAUN | G10: MORU SATAN RAI & BRONJONG | H10: KM | I10: =21430+20 -> 21450 | J10: =I10-K10 -> 21450 | L10: =1125+1525+2147.75 -> 4797.75 | N10: ='EJEKUSAUN JULHO 2025'!N10+'EJEKUSAUN AUGUSTU 2025 '!L10 -> 6140.61 | O10: ='EJEKUSAUN JULHO 2025'!O10+'EJEKUSAUN AUGUSTU 2025 '!M10 -> 0 | P10: =N10+O10 -> 6140.61 | Q10: =I10-P10 -> 15309.39 | R10: =P10/I10 -> 0.28627552 | T10: =15310.3-Q10 -> 0.91
A11: 3 | B11: Aileu | C11: Aileu VILLA | D11: Fahiria | E11: SIDOLE | F11: KONSTRUSAUN | G11: KONST.EST BETAUN+PASADEIRA | H11: KM | I11: 17223 | J11: =I11-K11 -> 14314.5 | K11: 2908.5 | L11: =2480+2580.25-1250 -> 3810.25 | M11: 1250 | N11: ='EJEKUSAUN JULHO 2025'!N11+'EJEKUSAUN AUGUSTU 2025 '!L11 -> 3858.7 | O11: ='EJEKUSAUN JULHO 2025'!O11+'EJEKUSAUN AUGUSTU 2025 '!M11 -> 1250 | P11: =N11+O11 -> 5108.7 | Q11: =I11-P11 -> 12114.3 | R11: =P11/I11 -> 0.2966208
E12: SARIN | F12: MANUTENSAUN | G12: REHAB.SEDE ALDEIA | H12: KM | I12: 7000 | J12: =I12-K12 -> 6500 | K12: 500 | N12: ='EJEKUSAUN JULHO 2025'!N12+'EJEKUSAUN AUGUSTU 2025 '!L12 -> 0 | O12: ='EJEKUSAUN JULHO 2025'!O12+'EJEKUSAUN AUGUSTU 2025 '!M12 -> 0 | P12: =N12+O12 -> 0 | Q12: =I12-P12 -> 7000 | R12: =P12/I12 -> 0
A13: 4 | B13: Aileu | C13: Aileu VILLA | D13: Fatubossa | E13: CAICASA | F13: KONSTRUSAUN | G13: KONST.RESIDENCIA PROFESOR | H13: M2 | I13: 24076 | J13: =I13-K13 -> 24076 | N13: ='EJEKUSAUN JULHO 2025'!N13+'EJEKUSAUN AUGUSTU 2025 '!L13 -> 48.15 | O13: ='EJEKUSAUN JULHO 2025'!O13+'EJEKUSAUN AUGUSTU 2025 '!M13 -> 0 | P13: =N13+O13 -> 48.15 | Q13: =I13-P13 -> 24027.85 | R13: =P13/I13 -> 0.0019999169
A14: 5 | B14: Aileu | C14: Aileu VILLA | D14: Hoholau | E14: MANUBATAN | F14: KONSTRUSAUN | G14: KONST. EST. BETAUN+DRAINAGEN+BRONJONG | H14: M | I14: 24076 | J14: =I14-K14 -> 20162 | K14: 3914 | L14: =100+3922+4165 -> 8187 | N14: ='EJEKUSAUN JULHO 2025'!N14+'EJEKUSAUN AUGUSTU 2025 '!L14 -> 8235.15 | O14: ='EJEKUSAUN JULHO 2025'!O14+'EJEKUSAUN AUGUSTU 2025 '!M14 -> 0 | P14: =N14+O14 -> 8235.15 | Q14: =I14-P14 -> 15840.85 | R14: =P14/I14 -> 0.3420481
A15: 6 | B15: Aileu | C15: Aileu VILLA | D15: Lahae | E15: RIATELU | F15: REHABILITASAUN | G15: REHAB.SISTEMA IRIGASAUN+KONST BRONJONG | H15: KM | I15: 24076 | J15: =I15-K15 -> 18304 | K15: 5772 | L15: 4776 | N15: ='EJEKUSAUN JULHO 2025'!N15+'EJEKUSAUN AUGUSTU 2025 '!L15 -> 4824.15 | O15: ='EJEKUSAUN JULHO 2025'!O15+'EJEKUSAUN AUGUSTU 2025 '!M15 -> 0 | P15: =N15+O15 -> 4824.15 | Q15: =I15-P15 -> 19251.85 | R15: =P15/I15 -> 0.20037174
A16: 7 | B16: Aileu | C16: Aileu VILLA | D16: Lausi | E16: ERBUTI | F16: REHABILITASAUN | G16: KONST.RESIDENCIA PROFESOR | H16: KM | I16: 24076 | J16: =I16-K16 -> 19345 | K16: 4731 | L16: =620+2822.5 -> 3442.5 | N16: ='EJEKUSAUN JULHO 2025'!N16+'EJEKUSAUN AUGUSTU 2025 '!L16 -> 3490.65 | O16: ='EJEKUSAUN JULHO 2025'!O16+'EJEKUSAUN AUGUSTU 2025 '!M16 -> 0 | P16: =N16+O16 -> 3490.65 | Q16: =I16-P16 -> 20585.35 | R16: =P16/I16 -> 0.14498463
A17: 8 | B17: Aileu | C17: Aileu VILLA | D17: Lequitura | E17: RIHEU | F17: KONSTRUSAUN | G17: KONST.EST RAI+KONST DRAINAGEN | H17: KM | I17: 24076 | J17: =I17-K17 -> 24076 | N17: ='EJEKUSAUN JULHO 2025'!N17+'EJEKUSAUN AUGUSTU 2025 '!L17 -> 16802.32 | O17: ='EJEKUSAUN JULHO 2025'!O17+'EJEKUSAUN AUGUSTU 2025 '!M17 -> 0 | P17: =N17+O17 -> 16802.32 | Q17: =I17-P17 -> 7273.68 | R17: =P17/I17 -> 0.69788669
A18: 9 | B18: Aileu | C18: Aileu VILLA | D18: Saboria | E18: SABORIA | F18: KONSTRUSAUN | G18: KONST. EST. BETAUN+DRAINAGEN | H18: KM | I18: 24076 | J18: =I18-K18 -> 19003 | K18: 5073 | L18: =3310+925 -> 4235 | N18: ='EJEKUSAUN JULHO 2025'!N18+'EJEKUSAUN AUGUSTU 2025 '!L18 -> 10723.14 | O18: ='EJEKUSAUN JULHO 2025'!O18+'EJEKUSAUN AUGUSTU 2025 '!M18 -> 0 | P18: =N18+O18 -> 10723.14 | Q18: =I18-P18 -> 13352.86 | R18: =P18/I18 -> 0.44538711 | T18: 0.01
A19: 10 | B19: Aileu | C19: Aileu VILLA | D19: Seloi Craic | E19: COLIHOHO | F19: RAHABILITASAUN | G19: REHAB.SITEMA BEE MOS GRAVITASAUN | H19: M | I19: 16015.1 | J19: =I19-K19 -> 13323.65 | K19: 2691.45 | N19: ='EJEKUSAUN JULHO 2025'!N19+'EJEKUSAUN AUGUSTU 2025 '!L19 -> 53.74 | O19: ='EJEKUSAUN JULHO 2025'!O19+'EJEKUSAUN AUGUSTU 2025 '!M19 -> 0 | P19: =N19+O19 -> 53.74 | Q19: =I19-P19 -> 15961.36 | R19: =P19/I19 -> 0.0033555832
F20: KONSTRUSAUN | G20: KONST.SISTEMA BEE MOS GRAVITASAUN | I20: 10853.9 | J20: =I20-K20 -> 9026.41 | K20: 1827.49 | N20: ='EJEKUSAUN JULHO 2025'!N20+'EJEKUSAUN AUGUSTU 2025 '!L20 -> 0 | O20: ='EJEKUSAUN JULHO 2025'!O20+'EJEKUSAUN AUGUSTU 2025 '!M20 -> 0 | P20: =N20+O20 -> 0 | Q20: =I20-P20 -> 10853.9 | R20: =P20/I20 -> 0
A21: 11 | B21: Aileu | C21: Aileu VILLA | D21: Seloi Malere | E21: COTABAURU | F21: REHABILITASAUN | G21: KONSTRUSAUN EST BETAUN | H21: KM | I21: 27016 | J21: =I21-K21 -> 27016 | N21: ='EJEKUSAUN JULHO 2025'!N21+'EJEKUSAUN AUGUSTU 2025 '!L21 -> 54.03 | O21: ='EJEKUSAUN JULHO 2025'!O21+'EJEKUSAUN AUGUSTU 2025 '!M21 -> 0 | P21: =N21+O21 -> 54.03 | Q21: =I21-P21 -> 26961.97 | R21: =P21/I21 -> 0.001999926
A22: 12 | B22: Aileu | C22: Aileu VILLA | D22: Suco Liurai (Alieu Vila) | E22: FATULMAU | F22: KONSTRUSAUN | G22: BEE MOS SISTEMA GRAVITASAUN | H22: M2 | I22: 26869 | J22: =I22-K22 -> 22440.14 | K22: 4428.86 | N22: ='EJEKUSAUN JULHO 2025'!N22+'EJEKUSAUN AUGUSTU 2025 '!L22 -> 7235.74 | O22: ='EJEKUSAUN JULHO 2025'!O22+'EJEKUSAUN AUGUSTU 2025 '!M22 -> 0 | P22: =N22+O22 -> 7235.74 | Q22: =I22-P22 -> 19633.26 | R22: =P22/I22 -> 0.26929696
A23: Total | C23: Aileu VILLA | H23: 14 | I23: =SUM(I9:I22) -> 295114 | J23: =SUM(J9:J22) -> 261872.7 | K23: =SUM(K9:K22) -> 33241.3 | L23: =SUM(L9:L22) -> 44241.9 | M23: =SUM(M9:M22) -> 1250 | N23: =SUM(N9:N22) -> 76508.24 | O23: =SUM(O9:O22) -> 1250 | P23: =SUM(P9:P22) -> 77758.24 | Q23: =SUM(Q9:Q22) -> 217355.76 | R23: =P23/I23 -> 0.26348543
A24: 13 | B24: Aileu | C24: Laulara | D24: Bocolelo | E24: DONFONAMO | F24: KONSTRUSAUN | G24: ESTRADA RURAIS - ESTRADA RAI | H24: KM | I24: 26722 | J24: =I24-K24 -> 25487 | K24: 1235 | N24: ='EJEKUSAUN JULHO 2025'!N24+'EJEKUSAUN AUGUSTU 2025 '!L24 -> 53.44 | O24: ='EJEKUSAUN JULHO 2025'!O24+'EJEKUSAUN AUGUSTU 2025 '!M24 -> 0 | P24: =N24+O24 -> 53.44 | Q24: =I24-P24 -> 26668.56 | R24: =P24/I24 -> 0.0019998503
A25: 14 | B25: Aileu | C25: Laulara | D25: Cotolau | E25: ORNAI | F25: EXTENSAUN | G25: DAPUR E SALA MERENDA ESKOLAR | H25: M2 | I25: 26722 | J25: =I25-K25 -> 22068 | K25: 4654 | N25: ='EJEKUSAUN JULHO 2025'!N25+'EJEKUSAUN AUGUSTU 2025 '!L25 -> 53.44 | O25: ='EJEKUSAUN JULHO 2025'!O25+'EJEKUSAUN AUGUSTU 2025 '!M25 -> 0 | P25: =N25+O25 -> 53.44 | Q25: =I25-P25 -> 26668.56 | R25: =P25/I25 -> 0.0019998503
A26: 15 | B26: Aileu | C26: Laulara | D26: Fatisi | E26: MAUBOUC | F26: KONSTRUSAUN | G26: ESTRADA BETAUN | H26: KM | I26: 26722 | J26: =I26-K26 -> 22775 | K26: 3947 | L26: =1500+9155 -> 10655 | N26: ='EJEKUSAUN JULHO 2025'!N26+'EJEKUSAUN AUGUSTU 2025 '!L26 -> 10708.44 | O26: ='EJEKUSAUN JULHO 2025'!O26+'EJEKUSAUN AUGUSTU 2025 '!M26 -> 0 | P26: =N26+O26 -> 10708.44 | Q26: =I26-P26 -> 16013.56 | R26: =P26/I26 -> 0.40073497
A27: 16 | B27: Aileu | C27: Laulara | D27: Madabeno | E27: MANE HALO | F27: KONSTRUSAUN | G27: REHAB.SEDE ALDEIA | H27: KM | I27: 24076 | J27: =I27-K27 -> 20911 | K27: 3165 | N27: ='EJEKUSAUN JULHO 2025'!N27+'EJEKUSAUN AUGUSTU 2025 '!L27 -> 48.15 | O27: ='EJEKUSAUN JULHO 2025'!O27+'EJEKUSAUN AUGUSTU 2025 '!M27 -> 0 | P27: =N27+O27 -> 48.15 | Q27: =I27-P27 -> 24027.85 | R27: =P27/I27 -> 0.0019999169
A28: 17 | B28: Aileu | C28: Laulara | D28: Talitu | E28: CASMANATUTO | F28: KONSTRUSAUN | G28: ESTRADA BETAUN | H28: KM | I28: 24076 | J28: =I28-K28 -> 20253 | K28: 3823 | N28: ='EJEKUSAUN JULHO 2025'!N28+'EJEKUSAUN AUGUSTU 2025 '!L28 -> 48.15 | O28: ='EJEKUSAUN JULHO 2025'!O28+'EJEKUSAUN AUGUSTU 2025 '!M28 -> 0 | P28: =N28+O28 -> 48.15 | Q28: =I28-P28 -> 24027.85 | R28: =P28/I28 -> 0.0019999169
A29: 18 | B29: Aileu | C29: Laulara | D29: Tohumeta | E29: TOHUMETA | F29: KONSTRUSAUN | G29: ESTRADA BETAUN | H29: KM | I29: 24076 | J29: =I29-K29 -> 20699 | K29: 3377 | N29: ='EJEKUSAUN JULHO 2025'!N29+'EJEKUSAUN AUGUSTU 2025 '!L29 -> 48.15 | O29: ='EJEKUSAUN JULHO 2025'!O29+'EJEKUSAUN AUGUSTU 2025 '!M29 -> 0 | P29: =N29+O29 -> 48.15 | Q29: =I29-P29 -> 24027.85 | R29: =P29/I29 -> 0.0019999169
A30: Total | C30: Laulara | H30: 6 | I30: =SUM(I24:I29) -> 152394 | J30: =SUM(J24:J29) -> 132193 | K30: =SUM(K24:K29) -> 20201 | L30: =SUM(L24:L29) -> 10655 | M30: =SUM(M24:M29) -> 0 | N30: =SUM(N24:N29) -> 10959.77 | O30: =SUM(O24:O29) -> 0 | P30: =SUM(P24:P29) -> 10959.77 | Q30: =SUM(Q24:Q29) -> 141434.23 | R30: =P30/I30 -> 0.071917333
A31: 19 | B31: Aileu | C31: Liquidoe | D31: Acubilitoho | E31: BILOCO | F31: REHABILITASAUN | G31: ESTRADA RURAIS - ESTRADA BETAUN | H31: KM | I31: 21430 | J31: =I31-K31 -> 17569 | K31: 3861 | N31: ='EJEKUSAUN JULHO 2025'!N31+'EJEKUSAUN AUGUSTU 2025 '!L31 -> 42.86 | O31: ='EJEKUSAUN JULHO 2025'!O31+'EJEKUSAUN AUGUSTU 2025 '!M31 -> 0 | P31: =N31+O31 -> 42.86 | Q31: =I31-P31 -> 21387.14 | R31: =P31/I31 -> 0.002
A32: 20 | B32: Aileu | C32: Liquidoe | D32: Bereleu | E32: LEBUTU | F32: KONSTRUSAUN | G32: KONSTRUSAUN BEE MOS SISTEMA BOMBA | H32: KM | I32: 24076 | J32: =I32-K32 -> 19529.04 | K32: 4546.96 | N32: ='EJEKUSAUN JULHO 2025'!N32+'EJEKUSAUN AUGUSTU 2025 '!L32 -> 0 | O32: ='EJEKUSAUN JULHO 2025'!O32+'EJEKUSAUN AUGUSTU 2025 '!M32 -> 0 | P32: =N32+O32 -> 0 | Q32: =I32-P32 -> 24076 | R32: =P32/I32 -> 0
A33: 21 | B33: Aileu | C33: Liquidoe | D33: Betulau | E33: NAUMATA | F33: REHABILITASAUN | G33: ESTRADA BETAUN | H33: M2 | I33: 24076 | J33: =I33-K33 -> 19419 | K33: 4657 | N33: ='EJEKUSAUN JULHO 2025'!N33+'EJEKUSAUN AUGUSTU 2025 '!L33 -> 48.15 | O33: ='EJEKUSAUN JULHO 2025'!O33+'EJEKUSAUN AUGUSTU 2025 '!M33 -> 0 | P33: =N33+O33 -> 48.15 | Q33: =I33-P33 -> 24027.85 | R33: =P33/I33 -> 0.0019999169
A34: 22 | B34: Aileu | C34: Liquidoe | D34: Fahisoi | E34: LOCOTOI | F34: KONSTRUSAUN | G34: ESTRADA RURAIS - ESTRADA BETAUN | H34: KM | I34: 21430 | J34: =I34-K34 -> 17641 | K34: 3789 | N34: ='EJEKUSAUN JULHO 2025'!N34+'EJEKUSAUN AUGUSTU 2025 '!L34 -> 42.86 | O34: ='EJEKUSAUN JULHO 2025'!O34+'EJEKUSAUN AUGUSTU 2025 '!M34 -> 0 | P34: =N34+O34 -> 42.86 | Q34: =I34-P34 -> 21387.14 | R34: =P34/I34 -> 0.002
A35: 23 | B35: Aileu | C35: Liquidoe | D35: FATURILAU | E35: LEBUMERAN | F35: KONSTRUSAUN | G35: ESTRADA RURAIS - ESTRADA BETAUN | H35: KM | I35: 24076 | J35: =I35-K35 -> 19909 | K35: 4167 | N35: ='EJEKUSAUN JULHO 2025'!N35+'EJEKUSAUN AUGUSTU 2025 '!L35 -> 48.15 | O35: ='EJEKUSAUN JULHO 2025'!O35+'EJEKUSAUN AUGUSTU 2025 '!M35 -> 0 | P35: =N35+O35 -> 48.15 | Q35: =I35-P35 -> 24027.85 | R35: =P35/I35 -> 0.0019999169
A36: 24 | B36: Aileu | C36: Liquidoe | D36: Manucassa | E36: FATUKMRIN | F36: KONSTRUSAUN | G36: KONTRUSAUN RESIDENSIA PESSOAL SAUDE | H36: M2 | I36: 21430 | J36: =I36-K36 -> 17564 | K36: 3866 | N36: ='EJEKUSAUN JULHO 2025'!N36+'EJEKUSAUN AUGUSTU 2025 '!L36 -> 42.86 | O36: ='EJEKUSAUN JULHO 2025'!O36+'EJEKUSAUN AUGUSTU 2025 '!M36 -> 0 | P36: =N36+O36 -> 42.86 | Q36: =I36-P36 -> 21387.14 | R36: =P36/I36 -> 0.002
A37: 25 | B37: Aileu | C37: Liquidoe | D37: Namolesso | E37: AITOIN | F37: KONSTRUSAUN | G37: ESTRADA RURAIS - ESTRADA RAI | H37: KM | I37: 21430 | J37: =I37-K37 -> 19505 | K37: 1925 | N37: ='EJEKUSAUN JULHO 2025'!N37+'EJEKUSAUN AUGUSTU 2025 '!L37 -> 42.86 | O37: ='EJEKUSAUN JULHO 2025'!O37+'EJEKUSAUN AUGUSTU 2025 '!M37 -> 0 | P37: =N37+O37 -> 42.86 | Q37: =I37-P37 -> 21387.14 | R37: =P37/I37 -> 0.002
A38: Total | C38: Liquidoe | H38: 7 | I38: =SUM(I31:I37) -> 157948 | J38: =SUM(J31:J37) -> 131136.04 | K38: =SUM(K31:K37) -> 26811.96 | L38: =SUM(L31:L37) -> 0 | M38: =SUM(M31:M37) -> 0 | N38: =SUM(N31:N37) -> 267.74 | O38: =SUM(O31:O37) -> 0 | P38: =SUM(P31:P37) -> 267.74 | Q38: =SUM(Q31:Q37) -> 157680.26 | R38: =P38/I38 -> 0.0016951148
A39: 26 | B39: Aileu | C39: Remexio | D39: Acumau | E39: FATUMANARUK | F39: REHABILITASAUN | G39: REHABILITASAUN BA ESTRADA | H39: M | I39: 26869 | J39: =I39-K39 -> 22553 | K39: 4316 | N39: ='EJEKUSAUN JULHO 2025'!N39+'EJEKUSAUN AUGUSTU 2025 '!L39 -> 53.74 | O39: ='EJEKUSAUN JULHO 2025'!O39+'EJEKUSAUN AUGUSTU 2025 '!M39 -> 0 | P39: =N39+O39 -> 53.74 | Q39: =I39-P39 -> 26815.26 | R39: =P39/I39 -> 0.0020000744
A40: 27 | B40: Aileu | C40: Remexio | D40: Fadabloco | E40: RAIFATU | F40: KONSTRUSAUN | G40: KONSTRUSAUN BEE MOS SISTEMA BOMBA | H40: M2 | I40: 26869 | J40: =I40-K40 -> 23077 | K40: 3792 | N40: ='EJEKUSAUN JULHO 2025'!N40+'EJEKUSAUN AUGUSTU 2025 '!L40 -> 53.74 | O40: ='EJEKUSAUN JULHO 2025'!O40+'EJEKUSAUN AUGUSTU 2025 '!M40 -> 0 | P40: =N40+O40 -> 53.74 | Q40: =I40-P40 -> 26815.26 | R40: =P40/I40 -> 0.0020000744
A41: 28 | B41: Aileu | C41: Remexio | D41: Fahisoi | E41: DIRUHATI | F41: KONSTRUSAUN | G41: ESTRADA BETAUN | H41: M | I41: 20899 | J41: =I41-K41 -> 17243.5 | K41: 3655.5 | N41: ='EJEKUSAUN JULHO 2025'!N41+'EJEKUSAUN AUGUSTU 2025 '!L41 -> 48.15 | O41: ='EJEKUSAUN JULHO 2025'!O41+'EJEKUSAUN AUGUSTU 2025 '!M41 -> 0 | P41: =N41+O41 -> 48.15 | Q41: =I41-P41 -> 20850.85 | R41: =P41/I41 -> 0.002303938
G42: ESTRADA RAI | I42: 3177 | J42: =I42-K42 -> 3177 | N42: ='EJEKUSAUN JULHO 2025'!N42+'EJEKUSAUN AUGUSTU 2025 '!L42 -> 0 | O42: ='EJEKUSAUN JULHO 2025'!O42+'EJEKUSAUN AUGUSTU 2025 '!M42 -> 0 | P42: =N42+O42 -> 0 | Q42: =I42-P42 -> 3177 | R42: =P42/I42 -> 0
A43: 29 | B43: Aileu | C43: Remexio | D43: Faturasa | E43: FACULAUN | F43: REHABILITASAUN | G43: REHABILITASAUN BEE MOS GRAVITASAUN | H43: KM | I43: 24076 | J43: =I43-K43 -> 19677.3 | K43: 4398.7 | N43: ='EJEKUSAUN JULHO 2025'!N43+'EJEKUSAUN AUGUSTU 2025 '!L43 -> 48.15 | O43: ='EJEKUSAUN JULHO 2025'!O43+'EJEKUSAUN AUGUSTU 2025 '!M43 -> 0 | P43: =N43+O43 -> 48.15 | Q43: =I43-P43 -> 24027.85 | R43: =P43/I43 -> 0.0019999169
A44: 30 | B44: Aileu | C44: Remexio | D44: Hautoho | E44: AIBUTIHUN | F44: KONSTRUSAUN | G44: ESTRADA BETAUN | H44: KM | I44: 24076 | J44: =I44-K44 -> 20130 | K44: 3946 | N44: ='EJEKUSAUN JULHO 2025'!N44+'EJEKUSAUN AUGUSTU 2025 '!L44 -> 48.15 | O44: ='EJEKUSAUN JULHO 2025'!O44+'EJEKUSAUN AUGUSTU 2025 '!M44 -> 0 | P44: =N44+O44 -> 48.15 | Q44: =I44-P44 -> 24027.85 | R44: =P44/I44 -> 0.0019999169
A45: 31 | B45: Aileu | C45: Remexio | D45: Maumeta | E45: TUKEU | F45: KONSTRUSAUN | G45: ESTRADA BETAUN | H45: KM | I45: 24076 | J45: =I45-K45 -> 20815 | K45: 3261 | L45: 3372.5 | N45: ='EJEKUSAUN JULHO 2025'!N45+'EJEKUSAUN AUGUSTU 2025 '!L45 -> 3420.65 | O45: ='EJEKUSAUN JULHO 2025'!O45+'EJEKUSAUN AUGUSTU 2025 '!M45 -> 0 | P45: =N45+O45 -> 3420.65 | Q45: =I45-P45 -> 20655.35 | R45: =P45/I45 -> 0.14207717
A46: 32 | B46: Aileu | C46: Remexio | D46: Suco Liurai (Remexio) | E46: MANUTANE | F46: REHABILITASAUN | G46: REHABILITASAUN SALA ESCOLA | H46: M2 | I46: 26722 | J46: =I46-K46 -> 22323.3 | K46: 4398.7 | N46: ='EJEKUSAUN JULHO 2025'!N46+'EJEKUSAUN AUGUSTU 2025 '!L46 -> 53.44 | O46: ='EJEKUSAUN JULHO 2025'!O46+'EJEKUSAUN AUGUSTU 2025 '!M46 -> 0 | P46: =N46+O46 -> 53.44 | Q46: =I46-P46 -> 26668.56 | R46: =P46/I46 -> 0.0019998503
A47: 33 | B47: Aileu | C47: Remexio | D47: Tulataqueo | E47: SAMALETE | F47: KONSTRUSAUN | G47: KONSTRUSAUN BEE MOS SISTEMA BOMBA | H47: M2 | I47: 29515 | J47: =I47-K47 -> 27322.79 | K47: 2192.21 | N47: ='EJEKUSAUN JULHO 2025'!N47+'EJEKUSAUN AUGUSTU 2025 '!L47 -> 59.03 | O47: ='EJEKUSAUN JULHO 2025'!O47+'EJEKUSAUN AUGUSTU 2025 '!M47 -> 0 | P47: =N47+O47 -> 59.03 | Q47: =I47-P47 -> 29455.97 | R47: =P47/I47 -> 0.002
A48: Total | C48: Remexio | H48: 9 | I48: =SUM(I39:I47) -> 206279 | J48: =SUM(J39:J47) -> 176318.89 | K48: =SUM(K39:K47) -> 29960.11 | L48: =SUM(L39:L47) -> 3372.5 | M48: =SUM(M39:M47) -> 0 | N48: =SUM(N39:N47) -> 3785.05 | O48: =SUM(O39:O47) -> 0 | P48: =SUM(P39:P47) -> 3785.05 | Q48: =SUM(Q39:Q47) -> 202493.95 | R48: =P48/I48 -> 0.018349178
A49: Grand total | H49: =H48+H38+H30+H23 -> 36 | I49: =I48+I38+I30+I23 -> 811735 | J49: =J48+J38+J30+J23 -> 701520.63 | K49: =K48+K38+K30+K23 -> 110214.37 | L49: =L48+L38+L30+L23 -> 58269.4 | M49: =M48+M38+M30+M23 -> 1250 | N49: =N48+N38+N30+N23 -> 91520.8 | O49: =O48+O38+O30+O23 -> 1250 | ... Q49: =Q48+Q38+Q30+Q23 -> 718964.2 | R49: =P49/I49 -> 0.11428705
U51: Linha Setorais | V51: Nu Projeito
U52: Obras Publikas | V52: 21
U53: Agricultura | V53: 1
U54: Bee no Saneamentu | V54: 7
U55: Saude | V55: 1
U56: Edukasaun | V56: 4
U57: Seluk | V57: 2
U58: Total | V58: =SUBTOTAL(9,V52:V57) -> 36

Sheet EJEKUSAUN SEPT 2025  
A6: Relatorio Alokasaun Kontra Ejekusaun Tranferensia Publicas 2025 (Inf)
A7: Nu | B7: Munisipiu | C7: Postu Administrativu | D7: Suku | E7: Aldeia | F7: Aktividades | G7: Naran Projeito | H7: Unidade | I7: Total Orsamentu | J7: Kustu Estimasaun tuir POI | L7: Realizasaun Gastus | N7: Kumulativu Gastus | Q7: Balansu | R7: Purcentangen% Progresu | T7: Observasaun
J8: Material | K8: Insentivus | L8: Material | M8: Insentivus | N8: Material | O8: Insentivus | P8: Total | R8: Financas | S8: Fisiku | T8: Diff
A9: 1 | B9: Aileu | C9: Aileu VILLA | D9: Aissirimou | E9: BERKATI | F9: KONSTRUSAUN | G9: KONST.EST RAI+KONST.PASADEIRA+DEKER | H9: KM | I9: 24231 | J9: =I9-K9 -> 22836 | K9: 1395 | N9: ='EJEKUSAUN AUGUSTU 2025 '!N9+'EJEKUSAUN SEPT 2025 '!L9 -> 15041.86 | O9: ='EJEKUSAUN AUGUSTU 2025 '!O9+'EJEKUSAUN SEPT 2025 '!M9 -> 0 | P9: =N9+O9 -> 15041.86 | Q9: =I9-P9 -> 9189.14 | R9: =P9/I9 -> 0.62076926
A10: 2 | B10: Aileu | C10: Aileu VILLA | D10: Bandudato | E10: BANDUDATO | F10: KONSTRUSAUN | G10: MORU SATAN RAI & BRONJONG | H10: KM | I10: =21430+20 -> 21450 | J10: =I10-K10 -> 21450 | L10: 1503 | N10: ='EJEKUSAUN AUGUSTU 2025 '!N10+'EJEKUSAUN SEPT 2025 '!L10 -> 7643.61 | O10: ='EJEKUSAUN AUGUSTU 2025 '!O10+'EJEKUSAUN SEPT 2025 '!M10 -> 0 | P10: =N10+O10 -> 7643.61 | Q10: =I10-P10 -> 13806.39 | R10: =P10/I10 -> 0.35634545 | T10: =13807.3-Q10 -> 0.91
A11: 3 | B11: Aileu | C11: Aileu VILLA | D11: Fahiria | E11: SIDOLE | F11: KONSTRUSAUN | G11: KONST.EST BETAUN+PASADEIRA | H11: KM | I11: 17223 | J11: =I11-K11 -> 14314.5 | K11: 2908.5 | L11: =3295-250-M11 -> 1545 | M11: 1500 | N11: ='EJEKUSAUN AUGUSTU 2025 '!N11+'EJEKUSAUN SEPT 2025 '!L11 -> 5403.7 | O11: ='EJEKUSAUN AUGUSTU 2025 '!O11+'EJEKUSAUN SEPT 2025 '!M11 -> 2750 | P11: =N11+O11 -> 8153.7 | Q11: =I11-P11 -> 9069.3 | R11: =P11/I11 -> 0.47341926
E12: SARIN | F12: MANUTENSAUN | G12: REHAB.SEDE ALDEIA | H12: KM | I12: 7000 | J12: =I12-K12 -> 6500 | K12: 500 | L12: 999.25 | N12: ='EJEKUSAUN AUGUSTU 2025 '!N12+'EJEKUSAUN SEPT 2025 '!L12 -> 999.25 | O12: ='EJEKUSAUN AUGUSTU 2025 '!O12+'EJEKUSAUN SEPT 2025 '!M12 -> 0 | P12: =N12+O12 -> 999.25 | Q12: =I12-P12 -> 6000.75 | R12: =P12/I12 -> 0.14275
A13: 4 | B13: Aileu | C13: Aileu VILLA | D13: Fatubossa | E13: CAICASA | F13: KONSTRUSAUN | G13: KONST.RESIDENCIA PROFESOR | H13: M2 | I13: 24076 | J13: =I13-K13 -> 24076 | L13: 4637.5 | N13: ='EJEKUSAUN AUGUSTU 2025 '!N13+'EJEKUSAUN SEPT 2025 '!L13 -> 4685.65 | O13: ='EJEKUSAUN AUGUSTU 2025 '!O13+'EJEKUSAUN SEPT 2025 '!M13 -> 0 | P13: =N13+O13 -> 4685.65 | Q13: =I13-P13 -> 19390.35 | R13: =P13/I13 -> 0.19461912
A14: 5 | B14: Aileu | C14: Aileu VILLA | D14: Hoholau | E14: MANUBATAN | F14: KONSTRUSAUN | G14: KONST. EST. BETAUN+DRAINAGEN+BRONJONG | H14: M | I14: 24076 | J14: =I14-K14 -> 20162 | K14: 3914 | L14: 5701 | N14: ='EJEKUSAUN AUGUSTU 2025 '!N14+'EJEKUSAUN SEPT 2025 '!L14 -> 13936.15 | O14: ='EJEKUSAUN AUGUSTU 2025 '!O14+'EJEKUSAUN SEPT 2025 '!M14 -> 0 | P14: =N14+O14 -> 13936.15 | Q14: =I14-P14 -> 10139.85 | R14: =P14/I14 -> 0.57883992
A15: 6 | B15: Aileu | C15: Aileu VILLA | D15: Lahae | E15: RIATELU | F15: REHABILITASAUN | G15: REHAB.SISTEMA IRIGASAUN+KONST BRONJONG | H15: KM | I15: 24076 | J15: =I15-K15 -> 18304 | K15: 5772 | L15: 2075 | N15: ='EJEKUSAUN AUGUSTU 2025 '!N15+'EJEKUSAUN SEPT 2025 '!L15 -> 6899.15 | O15: ='EJEKUSAUN AUGUSTU 2025 '!O15+'EJEKUSAUN SEPT 2025 '!M15 -> 0 | P15: =N15+O15 -> 6899.15 | Q15: =I15-P15 -> 17176.85 | R15: =P15/I15 -> 0.28655715
A16: 7 | B16: Aileu | C16: Aileu VILLA | D16: Lausi | E16: ERBUTI | F16: REHABILITASAUN | G16: KONST.RESIDENCIA PROFESOR | H16: KM | I16: 24076 | J16: =I16-K16 -> 19345 | K16: 4731 | L16: 7133.7 | N16: ='EJEKUSAUN AUGUSTU 2025 '!N16+'EJEKUSAUN SEPT 2025 '!L16 -> 10624.35 | O16: ='EJEKUSAUN AUGUSTU 2025 '!O16+'EJEKUSAUN SEPT 2025 '!M16 -> 0 | P16: =N16+O16 -> 10624.35 | Q16: =I16-P16 -> 13451.65 | R16: =P16/I16 -> 0.44128385
A17: 8 | B17: Aileu | C17: Aileu VILLA | D17: Lequitura | E17: RIHEU | F17: KONSTRUSAUN | G17: KONST.EST RAI+KONST DRAINAGEN | H17: KM | I17: 24076 | J17: =I17-K17 -> 24076 | N17: ='EJEKUSAUN AUGUSTU 2025 '!N17+'EJEKUSAUN SEPT 2025 '!L17 -> 16802.32 | O17: ='EJEKUSAUN AUGUSTU 2025 '!O17+'EJEKUSAUN SEPT 2025 '!M17 -> 0 | P17: =N17+O17 -> 16802.32 | Q17: =I17-P17 -> 7273.68 | R17: =P17/I17 -> 0.69788669
A18: 9 | B18: Aileu | C18: Aileu VILLA | D18: Saboria | E18: SABORIA | F18: KONSTRUSAUN | G18: KONST. EST. BETAUN+DRAINAGEN | H18: KM | I18: 24076 | J18: =I18-K18 -> 19003 | K18: 5073 | L18: =450+775 -> 1225 | N18: ='EJEKUSAUN AUGUSTU 2025 '!N18+'EJEKUSAUN SEPT 2025 '!L18 -> 11948.14 | O18: ='EJEKUSAUN AUGUSTU 2025 '!O18+'EJEKUSAUN SEPT 2025 '!M18 -> 0 | P18: =N18+O18 -> 11948.14 | Q18: =I18-P18 -> 12127.86 | R18: =P18/I18 -> 0.49626765 | S18: =12127.86-Q18 -> 0 | T18: 0.01
A19: 10 | B19: Aileu | C19: Aileu VILLA | D19: Seloi Craic | E19: COLIHOHO | F19: RAHABILITASAUN | G19: REHAB.SITEMA BEE MOS GRAVITASAUN | H19: M | I19: 16015.1 | J19: =I19-K19 -> 13323.65 | K19: 2691.45 | L19: 3201 | N19: ='EJEKUSAUN AUGUSTU 2025 '!N19+'EJEKUSAUN SEPT 2025 '!L19 -> 3254.74 | O19: ='EJEKUSAUN AUGUSTU 2025 '!O19+'EJEKUSAUN SEPT 2025 '!M19 -> 0 | P19: =N19+O19 -> 3254.74 | Q19: =I19-P19 -> 12760.36 | R19: =P19/I19 -> 0.20322945
F20: KONSTRUSAUN | G20: KONST.SISTEMA BEE MOS GRAVITASAUN | I20: 10853.9 | J20: =I20-K20 -> 9026.41 | K20: 1827.49 | L20: 3150 | N20: ='EJEKUSAUN AUGUSTU 2025 '!N20+'EJEKUSAUN SEPT 2025 '!L20 -> 3150 | O20: ='EJEKUSAUN AUGUSTU 2025 '!O20+'EJEKUSAUN SEPT 2025 '!M20 -> 0 | P20: =N20+O20 -> 3150 | Q20: =I20-P20 -> 7703.9 | R20: =P20/I20 -> 0.29021826
A21: 11 | B21: Aileu | C21: Aileu VILLA | D21: Seloi Malere | E21: COTABAURU | F21: REHABILITASAUN | G21: KONSTRUSAUN EST BETAUN | H21: KM | I21: 27016 | J21: =I21-K21 -> 27016 | L21: 11709.1 | N21: ='EJEKUSAUN AUGUSTU 2025 '!N21+'EJEKUSAUN SEPT 2025 '!L21 -> 11763.13 | O21: ='EJEKUSAUN AUGUSTU 2025 '!O21+'EJEKUSAUN SEPT 2025 '!M21 -> 0 | P21: =N21+O21 -> 11763.13 | Q21: =I21-P21 -> 15252.87 | R21: =P21/I21 -> 0.43541346
A22: 12 | B22: Aileu | C22: Aileu VILLA | D22: Suco Liurai (Alieu Vila) | E22: FATULMAU | F22: KONSTRUSAUN | G22: BEE MOS SISTEMA GRAVITASAUN | H22: M2 | I22: 26869 | J22: =I22-K22 -> 22440.14 | K22: 4428.86 | N22: ='EJEKUSAUN AUGUSTU 2025 '!N22+'EJEKUSAUN SEPT 2025 '!L22 -> 7235.74 | O22: ='EJEKUSAUN AUGUSTU 2025 '!O22+'EJEKUSAUN SEPT 2025 '!M22 -> 0 | P22: =N22+O22 -> 7235.74 | Q22: =I22-P22 -> 19633.26 | R22: =P22/I22 -> 0.26929696 | T22: =19632.26-Q22 -> -1
A23: Total | C23: Aileu VILLA | H23: 14 | I23: =SUM(I9:I22) -> 295114 | J23: =SUM(J9:J22) -> 261872.7 | K23: =SUM(K9:K22) -> 33241.3 | L23: =SUM(L9:L22) -> 42879.55 | M23: =SUM(M9:M22) -> 1500 | N23: =SUM(N9:N22) -> 119387.79 | O23: =SUM(O9:O22) -> 2750 | P23: =SUM(P9:P22) -> 122137.79 | Q23: =SUM(Q9:Q22) -> 172976.21 | R23: =P23/I23 -> 0.41386647
A24: 13 | B24: Aileu | C24: Laulara | D24: Bocolelo | E24: DONFONAMO | F24: KONSTRUSAUN | G24: ESTRADA RURAIS - ESTRADA RAI | H24: KM | I24: 26722 | J24: =I24-K24 -> 25487 | K24: 1235 | N24: ='EJEKUSAUN AUGUSTU 2025 '!N24+'EJEKUSAUN SEPT 2025 '!L24 -> 53.44 | O24: ='EJEKUSAUN AUGUSTU 2025 '!O24+'EJEKUSAUN SEPT 2025 '!M24 -> 0 | P24: =N24+O24 -> 53.44 | Q24: =I24-P24 -> 26668.56 | R24: =P24/I24 -> 0.0019998503
A25: 14 | B25: Aileu | C25: Laulara | D25: Cotolau | E25: ORNAI | F25: EXTENSAUN | G25: DAPUR E SALA MERENDA ESKOLAR | H25: M2 | I25: 26722 | J25: =I25-K25 -> 22068 | K25: 4654 | N25: ='EJEKUSAUN AUGUSTU 2025 '!N25+'EJEKUSAUN SEPT 2025 '!L25 -> 53.44 | O25: ='EJEKUSAUN AUGUSTU 2025 '!O25+'EJEKUSAUN SEPT 2025 '!M25 -> 0 | P25: =N25+O25 -> 53.44 | Q25: =I25-P25 -> 26668.56 | R25: =P25/I25 -> 0.0019998503
A26: 15 | B26: Aileu | C26: Laulara | D26: Fatisi | E26: MAUBOUC | F26: KONSTRUSAUN | G26: ESTRADA BETAUN | H26: KM | I26: 26722 | J26: =I26-K26 -> 22775 | K26: 3947 | L26: =5475-M26 -> 3975 | M26: 1500 | N26: ='EJEKUSAUN AUGUSTU 2025 '!N26+'EJEKUSAUN SEPT 2025 '!L26 -> 14683.44 | O26: ='EJEKUSAUN AUGUSTU 2025 '!O26+'EJEKUSAUN SEPT 2025 '!M26 -> 1500 | P26: =N26+O26 -> 16183.44 | Q26: =I26-P26 -> 10538.56 | R26: =P26/I26 -> 0.60562233 | X26: =16130-N26 -> 1446.56
A27: 16 | B27: Aileu | C27: Laulara | D27: Madabeno | E27: MANE HALO | F27: KONSTRUSAUN | G27: REHAB.SEDE ALDEIA | H27: KM | I27: 24076 | J27: =I27-K27 -> 20911 | K27: 3165 | N27: ='EJEKUSAUN AUGUSTU 2025 '!N27+'EJEKUSAUN SEPT 2025 '!L27 -> 48.15 | O27: ='EJEKUSAUN AUGUSTU 2025 '!O27+'EJEKUSAUN SEPT 2025 '!M27 -> 0 | P27: =N27+O27 -> 48.15 | Q27: =I27-P27 -> 24027.85 | R27: =P27/I27 -> 0.0019999169
A28: 17 | B28: Aileu | C28: Laulara | D28: Talitu | E28: CASMANATUTO | F28: KONSTRUSAUN | G28: ESTRADA BETAUN | H28: KM | I28: 24076 | J28: =I28-K28 -> 20253 | K28: 3823 | L28: 3020 | N28: ='EJEKUSAUN AUGUSTU 2025 '!N28+'EJEKUSAUN SEPT 2025 '!L28 -> 3068.15 | O28: ='EJEKUSAUN AUGUSTU 2025 '!O28+'EJEKUSAUN SEPT 2025 '!M28 -> 0 | P28: =N28+O28 -> 3068.15 | Q28: =I28-P28 -> 21007.85 | R28: =P28/I28 -> 0.12743604
A29: 18 | B29: Aileu | C29: Laulara | D29: Tohumeta | E29: TOHUMETA | F29: KONSTRUSAUN | G29: ESTRADA BETAUN | H29: KM | I29: 24076 | J29: =I29-K29 -> 20699 | K29: 3377 | L29: =14850.75-M29 -> 11773.75 | M29: 3077 | N29: ='EJEKUSAUN AUGUSTU 2025 '!N29+'EJEKUSAUN SEPT 2025 '!L29 -> 11821.9 | O29: ='EJEKUSAUN AUGUSTU 2025 '!O29+'EJEKUSAUN SEPT 2025 '!M29 -> 3077 | P29: =N29+O29 -> 14898.9 | Q29: =I29-P29 -> 9177.1 | R29: =P29/I29 -> 0.61882788
A30: Total | C30: Laulara | H30: 6 | I30: =SUM(I24:I29) -> 152394 | J30: =SUM(J24:J29) -> 132193 | K30: =SUM(K24:K29) -> 20201 | L30: =SUM(L24:L29) -> 18768.75 | M30: =SUM(M24:M29) -> 4577 | N30: =SUM(N24:N29) -> 29728.52 | O30: =SUM(O24:O29) -> 4577 | P30: =SUM(P24:P29) -> 34305.52 | Q30: =SUM(Q24:Q29) -> 118088.48 | R30: =P30/I30 -> 0.2251107
A31: 19 | B31: Aileu | C31: Liquidoe | D31: Acubilitoho | E31: BILOCO | F31: REHABILITASAUN | G31: ESTRADA RURAIS - ESTRADA BETAUN | H31: KM | I31: 21430 | J31: =I31-K31 -> 17569 | K31: 3861 | L31: 100 | N31: ='EJEKUSAUN AUGUSTU 2025 '!N31+'EJEKUSAUN SEPT 2025 '!L31 -> 142.86 | O31: ='EJEKUSAUN AUGUSTU 2025 '!O31+'EJEKUSAUN SEPT 2025 '!M31 -> 0 | P31: =N31+O31 -> 142.86 | Q31: =I31-P31 -> 21287.14 | R31: =P31/I31 -> 0.0066663556
A32: 20 | B32: Aileu | C32: Liquidoe | D32: Bereleu | E32: LEBUTU | F32: KONSTRUSAUN | G32: KONSTRUSAUN BEE MOS SISTEMA BOMBA | H32: KM | I32: 24076 | J32: =I32-K32 -> 19529.04 | K32: 4546.96 | N32: ='EJEKUSAUN AUGUSTU 2025 '!N32+'EJEKUSAUN SEPT 2025 '!L32 -> 0 | O32: ='EJEKUSAUN AUGUSTU 2025 '!O32+'EJEKUSAUN SEPT 2025 '!M32 -> 0 | P32: =N32+O32 -> 0 | Q32: =I32-P32 -> 24076 | R32: =P32/I32 -> 0
A33: 21 | B33: Aileu | C33: Liquidoe | D33: Betulau | E33: NAUMATA | F33: REHABILITASAUN | G33: ESTRADA BETAUN | H33: M2 | I33: 24076 | J33: =I33-K33 -> 19419 | K33: 4657 | L33: 6797 | N33: ='EJEKUSAUN AUGUSTU 2025 '!N33+'EJEKUSAUN SEPT 2025 '!L33 -> 6845.15 | O33: ='EJEKUSAUN AUGUSTU 2025 '!O33+'EJEKUSAUN SEPT 2025 '!M33 -> 0 | P33: =N33+O33 -> 6845.15 | Q33: =I33-P33 -> 17230.85 | R33: =P33/I33 -> 0.28431425
A34: 22 | B34: Aileu | C34: Liquidoe | D34: Fahisoi | E34: LOCOTOI | F34: KONSTRUSAUN | G34: ESTRADA RURAIS - ESTRADA BETAUN | H34: KM | I34: 21430 | J34: =I34-K34 -> 17641 | K34: 3789 | L34: 7448.5 | N34: ='EJEKUSAUN AUGUSTU 2025 '!N34+'EJEKUSAUN SEPT 2025 '!L34 -> 7491.36 | O34: ='EJEKUSAUN AUGUSTU 2025 '!O34+'EJEKUSAUN SEPT 2025 '!M34 -> 0 | P34: =N34+O34 -> 7491.36 | Q34: =I34-P34 -> 13938.64 | R34: =P34/I34 -> 0.3495735
A35: 23 | B35: Aileu | C35: Liquidoe | D35: FATURILAU | E35: LEBUMERAN | F35: KONSTRUSAUN | G35: ESTRADA RURAIS - ESTRADA BETAUN | H35: KM | I35: 24076 | J35: =I35-K35 -> 19909 | K35: 4167 | L35: 6568 | N35: ='EJEKUSAUN AUGUSTU 2025 '!N35+'EJEKUSAUN SEPT 2025 '!L35 -> 6616.15 | O35: ='EJEKUSAUN AUGUSTU 2025 '!O35+'EJEKUSAUN SEPT 2025 '!M35 -> 0 | P35: =N35+O35 -> 6616.15 | Q35: =I35-P35 -> 17459.85 | R35: =P35/I35 -> 0.27480271
A36: 24 | B36: Aileu | C36: Liquidoe | D36: Manucassa | E36: FATUKMRIN | F36: KONSTRUSAUN | G36: KONTRUSAUN RESIDENSIA PESSOAL SAUDE | H36: M2 | I36: 21430 | J36: =I36-K36 -> 17564 | K36: 3866 | L36: 100 | N36: ='EJEKUSAUN AUGUSTU 2025 '!N36+'EJEKUSAUN SEPT 2025 '!L36 -> 142.86 | O36: ='EJEKUSAUN AUGUSTU 2025 '!O36+'EJEKUSAUN SEPT 2025 '!M36 -> 0 | P36: =N36+O36 -> 142.86 | Q36: =I36-P36 -> 21287.14 | R36: =P36/I36 -> 0.0066663556
A37: 25 | B37: Aileu | C37: Liquidoe | D37: Namolesso | E37: AITOIN | F37: KONSTRUSAUN | G37: ESTRADA RURAIS - ESTRADA RAI | H37: KM | I37: 21430 | J37: =I37-K37 -> 19505 | K37: 1925 | L37: 7998.8 | N37: ='EJEKUSAUN AUGUSTU 2025 '!N37+'EJEKUSAUN SEPT 2025 '!L37 -> 8041.66 | O37: ='EJEKUSAUN AUGUSTU 2025 '!O37+'EJEKUSAUN SEPT 2025 '!M37 -> 0 | P37: =N37+O37 -> 8041.66 | Q37: =I37-P37 -> 13388.34 | R37: =P37/I37 -> 0.37525245
A38: Total | C38: Liquidoe | H38: 7 | I38: =SUM(I31:I37) -> 157948 | J38: =SUM(J31:J37) -> 131136.04 | K38: =SUM(K31:K37) -> 26811.96 | L38: =SUM(L31:L37) -> 29012.3 | M38: =SUM(M31:M37) -> 0 | N38: =SUM(N31:N37) -> 29280.04 | O38: =SUM(O31:O37) -> 0 | P38: =SUM(P31:P37) -> 29280.04 | Q38: =SUM(Q31:Q37) -> 128667.96 | R38: =P38/I38 -> 0.18537772
A39: 26 | B39: Aileu | C39: Remexio | D39: Acumau | E39: FATUMANARUK | F39: REHABILITASAUN | G39: REHABILITASAUN BA ESTRADA | H39: M | I39: 26869 | J39: =I39-K39 -> 22553 | K39: 4316 | N39: ='EJEKUSAUN AUGUSTU 2025 '!N39+'EJEKUSAUN SEPT 2025 '!L39 -> 53.74 | O39: ='EJEKUSAUN AUGUSTU 2025 '!O39+'EJEKUSAUN SEPT 2025 '!M39 -> 0 | P39: =N39+O39 -> 53.74 | Q39: =I39-P39 -> 26815.26 | R39: =P39/I39 -> 0.0020000744
A40: 27 | B40: Aileu | C40: Remexio | D40: Fadabloco | E40: RAIFATU | F40: KONSTRUSAUN | G40: KONSTRUSAUN BEE MOS SISTEMA BOMBA | H40: M2 | I40: 26869 | J40: =I40-K40 -> 23077 | K40: 3792 | N40: ='EJEKUSAUN AUGUSTU 2025 '!N40+'EJEKUSAUN SEPT 2025 '!L40 -> 53.74 | O40: ='EJEKUSAUN AUGUSTU 2025 '!O40+'EJEKUSAUN SEPT 2025 '!M40 -> 0 | P40: =N40+O40 -> 53.74 | Q40: =I40-P40 -> 26815.26 | R40: =P40/I40 -> 0.0020000744
A41: 28 | B41: Aileu | C41: Remexio | D41: Fahisoi | E41: DIRUHATI | F41: KONSTRUSAUN | G41: ESTRADA BETAUN | H41: M | I41: 20899 | J41: =I41-K41 -> 17243.5 | K41: 3655.5 | L41: 4862 | N41: ='EJEKUSAUN AUGUSTU 2025 '!N41+'EJEKUSAUN SEPT 2025 '!L41 -> 4910.15 | O41: ='EJEKUSAUN AUGUSTU 2025 '!O41+'EJEKUSAUN SEPT 2025 '!M41 -> 0 | P41: =N41+O41 -> 4910.15 | Q41: =I41-P41 -> 15988.85 | R41: =P41/I41 -> 0.23494665
G42: ESTRADA RAI | I42: 3177 | J42: =I42-K42 -> 3177 | L42: 2425.85 | N42: ='EJEKUSAUN AUGUSTU 2025 '!N42+'EJEKUSAUN SEPT 2025 '!L42 -> 2425.85 | O42: ='EJEKUSAUN AUGUSTU 2025 '!O42+'EJEKUSAUN SEPT 2025 '!M42 -> 0 | P42: =N42+O42 -> 2425.85 | Q42: =I42-P42 -> 751.15 | R42: =P42/I42 -> 0.76356626
A43: 29 | B43: Aileu | C43: Remexio | D43: Faturasa | E43: FACULAUN | F43: REHABILITASAUN | G43: REHABILITASAUN BEE MOS GRAVITASAUN | H43: KM | I43: 24076 | J43: =I43-K43 -> 19677.3 | K43: 4398.7 | L43: 8685.75 | N43: ='EJEKUSAUN AUGUSTU 2025 '!N43+'EJEKUSAUN SEPT 2025 '!L43 -> 8733.9 | O43: ='EJEKUSAUN AUGUSTU 2025 '!O43+'EJEKUSAUN SEPT 2025 '!M43 -> 0 | P43: =N43+O43 -> 8733.9 | Q43: =I43-P43 -> 15342.1 | R43: =P43/I43 -> 0.36276375
A44: 30 | B44: Aileu | C44: Remexio | D44: Hautoho | E44: AIBUTIHUN | F44: KONSTRUSAUN | G44: ESTRADA BETAUN | H44: KM | I44: 24076 | J44: =I44-K44 -> 20130 | K44: 3946 | N44: ='EJEKUSAUN AUGUSTU 2025 '!N44+'EJEKUSAUN SEPT 2025 '!L44 -> 48.15 | O44: ='EJEKUSAUN AUGUSTU 2025 '!O44+'EJEKUSAUN SEPT 2025 '!M44 -> 0 | P44: =N44+O44 -> 48.15 | Q44: =I44-P44 -> 24027.85 | R44: =P44/I44 -> 0.0019999169
A45: 31 | B45: Aileu | C45: Remexio | D45: Maumeta | E45: TUKEU | F45: KONSTRUSAUN | G45: ESTRADA BETAUN | H45: KM | I45: 24076 | J45: =I45-K45 -> 20815 | K45: 3261 | L45: 5695 | N45: ='EJEKUSAUN AUGUSTU 2025 '!N45+'EJEKUSAUN SEPT 2025 '!L45 -> 9115.65 | O45: ='EJEKUSAUN AUGUSTU 2025 '!O45+'EJEKUSAUN SEPT 2025 '!M45 -> 0 | P45: =N45+O45 -> 9115.65 | Q45: =I45-P45 -> 14960.35 | R45: =P45/I45 -> 0.37861979
A46: 32 | B46: Aileu | C46: Remexio | D46: Suco Liurai (Remexio) | E46: MANUTANE | F46: REHABILITASAUN | G46: REHABILITASAUN SALA ESCOLA | H46: M2 | I46: 26722 | J46: =I46-K46 -> 22323.3 | K46: 4398.7 | N46: ='EJEKUSAUN AUGUSTU 2025 '!N46+'EJEKUSAUN SEPT 2025 '!L46 -> 53.44 | O46: ='EJEKUSAUN AUGUSTU 2025 '!O46+'EJEKUSAUN SEPT 2025 '!M46 -> 0 | P46: =N46+O46 -> 53.44 | Q46: =I46-P46 -> 26668.56 | R46: =P46/I46 -> 0.0019998503
A47: 33 | B47: Aileu | C47: Remexio | D47: Tulataqueo | E47: SAMALETE | F47: KONSTRUSAUN | G47: KONSTRUSAUN BEE MOS SISTEMA BOMBA | H47: M2 | I47: 29515 | J47: =I47-K47 -> 27322.79 | K47: 2192.21 | L47: 10052.5 | N47: ='EJEKUSAUN AUGUSTU 2025 '!N47+'EJEKUSAUN SEPT 2025 '!L47 -> 10111.53 | O47: ='EJEKUSAUN AUGUSTU 2025 '!O47+'EJEKUSAUN SEPT 2025 '!M47 -> 0 | P47: =N47+O47 -> 10111.53 | Q47: =I47-P47 -> 19403.47 | R47: =P47/I47 -> 0.34258953
A48: Total | C48: Remexio | H48: 9 | I48: =SUM(I39:I47) -> 206279 | J48: =SUM(J39:J47) -> 176318.89 | K48: =SUM(K39:K47) -> 29960.11 | L48: =SUM(L39:L47) -> 31721.1 | M48: =SUM(M39:M47) -> 0 | N48: =SUM(N39:N47) -> 35506.15 | O48: =SUM(O39:O47) -> 0 | P48: =SUM(P39:P47) -> 35506.15 | Q48: =SUM(Q39:Q47) -> 170772.85 | R48: =P48/I48 -> 0.17212683
A49: Grand total | H49: =H48+H38+H30+H23 -> 36 | I49: =I48+I38+I30+I23 -> 811735 | J49: =J48+J38+J30+J23 -> 701520.63 | K49: =K48+K38+K30+K23 -> 110214.37 | L49: =L48+L38+L30+L23 -> 122381.7 | M49: =M48+M38+M30+M23 -> 6077 | N49: =N48+N38+N30+N23 -> 213902.5 | O49: =O48+O38+O30+O23 -> 7327 | ... Q49: =Q48+Q38+Q30+Q23 -> 590505.5 | R49: =P49/I49 -> 0.27253907
U51: Linha Setorais | V51: Nu Projeito
U52: Obras Publikas | V52: 21
U53: Agricultura | V53: 1
U54: Bee no Saneamentu | V54: 7
U55: Saude | V55: 1
U56: Edukasaun | V56: 4
U57: Seluk | V57: 2
U58: Total | V58: =SUBTOTAL(9,V52:V57) -> 36

Sheet EJEKUSAUN OCT 2025 
N5: =10514.5-3068.15 -> 7446.35 | O5: Talitu
A6: Relatorio Alokasaun Kontra Ejekusaun Tranferensia Publicas 2025 (Inf)
A7: Nu | B7: Munisipiu | C7: Postu Administrativu | D7: Suku | E7: Aldeia | F7: Aktividades | G7: Naran Projeito | H7: Unidade | I7: Total Orsamentu | J7: Kustu Estimasaun tuir POI | L7: Realizasaun Gastus | N7: Kumulativu Gastus | Q7: Balansu | R7: Purcentangen% Progresu | T7: Observasaun
J8: Material | K8: Insentivus | L8: Material | M8: Insentivus | N8: Material | O8: Insentivus | P8: Total | R8: Financas | S8: Fisiku
A9: 1 | B9: Aileu | C9: Aileu VILLA | D9: Aissirimou | E9: BERKATI | F9: KONSTRUSAUN | G9: KONST.EST RAI+KONST.PASADEIRA+DEKER | H9: KM | I9: 24231 | J9: =I9-K9 -> 22836 | K9: 1395 | L9: =3173.75+1410 -> 4583.75 | N9: ='EJEKUSAUN SEPT 2025 '!N9+'EJEKUSAUN OCT 2025 '!L9 -> 19625.61 | O9: ='EJEKUSAUN SEPT 2025 '!O9+'EJEKUSAUN OCT 2025 '!M9 -> 0 | P9: =N9+O9 -> 19625.61 | Q9: =I9-P9 -> 4605.39 | R9: =P9/I9 -> 0.8099381
A10: 2 | B10: Aileu | C10: Aileu VILLA | D10: Bandudato | E10: BANDUDATO | F10: KONSTRUSAUN | G10: MORU SATAN RAI & BRONJONG | H10: KM | I10: =21430+20 -> 21450 | J10: =I10-K10 -> 21450 | L10: =285+3540 -> 3825 | N10: ='EJEKUSAUN SEPT 2025 '!N10+'EJEKUSAUN OCT 2025 '!L10 -> 11468.61 | O10: ='EJEKUSAUN SEPT 2025 '!O10+'EJEKUSAUN OCT 2025 '!M10 -> 0 | P10: =N10+O10 -> 11468.61 | Q10: =I10-P10 -> 9981.39 | R10: =P10/I10 -> 0.53466713
A11: 3 | B11: Aileu | C11: Aileu VILLA | D11: Fahiria | E11: SIDOLE | F11: KONSTRUSAUN | G11: KONST.EST BETAUN+PASADEIRA | H11: KM | I11: 17223 | J11: =I11-K11 -> 14314.5 | K11: 2908.5 | N11: ='EJEKUSAUN SEPT 2025 '!N11+'EJEKUSAUN OCT 2025 '!L11 -> 5403.7 | O11: ='EJEKUSAUN SEPT 2025 '!O11+'EJEKUSAUN OCT 2025 '!M11 -> 2750 | P11: =N11+O11 -> 8153.7 | Q11: =I11-P11 -> 9069.3 | R11: =P11/I11 -> 0.47341926
E12: SARIN | F12: MANUTENSAUN | G12: REHAB.SEDE ALDEIA | H12: KM | I12: 7000 | J12: =I12-K12 -> 6500 | K12: 500 | L12: =615+3575.5 -> 4190.5 | N12: ='EJEKUSAUN SEPT 2025 '!N12+'EJEKUSAUN OCT 2025 '!L12 -> 5189.75 | O12: ='EJEKUSAUN SEPT 2025 '!O12+'EJEKUSAUN OCT 2025 '!M12 -> 0 | P12: =N12+O12 -> 5189.75 | Q12: =I12-P12 -> 1810.25 | R12: =P12/I12 -> 0.74139286
A13: 4 | B13: Aileu | C13: Aileu VILLA | D13: Fatubossa | E13: CAICASA | F13: KONSTRUSAUN | G13: KONST.RESIDENCIA PROFESOR | H13: M2 | I13: 24076 | J13: =I13-K13 -> 24076 | L13: =2075.5+665 -> 2740.5 | N13: ='EJEKUSAUN SEPT 2025 '!N13+'EJEKUSAUN OCT 2025 '!L13 -> 7426.15 | O13: ='EJEKUSAUN SEPT 2025 '!O13+'EJEKUSAUN OCT 2025 '!M13 -> 0 | P13: =N13+O13 -> 7426.15 | Q13: =I13-P13 -> 16649.85 | R13: =P13/I13 -> 0.30844617
A14: 5 | B14: Aileu | C14: Aileu VILLA | D14: Hoholau | E14: MANUBATAN | F14: KONSTRUSAUN | G14: KONST. EST. BETAUN+DRAINAGEN+BRONJONG | H14: M | I14: 24076 | J14: =I14-K14 -> 20162 | K14: 3914 | L14: =2000+1262+880 -> 4142 | N14: ='EJEKUSAUN SEPT 2025 '!N14+'EJEKUSAUN OCT 2025 '!L14 -> 18078.15 | O14: ='EJEKUSAUN SEPT 2025 '!O14+'EJEKUSAUN OCT 2025 '!M14 -> 0 | P14: =N14+O14 -> 18078.15 | Q14: =I14-P14 -> 5997.85 | R14: =P14/I14 -> 0.75087847
A15: 6 | B15: Aileu | C15: Aileu VILLA | D15: Lahae | E15: RIATELU | F15: REHABILITASAUN | G15: REHAB.SISTEMA IRIGASAUN+KONST BRONJONG | H15: KM | I15: 24076 | J15: =I15-K15 -> 18304 | K15: 5772 | L15: =1406.65+975+174.75+174.75+4040.4-M15 -> 2731.15 | M15: 4040.4 | N15: ='EJEKUSAUN SEPT 2025 '!N15+'EJEKUSAUN OCT 2025 '!L15 -> 9630.3 | O15: ='EJEKUSAUN SEPT 2025 '!O15+'EJEKUSAUN OCT 2025 '!M15 -> 4040.4 | P15: =N15+O15 -> 13670.7 | Q15: =I15-P15 -> 10405.3 | R15: =P15/I15 -> 0.56781442
A16: 7 | B16: Aileu | C16: Aileu VILLA | D16: Lausi | E16: ERBUTI | F16: REHABILITASAUN | G16: KONST.RESIDENCIA PROFESOR | H16: KM | I16: 24076 | J16: =I16-K16 -> 19345 | K16: 4731 | L16: 1875 | N16: ='EJEKUSAUN SEPT 2025 '!N16+'EJEKUSAUN OCT 2025 '!L16 -> 12499.35 | O16: ='EJEKUSAUN SEPT 2025 '!O16+'EJEKUSAUN OCT 2025 '!M16 -> 0 | P16: =N16+O16 -> 12499.35 | Q16: =I16-P16 -> 11576.65 | R16: =P16/I16 -> 0.51916224
A17: 8 | B17: Aileu | C17: Aileu VILLA | D17: Lequitura | E17: RIHEU | F17: KONSTRUSAUN | G17: KONST.EST RAI+KONST DRAINAGEN | H17: KM | I17: 24076 | J17: =I17-K17 -> 18173 | K17: =1283+1140+1000+1380+600+500 -> 5903 | L17: =1283+1140+1000+1380+1100 -> 5903 | N17: ='EJEKUSAUN SEPT 2025 '!N17+'EJEKUSAUN OCT 2025 '!L17 -> 22705.32 | O17: ='EJEKUSAUN SEPT 2025 '!O17+'EJEKUSAUN OCT 2025 '!M17 -> 0 | P17: =N17+O17 -> 22705.32 | Q17: =I17-P17 -> 1370.68 | R17: =P17/I17 -> 0.94306862
A18: 9 | B18: Aileu | C18: Aileu VILLA | D18: Saboria | E18: SABORIA | F18: KONSTRUSAUN | G18: KONST. EST. BETAUN+DRAINAGEN | H18: KM | I18: 24076 | J18: =I18-K18 -> 19003 | K18: 5073 | L18: 1994.5 | N18: ='EJEKUSAUN SEPT 2025 '!N18+'EJEKUSAUN OCT 2025 '!L18 -> 13942.64 | O18: ='EJEKUSAUN SEPT 2025 '!O18+'EJEKUSAUN OCT 2025 '!M18 -> 0 | P18: =N18+O18 -> 13942.64 | Q18: =I18-P18 -> 10133.36 | R18: =P18/I18 -> 0.57910949
A19: 10 | B19: Aileu | C19: Aileu VILLA | D19: Seloi Craic | E19: COLIHOHO | F19: RAHABILITASAUN | G19: REHAB.SITEMA BEE MOS GRAVITASAUN | H19: M | I19: 16015.1 | J19: =I19-K19 -> 13323.65 | K19: 2691.45 | L19: =5792.4+460+100 -> 6352.4 | N19: ='EJEKUSAUN SEPT 2025 '!N19+'EJEKUSAUN OCT 2025 '!L19 -> 9607.14 | O19: ='EJEKUSAUN SEPT 2025 '!O19+'EJEKUSAUN OCT 2025 '!M19 -> 0 | P19: =N19+O19 -> 9607.14 | Q19: =I19-P19 -> 6407.96 | R19: =P19/I19 -> 0.59988011
F20: KONSTRUSAUN | G20: KONST.SISTEMA BEE MOS GRAVITASAUN | I20: 10853.9 | J20: =I20-K20 -> 9026.41 | K20: 1827.49 | N20: ='EJEKUSAUN SEPT 2025 '!N20+'EJEKUSAUN OCT 2025 '!L20 -> 3150 | O20: ='EJEKUSAUN SEPT 2025 '!O20+'EJEKUSAUN OCT 2025 '!M20 -> 0 | P20: =N20+O20 -> 3150 | Q20: =I20-P20 -> 7703.9 | R20: =P20/I20 -> 0.29021826
A21: 11 | B21: Aileu | C21: Aileu VILLA | D21: Seloi Malere | E21: COTABAURU | F21: REHABILITASAUN | G21: KONSTRUSAUN EST BETAUN | H21: KM | I21: 27016 | J21: =I21-K21 -> 27016 | L21: 4959 | N21: ='EJEKUSAUN SEPT 2025 '!N21+'EJEKUSAUN OCT 2025 '!L21 -> 16722.13 | O21: ='EJEKUSAUN SEPT 2025 '!O21+'EJEKUSAUN OCT 2025 '!M21 -> 0 | P21: =N21+O21 -> 16722.13 | Q21: =I21-P21 -> 10293.87 | R21: =P21/I21 -> 0.61897135
A22: 12 | B22: Aileu | C22: Aileu VILLA | D22: Suco Liurai (Alieu Vila) | E22: FATULMAU | F22: KONSTRUSAUN | G22: BEE MOS SISTEMA GRAVITASAUN | H22: M2 | I22: 26869 | J22: =I22-K22 -> 22440.14 | K22: 4428.86 | L22: =50+4474 -> 4524 | N22: ='EJEKUSAUN SEPT 2025 '!N22+'EJEKUSAUN OCT 2025 '!L22 -> 11759.74 | O22: ='EJEKUSAUN SEPT 2025 '!O22+'EJEKUSAUN OCT 2025 '!M22 -> 0 | P22: =N22+O22 -> 11759.74 | Q22: =I22-P22 -> 15109.26 | R22: =P22/I22 -> 0.43766943
A23: Total | C23: Aileu VILLA | H23: 14 | I23: =SUM(I9:I22) -> 295114 | J23: =SUM(J9:J22) -> 255969.7 | K23: =SUM(K9:K22) -> 39144.3 | L23: =SUM(L9:L22) -> 47820.8 | M23: =SUM(M9:M22) -> 4040.4 | N23: =SUM(N9:N22) -> 167208.59 | O23: =SUM(O9:O22) -> 6790.4 | P23: =SUM(P9:P22) -> 173998.99 | Q23: =SUM(Q9:Q22) -> 121115.01 | R23: =P23/I23 -> 0.58959924
A24: 13 | B24: Aileu | C24: Laulara | D24: Bocolelo | E24: DONFONAMO | F24: KONSTRUSAUN | G24: ESTRADA RURAIS - ESTRADA RAI | H24: KM | I24: 26722 | J24: =I24-K24 -> 25487 | K24: 1235 | L24: 12563.84 | N24: ='EJEKUSAUN SEPT 2025 '!N24+'EJEKUSAUN OCT 2025 '!L24 -> 12617.28 | O24: ='EJEKUSAUN SEPT 2025 '!O24+'EJEKUSAUN OCT 2025 '!M24 -> 0 | P24: =N24+O24 -> 12617.28 | Q24: =I24-P24 -> 14104.72 | R24: =P24/I24 -> 0.47216825
A25: 14 | B25: Aileu | C25: Laulara | D25: Cotolau | E25: ORNAI | F25: EXTENSAUN | G25: DAPUR E SALA MERENDA ESKOLAR | H25: M2 | I25: 26722 | J25: =I25-K25 -> 22068 | K25: 4654 | L25: 7181 | N25: ='EJEKUSAUN SEPT 2025 '!N25+'EJEKUSAUN OCT 2025 '!L25 -> 7234.44 | O25: ='EJEKUSAUN SEPT 2025 '!O25+'EJEKUSAUN OCT 2025 '!M25 -> 0 | P25: =N25+O25 -> 7234.44 | Q25: =I25-P25 -> 19487.56 | R25: =P25/I25 -> 0.27072974
A26: 15 | B26: Aileu | C26: Laulara | D26: Fatisi | E26: MAUBOUC | F26: KONSTRUSAUN | G26: ESTRADA BETAUN | H26: KM | I26: 26722 | J26: =I26-K26 -> 22775 | K26: 3947 | N26: ='EJEKUSAUN SEPT 2025 '!N26+'EJEKUSAUN OCT 2025 '!L26 -> 14683.44 | O26: ='EJEKUSAUN SEPT 2025 '!O26+'EJEKUSAUN OCT 2025 '!M26 -> 1500 | P26: =N26+O26 -> 16183.44 | Q26: =I26-P26 -> 10538.56 | R26: =P26/I26 -> 0.60562233
A27: 16 | B27: Aileu | C27: Laulara | D27: Madabeno | E27: MANE HALO | F27: KONSTRUSAUN | G27: REHAB.SEDE ALDEIA | H27: KM | I27: 24076 | J27: =I27-K27 -> 20911 | K27: 3165 | L27: =800+6136.75+1160+945+3166.5-M27 -> 11608.25 | M27: 600 | N27: ='EJEKUSAUN SEPT 2025 '!N27+'EJEKUSAUN OCT 2025 '!L27 -> 11656.4 | O27: ='EJEKUSAUN SEPT 2025 '!O27+'EJEKUSAUN OCT 2025 '!M27 -> 600 | P27: =N27+O27 -> 12256.4 | Q27: =I27-P27 -> 11819.6 | R27: =P27/I27 -> 0.50907127
A28: 17 | B28: Aileu | C28: Laulara | D28: Talitu | E28: CASMANATUTO | F28: KONSTRUSAUN | G28: ESTRADA BETAUN | H28: KM | I28: 24076 | J28: =I28-K28 -> 20253 | K28: 3823 | L28: =2600+4894.5+15-M28 -> 4709.5 | M28: 2800 | N28: ='EJEKUSAUN SEPT 2025 '!N28+'EJEKUSAUN OCT 2025 '!L28 -> 7777.65 | O28: ='EJEKUSAUN SEPT 2025 '!O28+'EJEKUSAUN OCT 2025 '!M28 -> 2800 | P28: =N28+O28 -> 10577.65 | Q28: =I28-P28 -> 13498.35 | R28: =P28/I28 -> 0.43934416
A29: 18 | B29: Aileu | C29: Laulara | D29: Tohumeta | E29: TOHUMETA | F29: KONSTRUSAUN | G29: ESTRADA BETAUN | H29: KM | I29: 24076 | J29: =I29-K29 -> 20699 | K29: 3377 | N29: ='EJEKUSAUN SEPT 2025 '!N29+'EJEKUSAUN OCT 2025 '!L29 -> 11821.9 | O29: ='EJEKUSAUN SEPT 2025 '!O29+'EJEKUSAUN OCT 2025 '!M29 -> 3077 | P29: =N29+O29 -> 14898.9 | Q29: =I29-P29 -> 9177.1 | R29: =P29/I29 -> 0.61882788
A30: Total | C30: Laulara | H30: 6 | I30: =SUM(I24:I29) -> 152394 | J30: =SUM(J24:J29) -> 132193 | K30: =SUM(K24:K29) -> 20201 | L30: =SUM(L24:L29) -> 36062.59 | M30: =SUM(M24:M29) -> 3400 | N30: =SUM(N24:N29) -> 65791.11 | O30: =SUM(O24:O29) -> 7977 | P30: =SUM(P24:P29) -> 73768.11 | Q30: =SUM(Q24:Q29) -> 78625.89 | R30: =P30/I30 -> 0.48406177
A31: 19 | B31: Aileu | C31: Liquidoe | D31: Acubilitoho | E31: BILOCO | F31: REHABILITASAUN | G31: ESTRADA RURAIS - ESTRADA BETAUN | H31: KM | I31: 21430 | J31: =I31-K31 -> 17569 | K31: 3861 | L31: =3374.5+3010 -> 6384.5 | N31: ='EJEKUSAUN SEPT 2025 '!N31+'EJEKUSAUN OCT 2025 '!L31 -> 6527.36 | O31: ='EJEKUSAUN SEPT 2025 '!O31+'EJEKUSAUN OCT 2025 '!M31 -> 0 | P31: =N31+O31 -> 6527.36 | Q31: =I31-P31 -> 14902.64 | R31: =P31/I31 -> 0.30458983
A32: 20 | B32: Aileu | C32: Liquidoe | D32: Bereleu | E32: LEBUTU | F32: KONSTRUSAUN | G32: KONSTRUSAUN BEE MOS SISTEMA BOMBA | H32: KM | I32: 24076 | J32: =I32-K32 -> 19529.04 | K32: 4546.96 | L32: =6558.45+1320 -> 7878.45 | N32: ='EJEKUSAUN SEPT 2025 '!N32+'EJEKUSAUN OCT 2025 '!L32 -> 7878.45 | O32: ='EJEKUSAUN SEPT 2025 '!O32+'EJEKUSAUN OCT 2025 '!M32 -> 0 | P32: =N32+O32 -> 7878.45 | Q32: =I32-P32 -> 16197.55 | R32: =P32/I32 -> 0.32723251
A33: 21 | B33: Aileu | C33: Liquidoe | D33: Betulau | E33: NAUMATA | F33: REHABILITASAUN | G33: ESTRADA BETAUN | H33: M2 | I33: 24076 | J33: =I33-K33 -> 19419 | K33: 4657 | L33: =7302+4600 -> 11902 | N33: ='EJEKUSAUN SEPT 2025 '!N33+'EJEKUSAUN OCT 2025 '!L33 -> 18747.15 | O33: ='EJEKUSAUN SEPT 2025 '!O33+'EJEKUSAUN OCT 2025 '!M33 -> 0 | P33: =N33+O33 -> 18747.15 | Q33: =I33-P33 -> 5328.85 | R33: =P33/I33 -> 0.77866548
A34: 22 | B34: Aileu | C34: Liquidoe | D34: Fahisoi | E34: LOCOTOI | F34: KONSTRUSAUN | G34: ESTRADA RURAIS - ESTRADA BETAUN | H34: KM | I34: 21430 | J34: =I34-K34 -> 17641 | K34: 3789 | L34: =8764.5+2630+1150+1325 -> 13869.5 | N34: ='EJEKUSAUN SEPT 2025 '!N34+'EJEKUSAUN OCT 2025 '!L34 -> 21360.86 | O34: ='EJEKUSAUN SEPT 2025 '!O34+'EJEKUSAUN OCT 2025 '!M34 -> 0 | P34: =N34+O34 -> 21360.86 | Q34: =I34-P34 -> 69.14 | R34: =P34/I34 -> 0.99677368
A35: 23 | B35: Aileu | C35: Liquidoe | D35: FATURILAU | E35: LEBUMERAN | F35: KONSTRUSAUN | G35: ESTRADA RURAIS - ESTRADA BETAUN | H35: KM | I35: 24076 | J35: =I35-K35 -> 19909 | K35: 4167 | L35: 4340 | N35: ='EJEKUSAUN SEPT 2025 '!N35+'EJEKUSAUN OCT 2025 '!L35 -> 10956.15 | O35: ='EJEKUSAUN SEPT 2025 '!O35+'EJEKUSAUN OCT 2025 '!M35 -> 0 | P35: =N35+O35 -> 10956.15 | Q35: =I35-P35 -> 13119.85 | R35: =P35/I35 -> 0.45506521
A36: 24 | B36: Aileu | C36: Liquidoe | D36: Manucassa | E36: FATUKMRIN | F36: KONSTRUSAUN | G36: KONTRUSAUN RESIDENSIA PESSOAL SAUDE | H36: M2 | I36: 21430 | J36: =I36-K36 -> 17564 | K36: 3866 | L36: 8815 | M36: 1500 | N36: ='EJEKUSAUN SEPT 2025 '!N36+'EJEKUSAUN OCT 2025 '!L36 -> 8957.86 | O36: ='EJEKUSAUN SEPT 2025 '!O36+'EJEKUSAUN OCT 2025 '!M36 -> 1500 | P36: =N36+O36 -> 10457.86 | Q36: =I36-P36 -> 10972.14 | R36: =P36/I36 -> 0.48800093
A37: 25 | B37: Aileu | C37: Liquidoe | D37: Namolesso | E37: AITOIN | F37: KONSTRUSAUN | G37: ESTRADA RURAIS - ESTRADA RAI | H37: KM | I37: 21430 | J37: =I37-K37 -> 19505 | K37: 1925 | L37: =5004+1900+3200+2084 -> 12188 | N37: ='EJEKUSAUN SEPT 2025 '!N37+'EJEKUSAUN OCT 2025 '!L37 -> 20229.66 | O37: ='EJEKUSAUN SEPT 2025 '!O37+'EJEKUSAUN OCT 2025 '!M37 -> 0 | P37: =N37+O37 -> 20229.66 | Q37: =I37-P37 -> 1200.34 | R37: =P37/I37 -> 0.94398787
A38: Total | C38: Liquidoe | H38: 7 | I38: =SUM(I31:I37) -> 157948 | J38: =SUM(J31:J37) -> 131136.04 | K38: =SUM(K31:K37) -> 26811.96 | L38: =SUM(L31:L37) -> 65377.45 | M38: =SUM(M31:M37) -> 1500 | N38: =SUM(N31:N37) -> 94657.49 | O38: =SUM(O31:O37) -> 1500 | P38: =SUM(P31:P37) -> 96157.49 | Q38: =SUM(Q31:Q37) -> 61790.51 | R38: =P38/I38 -> 0.60879207
A39: 26 | B39: Aileu | C39: Remexio | D39: Acumau | E39: FATUMANARUK | F39: REHABILITASAUN | G39: REHABILITASAUN BA ESTRADA | H39: M | I39: 26869 | J39: =I39-K39 -> 22553 | K39: 4316 | L39: 4372.75 | N39: ='EJEKUSAUN SEPT 2025 '!N39+'EJEKUSAUN OCT 2025 '!L39 -> 4426.49 | O39: ='EJEKUSAUN SEPT 2025 '!O39+'EJEKUSAUN OCT 2025 '!M39 -> 0 | P39: =N39+O39 -> 4426.49 | Q39: =I39-P39 -> 22442.51 | R39: =P39/I39 -> 0.16474338
A40: 27 | B40: Aileu | C40: Remexio | D40: Fadabloco | E40: RAIFATU | F40: KONSTRUSAUN | G40: KONSTRUSAUN BEE MOS SISTEMA BOMBA | H40: M2 | I40: 26869 | J40: =I40-K40 -> 23077 | K40: 3792 | L40: 6872 | N40: ='EJEKUSAUN SEPT 2025 '!N40+'EJEKUSAUN OCT 2025 '!L40 -> 6925.74 | O40: ='EJEKUSAUN SEPT 2025 '!O40+'EJEKUSAUN OCT 2025 '!M40 -> 0 | P40: =N40+O40 -> 6925.74 | Q40: =I40-P40 -> 19943.26 | R40: =P40/I40 -> 0.2577595
A41: 28 | B41: Aileu | C41: Remexio | D41: Fahisoi | E41: DIRUHATI | F41: KONSTRUSAUN | G41: ESTRADA BETAUN | H41: M | I41: 20899 | J41: =I41-K41 -> 17243.5 | K41: 3655.5 | N41: ='EJEKUSAUN SEPT 2025 '!N41+'EJEKUSAUN OCT 2025 '!L41 -> 4910.15 | O41: ='EJEKUSAUN SEPT 2025 '!O41+'EJEKUSAUN OCT 2025 '!M41 -> 0 | P41: =N41+O41 -> 4910.15 | Q41: =I41-P41 -> 15988.85 | R41: =P41/I41 -> 0.23494665
G42: ESTRADA RAI | I42: 3177 | N42: ='EJEKUSAUN SEPT 2025 '!N42+'EJEKUSAUN OCT 2025 '!L42 -> 2425.85 | O42: ='EJEKUSAUN SEPT 2025 '!O42+'EJEKUSAUN OCT 2025 '!M42 -> 0 | P42: =N42+O42 -> 2425.85 | Q42: =I42-P42 -> 751.15 | R42: =P42/I42 -> 0.76356626
A43: 29 | B43: Aileu | C43: Remexio | D43: Faturasa | E43: FACULAUN | F43: REHABILITASAUN | G43: REHABILITASAUN BEE MOS GRAVITASAUN | H43: KM | I43: 24076 | J43: =I43-K43 -> 19677.3 | K43: 4398.7 | L43: 3175.5 | N43: ='EJEKUSAUN SEPT 2025 '!N43+'EJEKUSAUN OCT 2025 '!L43 -> 11909.4 | O43: ='EJEKUSAUN SEPT 2025 '!O43+'EJEKUSAUN OCT 2025 '!M43 -> 0 | P43: =N43+O43 -> 11909.4 | Q43: =I43-P43 -> 12166.6 | R43: =P43/I43 -> 0.49465858
A44: 30 | B44: Aileu | C44: Remexio | D44: Hautoho | E44: AIBUTIHUN | F44: KONSTRUSAUN | G44: ESTRADA BETAUN | H44: KM | I44: 24076 | J44: =I44-K44 -> 20130 | K44: 3946 | L44: 11089.5 | N44: ='EJEKUSAUN SEPT 2025 '!N44+'EJEKUSAUN OCT 2025 '!L44 -> 11137.65 | O44: ='EJEKUSAUN SEPT 2025 '!O44+'EJEKUSAUN OCT 2025 '!M44 -> 0 | P44: =N44+O44 -> 11137.65 | Q44: =I44-P44 -> 12938.35 | R44: =P44/I44 -> 0.46260384
A45: 31 | B45: Aileu | C45: Remexio | D45: Maumeta | E45: TUKEU | F45: KONSTRUSAUN | G45: ESTRADA BETAUN | H45: KM | I45: 24076 | J45: =I45-K45 -> 20815 | K45: 3261 | L45: 9935 | M45: 3100 | N45: ='EJEKUSAUN SEPT 2025 '!N45+'EJEKUSAUN OCT 2025 '!L45 -> 19050.65 | O45: ='EJEKUSAUN SEPT 2025 '!O45+'EJEKUSAUN OCT 2025 '!M45 -> 3100 | P45: =N45+O45 -> 22150.65 | Q45: =I45-P45 -> 1925.35 | R45: =P45/I45 -> 0.92003032
A46: 32 | B46: Aileu | C46: Remexio | D46: Suco Liurai (Remexio) | E46: MANUTANE | F46: REHABILITASAUN | G46: REHABILITASAUN SALA ESCOLA | H46: M2 | I46: 26722 | J46: =I46-K46 -> 22323.3 | K46: 4398.7 | L46: 5322 | N46: ='EJEKUSAUN SEPT 2025 '!N46+'EJEKUSAUN OCT 2025 '!L46 -> 5375.44 | O46: ='EJEKUSAUN SEPT 2025 '!O46+'EJEKUSAUN OCT 2025 '!M46 -> 0 | P46: =N46+O46 -> 5375.44 | Q46: =I46-P46 -> 21346.56 | R46: =P46/I46 -> 0.20116159
A47: 33 | B47: Aileu | C47: Remexio | D47: Tulataqueo | E47: SAMALETE | F47: KONSTRUSAUN | G47: KONSTRUSAUN BEE MOS SISTEMA BOMBA | H47: M2 | I47: 29515 | J47: =I47-K47 -> 27322.79 | K47: 2192.21 | L47: 1418.5 | N47: ='EJEKUSAUN SEPT 2025 '!N47+'EJEKUSAUN OCT 2025 '!L47 -> 11530.03 | O47: ='EJEKUSAUN SEPT 2025 '!O47+'EJEKUSAUN OCT 2025 '!M47 -> 0 | P47: =N47+O47 -> 11530.03 | Q47: =I47-P47 -> 17984.97 | R47: =P47/I47 -> 0.39064984
A48: Total | C48: Remexio | H48: 9 | I48: =SUM(I39:I47) -> 206279 | J48: =SUM(J39:J47) -> 173141.89 | K48: =SUM(K39:K47) -> 29960.11 | L48: =SUM(L39:L47) -> 42185.25 | M48: =SUM(M39:M47) -> 3100 | N48: =SUM(N39:N47) -> 77691.4 | O48: =SUM(O39:O47) -> 3100 | P48: =SUM(P39:P47) -> 80791.4 | Q48: =SUM(Q39:Q47) -> 125487.6 | R48: =P48/I48 -> 0.39166081
A49: Grand total | H49: =H48+H38+H30+H23 -> 36 | I49: =I48+I38+I30+I23 -> 811735 | J49: =J48+J38+J30+J23 -> 692440.63 | K49: =K48+K38+K30+K23 -> 116117.37 | L49: =L48+L38+L30+L23 -> 191446.09 | M49: =M48+M38+M30+M23 -> 12040.4 | N49: =N48+N38+N30+N23 -> 405348.59 | O49: =O48+O38+O30+O23 -> 19367.4 | ... Q49: =Q48+Q38+Q30+Q23 -> 387019.01 | R49: =P49/I49 -> 0.52322
L50: 203472.09
L51: =L50-L49 -> 12026 | U51: Linha Setorais | V51: Nu Projeito
U52: Obras Publikas | V52: 21
U53: Agricultura | V53: 1
U54: Bee no Saneamentu | V54: 7
U55: Saude | V55: 1
U56: Edukasaun | V56: 4
U57: Seluk | V57: 2
U58: Total | V58: =SUBTOTAL(9,V52:V57) -> 36

Sheet EJEKUSAUN NOV 2025 
A6: Relatorio Alokasaun Kontra Ejekusaun Tranferensia Publicas 2025 (Inf)
A7: Nu | B7: Munisipiu | C7: Postu Administrativu | D7: Suku | E7: Aldeia | F7: Aktividades | G7: Naran Projeito | H7: Unidade | I7: Total Orsamentu | J7: Kustu Estimasaun tuir POI | L7: Realizasaun Gastus | N7: Kumulativu Gastus | Q7: Balansu | R7: Purcentangen% Progresu | T7: Observasaun
J8: Material | K8: Insentivus | L8: Material | M8: Insentivus | N8: Material | O8: Insentivus | P8: Total | R8: Financas | S8: Fisiku | T8: Diff
A9: 1 | B9: Aileu | C9: Aileu VILLA | D9: Aissirimou | E9: BERKATI | F9: KONSTRUSAUN | G9: KONST.EST RAI+KONST.PASADEIRA+DEKER | H9: KM | I9: 24231 | J9: =I9-K9 -> 22836 | K9: 1395 | N9: ='EJEKUSAUN OCT 2025 '!N9+'EJEKUSAUN NOV 2025 '!L9 -> 19625.61 | O9: ='EJEKUSAUN OCT 2025 '!O9+'EJEKUSAUN NOV 2025 '!M9 -> 0 | P9: =N9+O9 -> 19625.61 | Q9: =I9-P9 -> 4605.39 | R9: =P9/I9 -> 0.8099381
A10: 2 | B10: Aileu | C10: Aileu VILLA | D10: Bandudato | E10: BANDUDATO | F10: KONSTRUSAUN | G10: MORU SATAN RAI & BRONJONG | H10: KM | I10: =21430+20 -> 21450 | J10: =I10-K10 -> 21450 | L10: 1587.5 | N10: ='EJEKUSAUN OCT 2025 '!N10+'EJEKUSAUN NOV 2025 '!L10 -> 13056.11 | O10: ='EJEKUSAUN OCT 2025 '!O10+'EJEKUSAUN NOV 2025 '!M10 -> 0 | P10: =N10+O10 -> 13056.11 | Q10: =I10-P10 -> 8393.89 | R10: =P10/I10 -> 0.60867646
A11: 3 | B11: Aileu | C11: Aileu VILLA | D11: Fahiria | E11: SIDOLE | F11: KONSTRUSAUN | G11: KONST.EST BETAUN+PASADEIRA | H11: KM | I11: 17223 | J11: =I11-K11 -> 14314.5 | K11: 2908.5 | L11: =1554.5+380+345 -> 2279.5 | N11: ='EJEKUSAUN OCT 2025 '!N11+'EJEKUSAUN NOV 2025 '!L11 -> 7683.2 | O11: ='EJEKUSAUN OCT 2025 '!O11+'EJEKUSAUN NOV 2025 '!M11 -> 2750 | P11: =N11+O11 -> 10433.2 | Q11: =I11-P11 -> 6789.8 | R11: =P11/I11 -> 0.60577135
E12: SARIN | F12: MANUTENSAUN | G12: REHAB.SEDE ALDEIA | H12: KM | I12: 7000 | J12: =I12-K12 -> 6500 | K12: 500 | L12: 582 | N12: ='EJEKUSAUN OCT 2025 '!N12+'EJEKUSAUN NOV 2025 '!L12 -> 5771.75 | O12: ='EJEKUSAUN OCT 2025 '!O12+'EJEKUSAUN NOV 2025 '!M12 -> 0 | P12: =N12+O12 -> 5771.75 | Q12: =I12-P12 -> 1228.25 | R12: =P12/I12 -> 0.82453571
A13: 4 | B13: Aileu | C13: Aileu VILLA | D13: Fatubossa | E13: CAICASA | F13: KONSTRUSAUN | G13: KONST.RESIDENCIA PROFESOR | H13: M2 | I13: 24076 | J13: =I13-K13 -> 24076 | L13: =8636.25-M13 -> 7136.25 | M13: 1500 | N13: ='EJEKUSAUN OCT 2025 '!N13+'EJEKUSAUN NOV 2025 '!L13 -> 14562.4 | O13: ='EJEKUSAUN OCT 2025 '!O13+'EJEKUSAUN NOV 2025 '!M13 -> 1500 | P13: =N13+O13 -> 16062.4 | Q13: =I13-P13 -> 8013.6 | R13: =P13/I13 -> 0.66715401
A14: 5 | B14: Aileu | C14: Aileu VILLA | D14: Hoholau | E14: MANUBATAN | F14: KONSTRUSAUN | G14: KONST. EST. BETAUN+DRAINAGEN+BRONJONG | H14: M | I14: 24076 | J14: =I14-K14 -> 20162 | K14: 3914 | L14: =2045+1283.5+600+837.5+670 -> 5436 | N14: ='EJEKUSAUN OCT 2025 '!N14+'EJEKUSAUN NOV 2025 '!L14 -> 23514.15 | O14: ='EJEKUSAUN OCT 2025 '!O14+'EJEKUSAUN NOV 2025 '!M14 -> 0 | P14: =N14+O14 -> 23514.15 | Q14: =I14-P14 -> 561.85 | R14: =P14/I14 -> 0.97666348
A15: 6 | B15: Aileu | C15: Aileu VILLA | D15: Lahae | E15: RIATELU | F15: REHABILITASAUN | G15: REHAB.SISTEMA IRIGASAUN+KONST BRONJONG | H15: KM | I15: 24076 | J15: =I15-K15 -> 18304 | K15: 5772 | L15: 1238.5 | N15: ='EJEKUSAUN OCT 2025 '!N15+'EJEKUSAUN NOV 2025 '!L15 -> 10868.8 | O15: ='EJEKUSAUN OCT 2025 '!O15+'EJEKUSAUN NOV 2025 '!M15 -> 4040.4 | P15: =N15+O15 -> 14909.2 | Q15: =I15-P15 -> 9166.8 | R15: =P15/I15 -> 0.61925569
A16: 7 | B16: Aileu | C16: Aileu VILLA | D16: Lausi | E16: ERBUTI | F16: REHABILITASAUN | G16: KONST.RESIDENCIA PROFESOR | H16: KM | I16: 24076 | J16: =I16-K16 -> 19345 | K16: 4731 | L16: =140+2594.95 -> 2734.95 | N16: ='EJEKUSAUN OCT 2025 '!N16+'EJEKUSAUN NOV 2025 '!L16 -> 15234.3 | O16: ='EJEKUSAUN OCT 2025 '!O16+'EJEKUSAUN NOV 2025 '!M16 -> 0 | P16: =N16+O16 -> 15234.3 | Q16: =I16-P16 -> 8841.7 | R16: =P16/I16 -> 0.63275876
A17: 8 | B17: Aileu | C17: Aileu VILLA | D17: Lequitura | E17: RIHEU | F17: KONSTRUSAUN | G17: KONST.EST RAI+KONST DRAINAGEN | H17: KM | I17: 24076 | J17: =I17-K17 -> 24076 | N17: ='EJEKUSAUN OCT 2025 '!N17+'EJEKUSAUN NOV 2025 '!L17 -> 22705.32 | O17: ='EJEKUSAUN OCT 2025 '!O17+'EJEKUSAUN NOV 2025 '!M17 -> 0 | P17: =N17+O17 -> 22705.32 | Q17: =I17-P17 -> 1370.68 | R17: =P17/I17 -> 0.94306862
A18: 9 | B18: Aileu | C18: Aileu VILLA | D18: Saboria | E18: SABORIA | F18: KONSTRUSAUN | G18: KONST. EST. BETAUN+DRAINAGEN | H18: KM | I18: 24076 | J18: =I18-K18 -> 19003 | K18: 5073 | N18: ='EJEKUSAUN OCT 2025 '!N18+'EJEKUSAUN NOV 2025 '!L18 -> 13942.64 | O18: ='EJEKUSAUN OCT 2025 '!O18+'EJEKUSAUN NOV 2025 '!M18 -> 0 | P18: =N18+O18 -> 13942.64 | Q18: =I18-P18 -> 10133.36 | R18: =P18/I18 -> 0.57910949 | T18: 0.01
A19: 10 | B19: Aileu | C19: Aileu VILLA | D19: Seloi Craic | E19: COLIHOHO | F19: RAHABILITASAUN | G19: REHAB.SITEMA BEE MOS GRAVITASAUN | H19: M | I19: 16015.1 | J19: =I19-K19 -> 13323.65 | K19: 2691.45 | L19: =1250+800 -> 2050 | N19: ='EJEKUSAUN OCT 2025 '!N19+'EJEKUSAUN NOV 2025 '!L19 -> 11657.14 | O19: ='EJEKUSAUN OCT 2025 '!O19+'EJEKUSAUN NOV 2025 '!M19 -> 0 | P19: =N19+O19 -> 11657.14 | Q19: =I19-P19 -> 4357.96 | R19: =P19/I19 -> 0.72788431
F20: KONSTRUSAUN | G20: KONST.SISTEMA BEE MOS GRAVITASAUN | I20: 10853.9 | J20: =I20-K20 -> 9026.41 | K20: 1827.49 | L20: 1274.25 | N20: ='EJEKUSAUN OCT 2025 '!N20+'EJEKUSAUN NOV 2025 '!L20 -> 4424.25 | O20: ='EJEKUSAUN OCT 2025 '!O20+'EJEKUSAUN NOV 2025 '!M20 -> 0 | P20: =N20+O20 -> 4424.25 | Q20: =I20-P20 -> 6429.65 | R20: =P20/I20 -> 0.40761846
A21: 11 | B21: Aileu | C21: Aileu VILLA | D21: Seloi Malere | E21: COTABAURU | F21: REHABILITASAUN | G21: KONSTRUSAUN EST BETAUN | H21: KM | I21: 27016 | J21: =I21-K21 -> 27016 | N21: ='EJEKUSAUN OCT 2025 '!N21+'EJEKUSAUN NOV 2025 '!L21 -> 16722.13 | O21: ='EJEKUSAUN OCT 2025 '!O21+'EJEKUSAUN NOV 2025 '!M21 -> 0 | P21: =N21+O21 -> 16722.13 | Q21: =I21-P21 -> 10293.87 | R21: =P21/I21 -> 0.61897135
A22: 12 | B22: Aileu | C22: Aileu VILLA | D22: Suco Liurai (Alieu Vila) | E22: FATULMAU | F22: KONSTRUSAUN | G22: BEE MOS SISTEMA GRAVITASAUN | H22: M2 | I22: 26869 | J22: =I22-K22 -> 22440.14 | K22: 4428.86 | L22: 4237 | N22: ='EJEKUSAUN OCT 2025 '!N22+'EJEKUSAUN NOV 2025 '!L22 -> 15996.74 | O22: ='EJEKUSAUN OCT 2025 '!O22+'EJEKUSAUN NOV 2025 '!M22 -> 0 | P22: =N22+O22 -> 15996.74 | Q22: =I22-P22 -> 10872.26 | R22: =P22/I22 -> 0.59536045 | T22: 1
A23: Total | C23: Aileu VILLA | H23: 14 | I23: =SUM(I9:I22) -> 295114 | J23: =SUM(J9:J22) -> 261872.7 | K23: =SUM(K9:K22) -> 33241.3 | L23: =SUM(L9:L22) -> 28555.95 | M23: =SUM(M9:M22) -> 1500 | N23: =SUM(N9:N22) -> 195764.54 | O23: =SUM(O9:O22) -> 8290.4 | P23: =SUM(P9:P22) -> 204054.94 | Q23: =SUM(Q9:Q22) -> 91059.06 | R23: =P23/I23 -> 0.69144446
A24: 13 | B24: Aileu | C24: Laulara | D24: Bocolelo | E24: DONFONAMO | F24: KONSTRUSAUN | G24: ESTRADA RURAIS - ESTRADA RAI | H24: KM | I24: 26722 | J24: =I24-K24 -> 25487 | K24: 1235 | N24: ='EJEKUSAUN OCT 2025 '!N24+'EJEKUSAUN NOV 2025 '!L24 -> 12617.28 | O24: ='EJEKUSAUN OCT 2025 '!O24+'EJEKUSAUN NOV 2025 '!M24 -> 0 | P24: =N24+O24 -> 12617.28 | Q24: =I24-P24 -> 14104.72 | R24: =P24/I24 -> 0.47216825
A25: 14 | B25: Aileu | C25: Laulara | D25: Cotolau | E25: ORNAI | F25: EXTENSAUN | G25: DAPUR E SALA MERENDA ESKOLAR | H25: M2 | I25: 26722 | J25: =I25-K25 -> 22068 | K25: 4654 | N25: ='EJEKUSAUN OCT 2025 '!N25+'EJEKUSAUN NOV 2025 '!L25 -> 7234.44 | O25: ='EJEKUSAUN OCT 2025 '!O25+'EJEKUSAUN NOV 2025 '!M25 -> 0 | P25: =N25+O25 -> 7234.44 | Q25: =I25-P25 -> 19487.56 | R25: =P25/I25 -> 0.27072974
A26: 15 | B26: Aileu | C26: Laulara | D26: Fatisi | E26: MAUBOUC | F26: KONSTRUSAUN | G26: ESTRADA BETAUN | H26: KM | I26: 26722 | J26: =I26-K26 -> 24275 | K26: =3947-L26 -> 2447 | L26: 1500 | N26: ='EJEKUSAUN OCT 2025 '!N26+'EJEKUSAUN NOV 2025 '!L26 -> 16183.44 | O26: ='EJEKUSAUN OCT 2025 '!O26+'EJEKUSAUN NOV 2025 '!M26 -> 1500 | P26: =N26+O26 -> 17683.44 | Q26: =I26-P26 -> 9038.56 | R26: =P26/I26 -> 0.66175586
A27: 16 | B27: Aileu | C27: Laulara | D27: Madabeno | E27: MANE HALO | F27: KONSTRUSAUN | G27: REHAB.SEDE ALDEIA | H27: KM | I27: 24076 | J27: =I27-K27 -> 20911 | K27: 3165 | N27: ='EJEKUSAUN OCT 2025 '!N27+'EJEKUSAUN NOV 2025 '!L27 -> 11656.4 | O27: ='EJEKUSAUN OCT 2025 '!O27+'EJEKUSAUN NOV 2025 '!M27 -> 600 | P27: =N27+O27 -> 12256.4 | Q27: =I27-P27 -> 11819.6 | R27: =P27/I27 -> 0.50907127
A28: 17 | B28: Aileu | C28: Laulara | D28: Talitu | E28: CASMANATUTO | F28: KONSTRUSAUN | G28: ESTRADA BETAUN | H28: KM | I28: 24076 | J28: =I28-K28 -> 20253 | K28: 3823 | L28: 4270 | N28: ='EJEKUSAUN OCT 2025 '!N28+'EJEKUSAUN NOV 2025 '!L28 -> 12047.65 | O28: ='EJEKUSAUN OCT 2025 '!O28+'EJEKUSAUN NOV 2025 '!M28 -> 2800 | P28: =N28+O28 -> 14847.65 | Q28: =I28-P28 -> 9228.35 | R28: =P28/I28 -> 0.6166992
A29: 18 | B29: Aileu | C29: Laulara | D29: Tohumeta | E29: TOHUMETA | F29: KONSTRUSAUN | G29: ESTRADA BETAUN | H29: KM | I29: 24076 | J29: =I29-K29 -> 20699 | K29: 3377 | L29: 610 | N29: ='EJEKUSAUN OCT 2025 '!N29+'EJEKUSAUN NOV 2025 '!L29 -> 12431.9 | O29: ='EJEKUSAUN OCT 2025 '!O29+'EJEKUSAUN NOV 2025 '!M29 -> 3077 | P29: =N29+O29 -> 15508.9 | Q29: =I29-P29 -> 8567.1 | R29: =P29/I29 -> 0.64416431
A30: Total | C30: Laulara | H30: 6 | I30: =SUM(I24:I29) -> 152394 | J30: =SUM(J24:J29) -> 133693 | K30: =SUM(K24:K29) -> 18701 | L30: =SUM(L24:L29) -> 6380 | M30: =SUM(M24:M29) -> 0 | N30: =SUM(N24:N29) -> 72171.11 | O30: =SUM(O24:O29) -> 7977 | P30: =SUM(P24:P29) -> 80148.11 | Q30: =SUM(Q24:Q29) -> 72245.89 | R30: =P30/I30 -> 0.52592694
A31: 19 | B31: Aileu | C31: Liquidoe | D31: Acubilitoho | E31: BILOCO | F31: REHABILITASAUN | G31: ESTRADA RURAIS - ESTRADA BETAUN | H31: KM | I31: 21430 | J31: =I31-K31 -> 17569 | K31: 3861 | L31: =2000+3004+3013.25+4000-M31 -> 10017.25 | M31: 2000 | N31: ='EJEKUSAUN OCT 2025 '!N31+'EJEKUSAUN NOV 2025 '!L31 -> 16544.61 | O31: ='EJEKUSAUN OCT 2025 '!O31+'EJEKUSAUN NOV 2025 '!M31 -> 2000 | P31: =N31+O31 -> 18544.61 | Q31: =I31-P31 -> 2885.39 | R31: =P31/I31 -> 0.86535744
A32: 20 | B32: Aileu | C32: Liquidoe | D32: Bereleu | E32: LEBUTU | F32: KONSTRUSAUN | G32: KONSTRUSAUN BEE MOS SISTEMA BOMBA | H32: KM | I32: 24076 | J32: =I32-K32 -> 19529.04 | K32: 4546.96 | L32: 2450 | N32: ='EJEKUSAUN OCT 2025 '!N32+'EJEKUSAUN NOV 2025 '!L32 -> 10328.45 | O32: ='EJEKUSAUN OCT 2025 '!O32+'EJEKUSAUN NOV 2025 '!M32 -> 0 | P32: =N32+O32 -> 10328.45 | Q32: =I32-P32 -> 13747.55 | R32: =P32/I32 -> 0.4289936
A33: 21 | B33: Aileu | C33: Liquidoe | D33: Betulau | E33: NAUMATA | F33: REHABILITASAUN | G33: ESTRADA BETAUN | H33: M2 | I33: 24076 | J33: =I33-K33 -> 19419 | K33: 4657 | L33: 5200 | N33: ='EJEKUSAUN OCT 2025 '!N33+'EJEKUSAUN NOV 2025 '!L33 -> 23947.15 | O33: ='EJEKUSAUN OCT 2025 '!O33+'EJEKUSAUN NOV 2025 '!M33 -> 0 | P33: =N33+O33 -> 23947.15 | Q33: =I33-P33 -> 128.85 | R33: =P33/I33 -> 0.9946482
A34: 22 | B34: Aileu | C34: Liquidoe | D34: Fahisoi | E34: LOCOTOI | F34: KONSTRUSAUN | G34: ESTRADA RURAIS - ESTRADA BETAUN | H34: KM | I34: 21430 | J34: =I34-K34 -> 17641 | K34: 3789 | N34: ='EJEKUSAUN OCT 2025 '!N34+'EJEKUSAUN NOV 2025 '!L34 -> 21360.86 | O34: ='EJEKUSAUN OCT 2025 '!O34+'EJEKUSAUN NOV 2025 '!M34 -> 0 | P34: =N34+O34 -> 21360.86 | Q34: =I34-P34 -> 69.14 | R34: =P34/I34 -> 0.99677368
A35: 23 | B35: Aileu | C35: Liquidoe | D35: FATURILAU | E35: LEBUMERAN | F35: KONSTRUSAUN | G35: ESTRADA RURAIS - ESTRADA BETAUN | H35: KM | I35: 24076 | J35: =I35-K35 -> 19909 | K35: 4167 | L35: =6005-M35 -> 2005 | M35: 4000 | N35: ='EJEKUSAUN OCT 2025 '!N35+'EJEKUSAUN NOV 2025 '!L35 -> 12961.15 | O35: ='EJEKUSAUN OCT 2025 '!O35+'EJEKUSAUN NOV 2025 '!M35 -> 4000 | P35: =N35+O35 -> 16961.15 | Q35: =I35-P35 -> 7114.85 | R35: =P35/I35 -> 0.70448372
A36: 24 | B36: Aileu | C36: Liquidoe | D36: Manucassa | E36: FATUKMRIN | F36: KONSTRUSAUN | G36: KONTRUSAUN RESIDENSIA PESSOAL SAUDE | H36: M2 | I36: 21430 | J36: =I36-K36 -> 17564 | K36: 3866 | N36: ='EJEKUSAUN OCT 2025 '!N36+'EJEKUSAUN NOV 2025 '!L36 -> 8957.86 | O36: ='EJEKUSAUN OCT 2025 '!O36+'EJEKUSAUN NOV 2025 '!M36 -> 1500 | P36: =N36+O36 -> 10457.86 | Q36: =I36-P36 -> 10972.14 | R36: =P36/I36 -> 0.48800093
A37: 25 | B37: Aileu | C37: Liquidoe | D37: Namolesso | E37: AITOIN | F37: KONSTRUSAUN | G37: ESTRADA RURAIS - ESTRADA RAI | H37: KM | I37: 21430 | J37: =I37-K37 -> 19505 | K37: 1925 | N37: ='EJEKUSAUN OCT 2025 '!N37+'EJEKUSAUN NOV 2025 '!L37 -> 20229.66 | O37: ='EJEKUSAUN OCT 2025 '!O37+'EJEKUSAUN NOV 2025 '!M37 -> 0 | P37: =N37+O37 -> 20229.66 | Q37: =I37-P37 -> 1200.34 | R37: =P37/I37 -> 0.94398787
A38: Total | C38: Liquidoe | H38: 7 | I38: =SUM(I31:I37) -> 157948 | J38: =SUM(J31:J37) -> 131136.04 | K38: =SUM(K31:K37) -> 26811.96 | L38: =SUM(L31:L37) -> 19672.25 | M38: =SUM(M31:M37) -> 6000 | N38: =SUM(N31:N37) -> 114329.74 | O38: =SUM(O31:O37) -> 7500 | P38: =SUM(P31:P37) -> 121829.74 | Q38: =SUM(Q31:Q37) -> 36118.26 | R38: =P38/I38 -> 0.77132816
A39: 26 | B39: Aileu | C39: Remexio | D39: Acumau | E39: FATUMANARUK | F39: REHABILITASAUN | G39: REHABILITASAUN BA ESTRADA | H39: M | I39: 26869 | J39: =I39-K39 -> 22553 | K39: 4316 | L39: =4382-M39 -> 2182 | M39: 2200 | N39: ='EJEKUSAUN OCT 2025 '!N39+'EJEKUSAUN NOV 2025 '!L39 -> 6608.49 | O39: ='EJEKUSAUN OCT 2025 '!O39+'EJEKUSAUN NOV 2025 '!M39 -> 2200 | P39: =N39+O39 -> 8808.49 | Q39: =I39-P39 -> 18060.51 | R39: =P39/I39 -> 0.32783096
A40: 27 | B40: Aileu | C40: Remexio | D40: Fadabloco | E40: RAIFATU | F40: KONSTRUSAUN | G40: KONSTRUSAUN BEE MOS SISTEMA BOMBA | H40: M2 | I40: 26869 | J40: =I40-K40 -> 23077 | K40: 3792 | L40: =9075.5-M40 -> 7325.5 | M40: 1750 | N40: ='EJEKUSAUN OCT 2025 '!N40+'EJEKUSAUN NOV 2025 '!L40 -> 14251.24 | O40: ='EJEKUSAUN OCT 2025 '!O40+'EJEKUSAUN NOV 2025 '!M40 -> 1750 | P40: =N40+O40 -> 16001.24 | Q40: =I40-P40 -> 10867.76 | R40: =P40/I40 -> 0.59552793
A41: 28 | B41: Aileu | C41: Remexio | D41: Fahisoi | E41: DIRUHATI | F41: KONSTRUSAUN | G41: ESTRADA BETAUN | H41: M | I41: 20899 | J41: =I41-K41 -> 17243.5 | K41: 3655.5 | L41: =5940-M41 -> 4190 | M41: 1750 | N41: ='EJEKUSAUN OCT 2025 '!N41+'EJEKUSAUN NOV 2025 '!L41 -> 9100.15 | O41: ='EJEKUSAUN OCT 2025 '!O41+'EJEKUSAUN NOV 2025 '!M41 -> 1750 | P41: =N41+O41 -> 10850.15 | Q41: =I41-P41 -> 10048.85 | R41: =P41/I41 -> 0.51917077
G42: ESTRADA RAI | I42: 3177 | N42: ='EJEKUSAUN OCT 2025 '!N42+'EJEKUSAUN NOV 2025 '!L42 -> 2425.85 | O42: ='EJEKUSAUN OCT 2025 '!O42+'EJEKUSAUN NOV 2025 '!M42 -> 0 | P42: =N42+O42 -> 2425.85 | Q42: =I42-P42 -> 751.15 | R42: =P42/I42 -> 0.76356626
A43: 29 | B43: Aileu | C43: Remexio | D43: Faturasa | E43: FACULAUN | F43: REHABILITASAUN | G43: REHABILITASAUN BEE MOS GRAVITASAUN | H43: KM | I43: 24076 | J43: =I43-K43 -> 19677.3 | K43: 4398.7 | L43: =3924-M43 -> 2174 | M43: 1750 | N43: ='EJEKUSAUN OCT 2025 '!N43+'EJEKUSAUN NOV 2025 '!L43 -> 14083.4 | O43: ='EJEKUSAUN OCT 2025 '!O43+'EJEKUSAUN NOV 2025 '!M43 -> 1750 | P43: =N43+O43 -> 15833.4 | Q43: =I43-P43 -> 8242.6 | R43: =P43/I43 -> 0.65764247
A44: 30 | B44: Aileu | C44: Remexio | D44: Hautoho | E44: AIBUTIHUN | F44: KONSTRUSAUN | G44: ESTRADA BETAUN | H44: KM | I44: 24076 | J44: =I44-K44 -> 20130 | K44: 3946 | L44: 6615 | N44: ='EJEKUSAUN OCT 2025 '!N44+'EJEKUSAUN NOV 2025 '!L44 -> 17752.65 | O44: ='EJEKUSAUN OCT 2025 '!O44+'EJEKUSAUN NOV 2025 '!M44 -> 0 | P44: =N44+O44 -> 17752.65 | Q44: =I44-P44 -> 6323.35 | R44: =P44/I44 -> 0.73735878
A45: 31 | B45: Aileu | C45: Remexio | D45: Maumeta | E45: TUKEU | F45: KONSTRUSAUN | G45: ESTRADA BETAUN | H45: KM | I45: 24076 | J45: =I45-K45 -> 20815 | K45: 3261 | L45: 1465 | N45: ='EJEKUSAUN OCT 2025 '!N45+'EJEKUSAUN NOV 2025 '!L45 -> 20515.65 | O45: ='EJEKUSAUN OCT 2025 '!O45+'EJEKUSAUN NOV 2025 '!M45 -> 3100 | P45: =N45+O45 -> 23615.65 | Q45: =I45-P45 -> 460.35 | R45: =P45/I45 -> 0.9808793
A46: 32 | B46: Aileu | C46: Remexio | D46: Suco Liurai (Remexio) | E46: MANUTANE | F46: REHABILITASAUN | G46: REHABILITASAUN SALA ESCOLA | H46: M2 | I46: 26722 | J46: =I46-K46 -> 22323.3 | K46: 4398.7 | N46: ='EJEKUSAUN OCT 2025 '!N46+'EJEKUSAUN NOV 2025 '!L46 -> 5375.44 | O46: ='EJEKUSAUN OCT 2025 '!O46+'EJEKUSAUN NOV 2025 '!M46 -> 0 | P46: =N46+O46 -> 5375.44 | Q46: =I46-P46 -> 21346.56 | R46: =P46/I46 -> 0.20116159
A47: 33 | B47: Aileu | C47: Remexio | D47: Tulataqueo | E47: SAMALETE | F47: KONSTRUSAUN | G47: KONSTRUSAUN BEE MOS SISTEMA BOMBA | H47: M2 | I47: 29515 | J47: =I47-K47 -> 27322.79 | K47: 2192.21 | N47: ='EJEKUSAUN OCT 2025 '!N47+'EJEKUSAUN NOV 2025 '!L47 -> 11530.03 | O47: ='EJEKUSAUN OCT 2025 '!O47+'EJEKUSAUN NOV 2025 '!M47 -> 0 | P47: =N47+O47 -> 11530.03 | Q47: =I47-P47 -> 17984.97 | R47: =P47/I47 -> 0.39064984
A48: Total | C48: Remexio | H48: 9 | I48: =SUM(I39:I47) -> 206279 | J48: =SUM(J39:J47) -> 173141.89 | K48: =SUM(K39:K47) -> 29960.11 | L48: =SUM(L39:L47) -> 23951.5 | M48: =SUM(M39:M47) -> 7450 | N48: =SUM(N39:N47) -> 101642.9 | O48: =SUM(O39:O47) -> 10550 | P48: =SUM(P39:P47) -> 112192.9 | Q48: =SUM(Q39:Q47) -> 94086.1 | R48: =P48/I48 -> 0.5438891
A49: Grand total | H49: =H48+H38+H30+H23 -> 36 | I49: =I48+I38+I30+I23 -> 811735 | J49: =J48+J38+J30+J23 -> 699843.63 | K49: =K48+K38+K30+K23 -> 108714.37 | L49: =L48+L38+L30+L23 -> 78559.7 | M49: =M48+M38+M30+M23 -> 14950 | N49: =N48+N38+N30+N23 -> 483908.29 | O49: =O48+O38+O30+O23 -> 34317.4 | ... Q49: =Q48+Q38+Q30+Q23 -> 293509.31 | R49: =P49/I49 -> 0.63841733
U51: Linha Setorais | V51: Nu Projeito
U52: Obras Publikas | V52: 21
U53: Agricultura | V53: 1
U54: Bee no Saneamentu | V54: 7
U55: Saude | V55: 1
U56: Edukasaun | V56: 4
U57: Seluk | V57: 2
U58: Total | V58: =SUBTOTAL(9,V52:V57) -> 36

Sheet EJEKUSAUN DEC 2025
A6: Relatorio Alokasaun Kontra Ejekusaun Tranferensia Publicas 2025 (Inf)
A7: Nu | B7: Munisipiu | C7: Postu Administrativu | D7: Suku | E7: Aldeia | F7: Aktividades | G7: Naran Projeito | H7: Unidade | I7: Total Orsamentu | J7: Kustu Estimasaun tuir POI | L7: Realizasaun Gastus | N7: Kumulativu Gastus | Q7: Balansu | R7: Purcentangen% Progresu | T7: Observasaun
J8: Material | K8: Insentivus | L8: Material | M8: Insentivus | N8: Material | O8: Insentivus | P8: Total | R8: Financas | S8: Fisiku | T8: Diff
A9: 1 | B9: Aileu | C9: Aileu VILLA | D9: Aissirimou | E9: BERKATI | F9: KONSTRUSAUN | G9: KONST.EST RAI+KONST.PASADEIRA+DEKER | H9: KM | I9: 24231 | J9: =I9-K9 -> 22836 | K9: 1395 | L9: 3416.5 | N9: ='EJEKUSAUN NOV 2025 '!N9+'EJEKUSAUN DEC 2025'!L9 -> 23042.11 | O9: ='EJEKUSAUN NOV 2025 '!O9+'EJEKUSAUN DEC 2025'!M9 -> 0 | P9: =N9+O9 -> 23042.11 | Q9: =I9-P9 -> 1188.89 | R9: =P9/I9 -> 0.95093517
A10: 2 | B10: Aileu | C10: Aileu VILLA | D10: Bandudato | E10: BANDUDATO | F10: KONSTRUSAUN | G10: MORU SATAN RAI & BRONJONG | H10: KM | I10: =21430+20.91 -> 21450.91 | J10: =I10-K10 -> 21450.91 | L10: =4325-M10 -> 3325 | M10: 1000 | N10: ='EJEKUSAUN NOV 2025 '!N10+'EJEKUSAUN DEC 2025'!L10 -> 16381.11 | O10: ='EJEKUSAUN NOV 2025 '!O10+'EJEKUSAUN DEC 2025'!M10 -> 1000 | P10: =N10+O10 -> 17381.11 | Q10: =I10-P10 -> 4069.8 | R10: =P10/I10 -> 0.81027378 | T10: =4069.8-Q10 -> 0
A11: 3 | B11: Aileu | C11: Aileu VILLA | D11: Fahiria | E11: SIDOLE | F11: KONSTRUSAUN | G11: KONST.EST BETAUN+PASADEIRA | H11: KM | I11: 17223 | J11: =I11-K11 -> 14314.5 | K11: 2908.5 | L11: =1460+1250+2845 -> 5555 | M11: 1234.1 | N11: ='EJEKUSAUN NOV 2025 '!N11+'EJEKUSAUN DEC 2025'!L11 -> 13238.2 | O11: ='EJEKUSAUN NOV 2025 '!O11+'EJEKUSAUN DEC 2025'!M11 -> 3984.1 | P11: =N11+O11 -> 17222.3 | Q11: =I11-P11 -> 0.7 | R11: =P11/I11 -> 0.99995936
E12: SARIN | F12: MANUTENSAUN | G12: REHAB.SEDE ALDEIA | H12: KM | I12: 7000 | J12: =I12-K12 -> 6500 | K12: 500 | L12: 725 | M12: 500 | N12: ='EJEKUSAUN NOV 2025 '!N12+'EJEKUSAUN DEC 2025'!L12 -> 6496.75 | O12: ='EJEKUSAUN NOV 2025 '!O12+'EJEKUSAUN DEC 2025'!M12 -> 500 | P12: =N12+O12 -> 6996.75 | Q12: =I12-P12 -> 3.25 | R12: =P12/I12 -> 0.99953571
A13: 4 | B13: Aileu | C13: Aileu VILLA | D13: Fatubossa | E13: CAICASA | F13: KONSTRUSAUN | G13: KONST.RESIDENCIA PROFESOR | H13: M2 | I13: 24076 | J13: =I13-K13 -> 24076 | L13: =6352.5-M13 -> 4852.5 | M13: 1500 | N13: ='EJEKUSAUN NOV 2025 '!N13+'EJEKUSAUN DEC 2025'!L13 -> 19414.9 | O13: ='EJEKUSAUN NOV 2025 '!O13+'EJEKUSAUN DEC 2025'!M13 -> 3000 | P13: =N13+O13 -> 22414.9 | Q13: =I13-P13 -> 1661.1 | R13: =P13/I13 -> 0.93100598
A14: 5 | B14: Aileu | C14: Aileu VILLA | D14: Hoholau | E14: MANUBATAN | F14: KONSTRUSAUN | G14: KONST. EST. BETAUN+DRAINAGEN+BRONJONG | H14: M | I14: 24076 | J14: =I14-K14 -> 20162 | K14: 3914 | N14: ='EJEKUSAUN NOV 2025 '!N14+'EJEKUSAUN DEC 2025'!L14 -> 23514.15 | O14: ='EJEKUSAUN NOV 2025 '!O14+'EJEKUSAUN DEC 2025'!M14 -> 0 | P14: =N14+O14 -> 23514.15 | Q14: =I14-P14 -> 561.85 | R14: =P14/I14 -> 0.97666348
A15: 6 | B15: Aileu | C15: Aileu VILLA | D15: Lahae | E15: RIATELU | F15: REHABILITASAUN | G15: REHAB.SISTEMA IRIGASAUN+KONST BRONJONG | H15: KM | I15: 24076 | J15: =I15-K15 -> 18304 | K15: 5772 | L15: =1409+1760+1400 -> 4569 | M15: 2000 | N15: ='EJEKUSAUN NOV 2025 '!N15+'EJEKUSAUN DEC 2025'!L15 -> 15437.8 | O15: ='EJEKUSAUN NOV 2025 '!O15+'EJEKUSAUN DEC 2025'!M15 -> 6040.4 | P15: =N15+O15 -> 21478.2 | Q15: =I15-P15 -> 2597.8 | R15: =P15/I15 -> 0.89210002
A16: 7 | B16: Aileu | C16: Aileu VILLA | D16: Lausi | E16: ERBUTI | F16: REHABILITASAUN | G16: KONST.RESIDENCIA PROFESOR | H16: KM | I16: 24076 | J16: =I16-K16 -> 19345 | K16: 4731 | L16: =60+203+1975+1590 -> 3828 | N16: ='EJEKUSAUN NOV 2025 '!N16+'EJEKUSAUN DEC 2025'!L16 -> 19062.3 | O16: ='EJEKUSAUN NOV 2025 '!O16+'EJEKUSAUN DEC 2025'!M16 -> 0 | P16: =N16+O16 -> 19062.3 | Q16: =I16-P16 -> 5013.7 | R16: =P16/I16 -> 0.79175527
A17: 8 | B17: Aileu | C17: Aileu VILLA | D17: Lequitura | E17: RIHEU | F17: KONSTRUSAUN | G17: KONST.EST RAI+KONST DRAINAGEN | H17: KM | I17: 24076 | J17: =I17-K17 -> 24076 | L17: =337.5+690+229 -> 1256.5 | N17: ='EJEKUSAUN NOV 2025 '!N17+'EJEKUSAUN DEC 2025'!L17 -> 23961.82 | O17: ='EJEKUSAUN NOV 2025 '!O17+'EJEKUSAUN DEC 2025'!M17 -> 0 | P17: =N17+O17 -> 23961.82 | Q17: =I17-P17 -> 114.18 | R17: =P17/I17 -> 0.99525752
A18: 9 | B18: Aileu | C18: Aileu VILLA | D18: Saboria | E18: SABORIA | F18: KONSTRUSAUN | G18: KONST. EST. BETAUN+DRAINAGEN | H18: KM | I18: 24076 | J18: =I18-K18 -> 19003 | K18: 5073 | L18: 5940 | N18: ='EJEKUSAUN NOV 2025 '!N18+'EJEKUSAUN DEC 2025'!L18 -> 19882.64 | O18: ='EJEKUSAUN NOV 2025 '!O18+'EJEKUSAUN DEC 2025'!M18 -> 0 | P18: =N18+O18 -> 19882.64 | Q18: =I18-P18 -> 4193.36 | R18: =P18/I18 -> 0.82582821
A19: 10 | B19: Aileu | C19: Aileu VILLA | D19: Seloi Craic | E19: COLIHOHO | F19: RAHABILITASAUN | G19: REHAB.SITEMA BEE MOS GRAVITASAUN | H19: M | I19: 16015.1 | J19: =I19-K19 -> 13323.65 | K19: 2691.45 | L19: =740+912.5 -> 1652.5 | M19: 1250 | N19: ='EJEKUSAUN NOV 2025 '!N19+'EJEKUSAUN DEC 2025'!L19 -> 13309.64 | O19: ='EJEKUSAUN NOV 2025 '!O19+'EJEKUSAUN DEC 2025'!M19 -> 1250 | P19: =N19+O19 -> 14559.64 | Q19: =I19-P19 -> 1455.46 | R19: =P19/I19 -> 0.90911952
F20: KONSTRUSAUN | G20: KONST.SISTEMA BEE MOS GRAVITASAUN | I20: 10853.9 | J20: =I20-K20 -> 9026.41 | K20: 1827.49 | L20: =790+805+210 -> 1805 | M20: 800 | N20: ='EJEKUSAUN NOV 2025 '!N20+'EJEKUSAUN DEC 2025'!L20 -> 6229.25 | O20: ='EJEKUSAUN NOV 2025 '!O20+'EJEKUSAUN DEC 2025'!M20 -> 800 | P20: =N20+O20 -> 7029.25 | Q20: =I20-P20 -> 3824.65 | R20: =P20/I20 -> 0.64762436
A21: 11 | B21: Aileu | C21: Aileu VILLA | D21: Seloi Malere | E21: COTABAURU | F21: REHABILITASAUN | G21: KONSTRUSAUN EST BETAUN | H21: KM | I21: 27016 | J21: =I21-K21 -> 27016 | L21: 10292.85 | N21: ='EJEKUSAUN NOV 2025 '!N21+'EJEKUSAUN DEC 2025'!L21 -> 27014.98 | O21: ='EJEKUSAUN NOV 2025 '!O21+'EJEKUSAUN DEC 2025'!M21 -> 0 | P21: =N21+O21 -> 27014.98 | Q21: =I21-P21 -> 1.02 | R21: =P21/I21 -> 0.99996224
A22: 12 | B22: Aileu | C22: Aileu VILLA | D22: Suco Liurai (Alieu Vila) | E22: FATULMAU | F22: KONSTRUSAUN | G22: BEE MOS SISTEMA GRAVITASAUN | H22: M2 | I22: 26869 | J22: =I22-K22 -> 22440.14 | K22: 4428.86 | L22: =1261+875+1950 -> 4086 | N22: ='EJEKUSAUN NOV 2025 '!N22+'EJEKUSAUN DEC 2025'!L22 -> 20082.74 | O22: ='EJEKUSAUN NOV 2025 '!O22+'EJEKUSAUN DEC 2025'!M22 -> 0 | P22: =N22+O22 -> 20082.74 | Q22: =I22-P22 -> 6786.26 | R22: =P22/I22 -> 0.74743161 | S22: =6786.26-Q22 -> 0 | V22: 2438 | W22: 2395
A23: Total | C23: Aileu VILLA | H23: 14 | I23: =SUM(I9:I22) -> 295114.91 | J23: =SUM(J9:J22) -> 261873.61 | K23: =SUM(K9:K22) -> 33241.3 | L23: =SUM(L9:L22) -> 51303.85 | M23: =SUM(M9:M22) -> 8284.1 | N23: =SUM(N9:N22) -> 247068.39 | O23: =SUM(O9:O22) -> 16574.5 | P23: =SUM(P9:P22) -> 263642.89 | Q23: =SUM(Q9:Q22) -> 31472.02 | R23: =P23/I23 -> 0.89335673 | V23: 3775 | W23: 2955
A24: 13 | B24: Aileu | C24: Laulara | D24: Bocolelo | E24: DONFONAMO | F24: KONSTRUSAUN | G24: ESTRADA RURAIS - ESTRADA RAI | H24: KM | I24: 26722 | J24: =I24-K24 -> 25487 | K24: 1235 | L24: =4366.5+820 -> 5186.5 | M24: 1235 | N24: ='EJEKUSAUN NOV 2025 '!N24+'EJEKUSAUN DEC 2025'!L24 -> 17803.78 | O24: ='EJEKUSAUN NOV 2025 '!O24+'EJEKUSAUN DEC 2025'!M24 -> 1235 | P24: =N24+O24 -> 19038.78 | Q24: =I24-P24 -> 7683.22 | R24: =P24/I24 -> 0.71247586 | V24: 15855 | W24: 13466.25
A25: 14 | B25: Aileu | C25: Laulara | D25: Cotolau | E25: ORNAI | F25: EXTENSAUN | G25: DAPUR E SALA MERENDA ESKOLAR | H25: M2 | I25: 26722 | J25: =I25-K25 -> 22068 | K25: 4654 | L25: =16814.75-M25 -> 12514.75 | M25: 4300 | N25: ='EJEKUSAUN NOV 2025 '!N25+'EJEKUSAUN DEC 2025'!L25 -> 19749.19 | O25: ='EJEKUSAUN NOV 2025 '!O25+'EJEKUSAUN DEC 2025'!M25 -> 4300 | P25: =N25+O25 -> 24049.19 | Q25: =I25-P25 -> 2672.81 | R25: =P25/I25 -> 0.89997717 | V25: 4654 | W25: 4300
A26: 15 | B26: Aileu | C26: Laulara | D26: Fatisi | E26: MAUBOUC | F26: KONSTRUSAUN | G26: ESTRADA BETAUN | H26: KM | I26: 26722 | J26: =I26-K26 -> 22775 | K26: 3947 | L26: 7704.5 | M26: 1070 | N26: ='EJEKUSAUN NOV 2025 '!N26+'EJEKUSAUN DEC 2025'!L26 -> 23887.94 | O26: ='EJEKUSAUN NOV 2025 '!O26+'EJEKUSAUN DEC 2025'!M26 -> 2570 | P26: =N26+O26 -> 26457.94 | Q26: =I26-P26 -> 264.06 | R26: =P26/I26 -> 0.99011825 | V26: =SUM(V22:V25) -> 26722 | W26: =SUM(W22:W25) -> 23116.25 | X26: =V26-W26 -> 3605.75 | Y26: 2672.81 | Z26: =X26-Y26 -> 932.94
A27: 16 | B27: Aileu | C27: Laulara | D27: Madabeno | E27: MANE HALO | F27: KONSTRUSAUN | G27: REHAB.SEDE ALDEIA | H27: KM | I27: 24076 | J27: =I27-K27 -> 20911 | K27: 3165 | L27: =5035.5-M27+6723 -> 8758.5 | M27: 3000 | N27: ='EJEKUSAUN NOV 2025 '!N27+'EJEKUSAUN DEC 2025'!L27 -> 20414.9 | O27: ='EJEKUSAUN NOV 2025 '!O27+'EJEKUSAUN DEC 2025'!M27 -> 3600 | P27: =N27+O27 -> 24014.9 | Q27: =I27-P27 -> 61.1 | R27: =P27/I27 -> 0.9974622
A28: 17 | B28: Aileu | C28: Laulara | D28: Talitu | E28: CASMANATUTO | F28: KONSTRUSAUN | G28: ESTRADA BETAUN | H28: KM | I28: 24076 | J28: =I28-K28 -> 20253 | K28: 3823 | L28: =9189-M28 -> 7718 | M28: 1471 | N28: ='EJEKUSAUN NOV 2025 '!N28+'EJEKUSAUN DEC 2025'!L28 -> 19765.65 | O28: ='EJEKUSAUN NOV 2025 '!O28+'EJEKUSAUN DEC 2025'!M28 -> 4271 | P28: =N28+O28 -> 24036.65 | Q28: =I28-P28 -> 39.35 | R28: =P28/I28 -> 0.99836559
A29: 18 | B29: Aileu | C29: Laulara | D29: Tohumeta | E29: TOHUMETA | F29: KONSTRUSAUN | G29: ESTRADA BETAUN | H29: KM | I29: 24076 | J29: =I29-K29 -> 20699 | K29: 3377 | L29: =8420.25-M29 -> 6620.25 | M29: 1800 | N29: ='EJEKUSAUN NOV 2025 '!N29+'EJEKUSAUN DEC 2025'!L29 -> 19052.15 | O29: ='EJEKUSAUN NOV 2025 '!O29+'EJEKUSAUN DEC 2025'!M29 -> 4877 | P29: =N29+O29 -> 23929.15 | Q29: =I29-P29 -> 146.85 | R29: =P29/I29 -> 0.99390056
A30: Total | C30: Laulara | H30: 6 | I30: =SUM(I24:I29) -> 152394 | J30: =SUM(J24:J29) -> 132193 | K30: =SUM(K24:K29) -> 20201 | L30: =SUM(L24:L29) -> 48502.5 | M30: =SUM(M24:M29) -> 12876 | N30: =SUM(N24:N29) -> 120673.61 | O30: =SUM(O24:O29) -> 20853 | P30: =SUM(P24:P29) -> 141526.61 | Q30: =SUM(Q24:Q29) -> 10867.39 | R30: =P30/I30 -> 0.92868886
A31: 19 | B31: Aileu | C31: Liquidoe | D31: Acubilitoho | E31: BILOCO | F31: REHABILITASAUN | G31: ESTRADA RURAIS - ESTRADA BETAUN | H31: KM | I31: 21430 | J31: =I31-K31 -> 17569 | K31: 3861 | M31: 1800 | N31: ='EJEKUSAUN NOV 2025 '!N31+'EJEKUSAUN DEC 2025'!L31 -> 16544.61 | O31: ='EJEKUSAUN NOV 2025 '!O31+'EJEKUSAUN DEC 2025'!M31 -> 3800 | P31: =N31+O31 -> 20344.61 | Q31: =I31-P31 -> 1085.39 | R31: =P31/I31 -> 0.94935184
A32: 20 | B32: Aileu | C32: Liquidoe | D32: Bereleu | E32: LEBUTU | F32: KONSTRUSAUN | G32: KONSTRUSAUN BEE MOS SISTEMA BOMBA | H32: KM | I32: 24076 | J32: =I32-K32 -> 19529.04 | K32: 4546.96 | L32: =5879.5+2450+5000-M32 -> 10879.5 | M32: 2450 | N32: ='EJEKUSAUN NOV 2025 '!N32+'EJEKUSAUN DEC 2025'!L32 -> 21207.95 | O32: ='EJEKUSAUN NOV 2025 '!O32+'EJEKUSAUN DEC 2025'!M32 -> 2450 | P32: =N32+O32 -> 23657.95 | Q32: =I32-P32 -> 418.05 | R32: =P32/I32 -> 0.98263624
A33: 21 | B33: Aileu | C33: Liquidoe | D33: Betulau | E33: NAUMATA | F33: REHABILITASAUN | G33: ESTRADA BETAUN | H33: M2 | I33: 24076 | J33: =I33-K33 -> 19419 | K33: 4657 | N33: ='EJEKUSAUN NOV 2025 '!N33+'EJEKUSAUN DEC 2025'!L33 -> 23947.15 | O33: ='EJEKUSAUN NOV 2025 '!O33+'EJEKUSAUN DEC 2025'!M33 -> 0 | P33: =N33+O33 -> 23947.15 | Q33: =I33-P33 -> 128.85 | R33: =P33/I33 -> 0.9946482
A34: 22 | B34: Aileu | C34: Liquidoe | D34: Fahisoi | E34: LOCOTOI | F34: KONSTRUSAUN | G34: ESTRADA RURAIS - ESTRADA BETAUN | H34: KM | I34: 21430 | J34: =I34-K34 -> 17641 | K34: 3789 | N34: ='EJEKUSAUN NOV 2025 '!N34+'EJEKUSAUN DEC 2025'!L34 -> 21360.86 | O34: ='EJEKUSAUN NOV 2025 '!O34+'EJEKUSAUN DEC 2025'!M34 -> 0 | P34: =N34+O34 -> 21360.86 | Q34: =I34-P34 -> 69.14 | R34: =P34/I34 -> 0.99677368
A35: 23 | B35: Aileu | C35: Liquidoe | D35: FATURILAU | E35: LEBUMERAN | F35: KONSTRUSAUN | G35: ESTRADA RURAIS - ESTRADA BETAUN | H35: KM | I35: 24076 | J35: =I35-K35 -> 19909 | K35: 4167 | L35: =3539+3500 -> 7039 | N35: ='EJEKUSAUN NOV 2025 '!N35+'EJEKUSAUN DEC 2025'!L35 -> 20000.15 | O35: ='EJEKUSAUN NOV 2025 '!O35+'EJEKUSAUN DEC 2025'!M35 -> 4000 | P35: =N35+O35 -> 24000.15 | Q35: =I35-P35 -> 75.85 | R35: =P35/I35 -> 0.99684956
A36: 24 | B36: Aileu | C36: Liquidoe | D36: Manucassa | E36: FATUKMRIN | F36: KONSTRUSAUN | G36: KONTRUSAUN RESIDENSIA PESSOAL SAUDE | H36: M2 | I36: 21430 | J36: =I36-K36 -> 17564 | K36: 3866 | L36: 4804.8 | M36: 2300 | N36: ='EJEKUSAUN NOV 2025 '!N36+'EJEKUSAUN DEC 2025'!L36 -> 13762.66 | O36: ='EJEKUSAUN NOV 2025 '!O36+'EJEKUSAUN DEC 2025'!M36 -> 3800 | P36: =N36+O36 -> 17562.66 | Q36: =I36-P36 -> 3867.34 | R36: =P36/I36 -> 0.81953616
A37: 25 | B37: Aileu | C37: Liquidoe | D37: Namolesso | E37: AITOIN | F37: KONSTRUSAUN | G37: ESTRADA RURAIS - ESTRADA RAI | H37: KM | I37: 21430 | J37: =I37-K37 -> 19505 | K37: 1925 | L37: 1100 | N37: ='EJEKUSAUN NOV 2025 '!N37+'EJEKUSAUN DEC 2025'!L37 -> 21329.66 | O37: ='EJEKUSAUN NOV 2025 '!O37+'EJEKUSAUN DEC 2025'!M37 -> 0 | P37: =N37+O37 -> 21329.66 | Q37: =I37-P37 -> 100.34 | R37: =P37/I37 -> 0.99531778
A38: Total | C38: Liquidoe | H38: 7 | I38: =SUM(I31:I37) -> 157948 | J38: =SUM(J31:J37) -> 131136.04 | K38: =SUM(K31:K37) -> 26811.96 | L38: =SUM(L31:L37) -> 23823.3 | M38: =SUM(M31:M37) -> 6550 | N38: =SUM(N31:N37) -> 138153.04 | O38: =SUM(O31:O37) -> 14050 | P38: =SUM(P31:P37) -> 152203.04 | Q38: =SUM(Q31:Q37) -> 5744.96 | R38: =P38/I38 -> 0.96362752
A39: 26 | B39: Aileu | C39: Remexio | D39: Acumau | E39: FATUMANARUK | F39: REHABILITASAUN | G39: REHABILITASAUN BA ESTRADA | H39: M | I39: 26869 | J39: =I39-K39 -> 22553 | K39: 4316 | L39: =13567.5-M39 -> 11567.5 | M39: 2000 | N39: ='EJEKUSAUN NOV 2025 '!N39+'EJEKUSAUN DEC 2025'!L39 -> 18175.99 | O39: ='EJEKUSAUN NOV 2025 '!O39+'EJEKUSAUN DEC 2025'!M39 -> 4200 | P39: =N39+O39 -> 22375.99 | Q39: =I39-P39 -> 4493.01 | R39: =P39/I39 -> 0.8327809
A40: 27 | B40: Aileu | C40: Remexio | D40: Fadabloco | E40: RAIFATU | F40: KONSTRUSAUN | G40: KONSTRUSAUN BEE MOS SISTEMA BOMBA | H40: M2 | I40: 26869 | J40: =I40-K40 -> 23077 | K40: 3792 | L40: =5004-M40 -> 3254 | M40: 1750 | N40: ='EJEKUSAUN NOV 2025 '!N40+'EJEKUSAUN DEC 2025'!L40 -> 17505.24 | O40: ='EJEKUSAUN NOV 2025 '!O40+'EJEKUSAUN DEC 2025'!M40 -> 3500 | P40: =N40+O40 -> 21005.24 | Q40: =I40-P40 -> 5863.76 | R40: =P40/I40 -> 0.78176486
A41: 28 | B41: Aileu | C41: Remexio | D41: Fahisoi | E41: DIRUHATI | F41: KONSTRUSAUN | G41: ESTRADA BETAUN | H41: M | I41: 20899 | J41: =I41-K41 -> 17243.5 | K41: 3655.5 | L41: =7569-M41 -> 5819 | M41: 1750 | N41: ='EJEKUSAUN NOV 2025 '!N41+'EJEKUSAUN DEC 2025'!L41 -> 14919.15 | O41: ='EJEKUSAUN NOV 2025 '!O41+'EJEKUSAUN DEC 2025'!M41 -> 3500 | P41: =N41+O41 -> 18419.15 | Q41: =I41-P41 -> 2479.85 | R41: =P41/I41 -> 0.88134121
G42: ESTRADA RAI | I42: 3177 | N42: ='EJEKUSAUN NOV 2025 '!N42+'EJEKUSAUN DEC 2025'!L42 -> 2425.85 | O42: ='EJEKUSAUN NOV 2025 '!O42+'EJEKUSAUN DEC 2025'!M42 -> 0 | P42: =N42+O42 -> 2425.85 | Q42: =I42-P42 -> 751.15 | R42: =P42/I42 -> 0.76356626
A43: 29 | B43: Aileu | C43: Remexio | D43: Faturasa | E43: FACULAUN | F43: REHABILITASAUN | G43: REHABILITASAUN BEE MOS GRAVITASAUN | H43: KM | I43: 24076 | J43: =I43-K43 -> 19677.3 | K43: 4398.7 | L43: =6890.5-M43 -> 5140.5 | M43: 1750 | N43: ='EJEKUSAUN NOV 2025 '!N43+'EJEKUSAUN DEC 2025'!L43 -> 19223.9 | O43: ='EJEKUSAUN NOV 2025 '!O43+'EJEKUSAUN DEC 2025'!M43 -> 3500 | P43: =N43+O43 -> 22723.9 | Q43: =I43-P43 -> 1352.1 | R43: =P43/I43 -> 0.94384034
A44: 30 | B44: Aileu | C44: Remexio | D44: Hautoho | E44: AIBUTIHUN | F44: KONSTRUSAUN | G44: ESTRADA BETAUN | H44: KM | I44: 24076 | J44: =I44-K44 -> 20130 | K44: 3946 | L44: =5992.5-M44 -> 4992.5 | M44: 1000 | N44: ='EJEKUSAUN NOV 2025 '!N44+'EJEKUSAUN DEC 2025'!L44 -> 22745.15 | O44: ='EJEKUSAUN NOV 2025 '!O44+'EJEKUSAUN DEC 2025'!M44 -> 1000 | P44: =N44+O44 -> 23745.15 | Q44: =I44-P44 -> 330.85 | R44: =P44/I44 -> 0.9862581
A45: 31 | B45: Aileu | C45: Remexio | D45: Maumeta | E45: TUKEU | F45: KONSTRUSAUN | G45: ESTRADA BETAUN | H45: KM | I45: 24076 | J45: =I45-K45 -> 20815 | K45: 3261 | N45: ='EJEKUSAUN NOV 2025 '!N45+'EJEKUSAUN DEC 2025'!L45 -> 20515.65 | O45: ='EJEKUSAUN NOV 2025 '!O45+'EJEKUSAUN DEC 2025'!M45 -> 3100 | P45: =N45+O45 -> 23615.65 | Q45: =I45-P45 -> 460.35 | R45: =P45/I45 -> 0.9808793
A46: 32 | B46: Aileu | C46: Remexio | D46: Suco Liurai (Remexio) | E46: MANUTANE | F46: REHABILITASAUN | G46: REHABILITASAUN SALA ESCOLA | H46: M2 | I46: 26722 | J46: =I46-K46 -> 22323.3 | K46: 4398.7 | L46: =17635.25-M46 -> 13835.25 | M46: =1900+1900 -> 3800 | N46: ='EJEKUSAUN NOV 2025 '!N46+'EJEKUSAUN DEC 2025'!L46 -> 19210.69 | O46: ='EJEKUSAUN NOV 2025 '!O46+'EJEKUSAUN DEC 2025'!M46 -> 3800 | P46: =N46+O46 -> 23010.69 | Q46: =I46-P46 -> 3711.31 | R46: =P46/I46 -> 0.86111406
A47: 33 | B47: Aileu | C47: Remexio | D47: Tulataqueo | E47: SAMALETE | F47: KONSTRUSAUN | G47: KONSTRUSAUN BEE MOS SISTEMA BOMBA | H47: M2 | I47: 29515 | J47: =I47-K47 -> 27322.79 | K47: 2192.21 | L47: 15269.5 | M47: 2192 | N47: ='EJEKUSAUN NOV 2025 '!N47+'EJEKUSAUN DEC 2025'!L47 -> 26799.53 | O47: ='EJEKUSAUN NOV 2025 '!O47+'EJEKUSAUN DEC 2025'!M47 -> 2192 | P47: =N47+O47 -> 28991.53 | Q47: =I47-P47 -> 523.47 | R47: =P47/I47 -> 0.98226427
A48: Total | C48: Remexio | H48: 9 | I48: =SUM(I39:I47) -> 206279 | J48: =SUM(J39:J47) -> 173141.89 | K48: =SUM(K39:K47) -> 29960.11 | L48: =SUM(L39:L47) -> 59878.25 | M48: =SUM(M39:M47) -> 14242 | N48: =SUM(N39:N47) -> 161521.15 | O48: =SUM(O39:O47) -> 24792 | P48: =SUM(P39:P47) -> 186313.15 | Q48: =SUM(Q39:Q47) -> 19965.85 | R48: =P48/I48 -> 0.90320949
A49: Grand total | H49: =H48+H38+H30+H23 -> 36 | I49: =I48+I38+I30+I23 -> 811735.91 | J49: =J48+J38+J30+J23 -> 698344.54 | K49: =K48+K38+K30+K23 -> 110214.37 | L49: =L48+L38+L30+L23 -> 183507.9 | M49: =M48+M38+M30+M23 -> 41952.1 | N49: =N48+N38+N30+N23 -> 667416.19 | O49: =O48+O38+O30+O23 -> 76269.5 | ... Q49: =Q48+Q38+Q30+Q23 -> 68050.22 | R49: =P49/I49 -> 0.91616705
U51: Linha Setorais | V51: Nu Projeito
U52: Obras Publikas | V52: 21
U53: Agricultura | V53: 1
U54: Bee no Saneamentu | V54: 7
U55: Saude | V55: 1
U56: Edukasaun | V56: 4
U57: Seluk | V57: 2
U58: Total | V58: =SUBTOTAL(9,V52:V57) -> 36
