Workbook

Sheet Sheet1
G28: Bee Mos
G29: Estrada Betaun

Sheet PROGRESU EJEKUSAUN INF 2025
A6: Relatorio Alokasaun Kontra Ejekusaun Tranferensia Publicas 2025 (Inf)
A7: Nu | B7: Munisipiu | C7: Postu Administrativu | D7: Suku | E7: Aldeia | F7: Aktividades | G7: Naran Projeito | H7: Unidade | I7: Kustu Estimasaun tuir POI | J7: Menus Fee bank | K7: Kumulativu | L7: Balansu | M7: Purcentangen% Progresu | O7: Observasaun
M8: Financas | N8: Fisiku
A9: 1 | B9: Aileu | C9: Aileu VILLA | D9: Aissirimou | E9: BERKATI | F9: KONSTRUSAUN | G9: ESTRADA RURAIS - ESTRADA RAI | H9: KM | I9: 24231 | J9: 48.46 | K9: =J9 -> 48.46 | L9: =I9-J9 -> 24182.54 | M9: =J9/I9 -> 0.0019999175 | O9: Osan tama iha 02/07/2025
A10: 2 | B10: Aileu | C10: Aileu VILLA | D10: Bandudato | E10: BANDUDATO | F10: KONSTRUSAUN | G10: MORU SATAN RAI & BRONJONG | H10: KM | I10: =21430+20 -> 21450 | J10: 42.86 | K10: =J10 -> 42.86 | L10: =I10-J10 -> 21407.14 | M10: =J10/I10 -> 0.0019981352 | O10: Osan tama iha 02/07/2025
A11: 3 | B11: Aileu | C11: Aileu VILLA | D11: Fahiria | E11: SIDOLE | F11: KONSTRUSAUN | G11: ESTRADA RURAIS - ESTRADA BETAUN & DRAINAZEN | H11: KM | I11: 17223 | J11: 48.45 | K11: =J11 -> 48.45 | L11: =I11-J11 -> 17174.55 | M11: =J11/I11 -> 0.0028130988 | O11: Osan tama iha 02/07/2025
E12: SARIN | F12: MANUTENSAUN | G12: Rehabilitasaun Sede Aldeia | H12: KM | I12: 7000 | J12: 0 | K12: =J12 -> 0 | L12: =I12-J12 -> 7000 | M12: =J12/I12 -> 0 | O12: Osan tama iha 02/07/2025
A13: 4 | B13: Aileu | C13: Aileu VILLA | D13: Fatubossa | E13: CAICASA | F13: KONSTRUSAUN | G13: ESCOLA PRE PRIMARIA | H13: M2 | I13: 24076 | J13: 48.15 | K13: =J13 -> 48.15 | L13: =I13-J13 -> 24027.85 | M13: =J13/I13 -> 0.0019999169 | O13: Osan tama iha 02/07/2025
A14: 5 | B14: Aileu | C14: Aileu VILLA | D14: Hoholau | E14: MANUBATAN | F14: KONSTRUSAUN | G14: ESTRADA RURAIS- ESTRADA BETAUN | H14: M | I14: 24076 | J14: 48.15 | K14: =J14 -> 48.15 | L14: =I14-J14 -> 24027.85 | M14: =J14/I14 -> 0.0019999169 | O14: Osan tama iha 02/07/2025
A15: 6 | B15: Aileu | C15: Aileu VILLA | D15: Lahae | E15: RIATELU | F15: REHABILITASAUN | G15: KONSTRUSAUN IRIGASAUN | H15: KM | I15: 24076 | J15: 48.15 | K15: =J15 -> 48.15 | L15: =I15-J15 -> 24027.85 | M15: =J15/I15 -> 0.0019999169 | O15: Osan tama iha 02/07/2025
A16: 7 | B16: Aileu | C16: Aileu VILLA | D16: Lausi | E16: ERBUTI | F16: REHABILITASAUN | G16: EXTENSAUN SALA PROFESSOR | H16: KM | I16: 24076 | J16: 48.15 | K16: =J16 -> 48.15 | L16: =I16-J16 -> 24027.85 | M16: =J16/I16 -> 0.0019999169 | O16: Osan tama iha 02/07/2025
A17: 8 | B17: Aileu | C17: Aileu VILLA | D17: Lequitura | E17: RIHEU | F17: KONSTRUSAUN | G17: ESTRADA RURAIS - ESTRADA RAI | H17: KM | I17: 24076 | J17: 48.15 | K17: =J17 -> 48.15 | L17: =I17-J17 -> 24027.85 | M17: =J17/I17 -> 0.0019999169 | O17: Osan tama iha 02/07/2025
A18: 9 | B18: Aileu | C18: Aileu VILLA | D18: Saboria | E18: SABORIA | F18: KONSTRUSAUN | G18: ESTRADA RURAIS - ESTRADA BETAUN | H18: KM | I18: 24076 | J18: 48.14 | K18: =J18 -> 48.14 | L18: =I18-J18 -> 24027.86 | M18: =J18/I18 -> 0.0019995016 | O18: Osan tama iha 02/07/2025
A19: 10 | B19: Aileu | C19: Aileu VILLA | D19: Seloi Craic | E19: COLIHOHO | F19: RAHABILITASAUN | G19: Rehabilitasaun Bee Mos | H19: M | I19: 16015.1 | J19: 53.74 | K19: =J19 -> 53.74 | L19: =I19-J19 -> 15961.36 | M19: =J19/I19 -> 0.0033555832 | O19: Osan tama iha 02/07/2025
G20: KONSTRUSAUN BEE MOS | I20: 10853.9 | K20: =J20 -> 0
A21: 11 | B21: Aileu | C21: Aileu VILLA | D21: Seloi Malere | E21: COTABAURU | F21: REHABILITASAUN | G21: KONSTRUSAUN EST BETAUN | H21: KM | I21: 27016 | J21: 54.03 | K21: =J21 -> 54.03 | L21: =I21-J21 -> 26961.97 | M21: =J21/I21 -> 0.001999926 | O21: Osan tama iha 02/07/2025
A22: 12 | B22: Aileu | C22: Aileu VILLA | D22: Suco Liurai (Alieu Vila) | E22: FATULMAU | F22: KONSTRUSAUN | G22: BEE MOS SISTEMA GRAVITASAUN | H22: M2 | I22: 26869 | J22: 53.74 | K22: =J22 -> 53.74 | L22: =I22-J22 -> 26815.26 | M22: =J22/I22 -> 0.0020000744 | O22: Osan tama iha 02/07/2025
A23: Total | I23: =SUM(I9:I22) -> 295114 | J23: =SUM(J9:J22) -> 590.17 | K23: =SUM(K9:K22) -> 590.17 | L23: =SUM(L9:L22) -> 283669.93 | M23: =SUM(M9:M22) -> 0.026165821
A24: 13 | B24: Aileu | C24: Laulara | D24: Bocolelo | E24: DONFONAMO | F24: KONSTRUSAUN | G24: ESTRADA RURAIS - ESTRADA RAI | H24: KM | I24: 26722 | J24: 53.44 | K24: =J24 -> 53.44 | L24: =I24-J24 -> 26668.56 | M24: =J24/I24 -> 0.0019998503 | O24: Osan tama iha 02/07/2025
A25: 14 | B25: Aileu | C25: Laulara | D25: Cotolau | E25: ORNAI | F25: EXTENSAUN | G25: ESTRADA BETAUN | H25: M2 | I25: 26722 | J25: 53.44 | K25: =J25 -> 53.44 | L25: =I25-J25 -> 26668.56 | M25: =J25/I25 -> 0.0019998503 | O25: Osan tama iha 02/07/2025
A26: 15 | B26: Aileu | C26: Laulara | D26: Fatisi | E26: MAUBOUC | F26: KONSTRUSAUN | G26: ESTRADA BETAUN | H26: KM | I26: 26722 | J26: 53.44 | K26: =J26 -> 53.44 | L26: =I26-J26 -> 26668.56 | M26: =J26/I26 -> 0.0019998503 | O26: Osan tama iha 02/07/2025
A27: 16 | B27: Aileu | C27: Laulara | D27: Madabeno | E27: MANE HALO | F27: KONSTRUSAUN | G27: Rehabilitasaun Sede Aldeia | H27: KM | I27: 24076 | J27: 48.15 | K27: =J27 -> 48.15 | L27: =I27-J27 -> 24027.85 | M27: =J27/I27 -> 0.0019999169 | O27: Osan tama iha 02/07/2025
A28: 17 | B28: Aileu | C28: Laulara | D28: Talitu | E28: CASMANATUTO | F28: KONSTRUSAUN | G28: Bee Mos | H28: KM | I28: 24076 | J28: 48.15 | K28: =J28 -> 48.15 | L28: =I28-J28 -> 24027.85 | M28: =J28/I28 -> 0.0019999169 | O28: Osan tama iha 02/07/2025
A29: 18 | B29: Aileu | C29: Laulara | D29: Tohumeta | E29: TOHUMETA | F29: KONSTRUSAUN | G29: ESTRADA BETAUN | H29: KM | I29: 24076 | J29: 48.15 | K29: =J29 -> 48.15 | L29: =I29-J29 -> 24027.85 | M29: =J29/I29 -> 0.0019999169 | O29: Osan tama iha 02/07/2025
A30: Total | I30: =SUM(I24:I29) -> 152394 | J30: =SUM(J24:J29) -> 304.77 | K30: =SUM(K24:K29) -> 304.77 | L30: =SUM(L24:L29) -> 152089.23 | M30: =SUM(M24:M29) -> 0.011999302
A31: 19 | B31: Aileu | C31: Liquidoe | D31: Acubilitoho | E31: BILOCO | F31: REHABILITASAUN | G31: ESTRADA RURAIS - ESTRADA BETAUN | H31: KM | I31: 21430 | J31: 42.86 | K31: =J31 -> 42.86 | L31: =I31-J31 -> 21387.14 | M31: =J31/I31 -> 0.002 | O31: Osan tama iha 02/07/2025
A32: 20 | B32: Aileu | C32: Liquidoe | D32: Bereleu | E32: LEBUTU | F32: KONSTRUSAUN | G32: KONSTRUSAUN BEE MOS SISTEMA BOMBA | H32: KM | I32: 24076 | J32: 0 | K32: =J32 -> 0 | L32: =I32-J32 -> 24076 | M32: =J32/I32 -> 0 | O32: Osan tama iha 02/07/2025
A33: 21 | B33: Aileu | C33: Liquidoe | D33: Betulau | E33: NAUMATA | F33: REHABILITASAUN | G33: ESTRADA BETAUN | H33: M2 | I33: 24076 | J33: 48.15 | K33: =J33 -> 48.15 | L33: =I33-J33 -> 24027.85 | M33: =J33/I33 -> 0.0019999169 | O33: Osan tama iha 02/07/2025
A34: 22 | B34: Aileu | C34: Liquidoe | D34: Fahisoi | E34: LOCOTOI | F34: KONSTRUSAUN | G34: ESTRADA RURAIS - ESTRADA BETAUN | H34: KM | I34: 21430 | J34: 42.86 | K34: =J34 -> 42.86 | L34: =I34-J34 -> 21387.14 | M34: =J34/I34 -> 0.002 | O34: Osan tama iha 02/07/2025
A35: 23 | B35: Aileu | C35: Liquidoe | D35: FATURILAU | E35: LEBUMERAN | F35: KONSTRUSAUN | G35: ESTRADA RURAIS - ESTRADA BETAUN | H35: KM | I35: 24076 | J35: 48.15 | K35: =J35 -> 48.15 | L35: =I35-J35 -> 24027.85 | M35: =J35/I35 -> 0.0019999169 | O35: Osan tama iha 02/07/2025
A36: 24 | B36: Aileu | C36: Liquidoe | D36: Manucassa | E36: FATUKMRIN | F36: KONSTRUSAUN | G36: KONTRUSAUN RESIDENSIA PESSOAL SAUDE | H36: M2 | I36: 21430 | J36: 42.86 | K36: =J36 -> 42.86 | L36: =I36-J36 -> 21387.14 | M36: =J36/I36 -> 0.002 | O36: Osan tama iha 02/07/2025
A37: 25 | B37: Aileu | C37: Liquidoe | D37: Namolesso | E37: AITOIN | F37: KONSTRUSAUN | G37: ESTRADA RURAIS - ESTRADA RAI | H37: KM | I37: 21430 | J37: 42.86 | K37: =J37 -> 42.86 | L37: =I37-J37 -> 21387.14 | M37: =J37/I37 -> 0.002 | O37: Osan tama iha 02/07/2025
A38: Total | I38: =SUM(I31:I37) -> 157948 | J38: =SUM(J31:J37) -> 267.74 | K38: =SUM(K31:K37) -> 267.74 | L38: =SUM(L31:L37) -> 157680.26 | M38: =SUM(M31:M37) -> 0.011999834
A39: 26 | B39: Aileu | C39: Remexio | D39: Acumau | E39: FATUMANARUK | F39: REHABILITASAUN | G39: REHABILITASAUN BA ESTRADA | H39: M | I39: 26869 | J39: 53.74 | K39: =J39 -> 53.74 | L39: =I39-J39 -> 26815.26 | M39: =J39/I39 -> 0.0020000744 | O39: Osan tama iha 02/07/2025
A40: 27 | B40: Aileu | C40: Remexio | D40: Fadabloco | E40: RAIFATU | F40: KONSTRUSAUN | G40: KONSTRUSAUN BEE MOS SISTEMA BOMBA | H40: M2 | I40: 26869 | J40: 53.74 | K40: =J40 -> 53.74 | L40: =I40-J40 -> 26815.26 | M40: =J40/I40 -> 0.0020000744 | O40: Osan tama iha 02/07/2025
A41: 28 | B41: Aileu | C41: Remexio | D41: Fahisoi | E41: DIRUHATI | F41: KONSTRUSAUN | G41: ESTRADA BETAUN | H41: M | I41: 20899 | J41: 48.15 | K41: =J41 -> 48.15 | L41: =I41-J41 -> 20850.85 | M41: =J41/I41 -> 0.002303938 | O41: Osan tama iha 02/07/2025
G42: ESTRADA RAI | I42: 3177
A43: 29 | B43: Aileu | C43: Remexio | D43: Faturasa | E43: FACULAUN | F43: REHABILITASAUN | G43: REHABILITASAUN BEE MOS GRAVITASAUN | H43: KM | I43: 24076 | J43: 48.15 | K43: =J43 -> 48.15 | L43: =I43-J43 -> 24027.85 | M43: =J43/I43 -> 0.0019999169 | O43: Osan tama iha 02/07/2025
A44: 30 | B44: Aileu | C44: Remexio | D44: Hautoho | E44: AIBUTIHUN | F44: KONSTRUSAUN | G44: ESTRADA BETAUN | H44: KM | I44: 24076 | J44: 48.15 | K44: =J44 -> 48.15 | L44: =I44-J44 -> 24027.85 | M44: =J44/I44 -> 0.0019999169 | O44: Osan tama iha 02/07/2025
A45: 31 | B45: Aileu | C45: Remexio | D45: Maumeta | E45: TUKEU | F45: KONSTRUSAUN | G45: ESTRADA BETAUN | H45: KM | I45: 24076 | J45: 48.15 | K45: =J45 -> 48.15 | L45: =I45-J45 -> 24027.85 | M45: =J45/I45 -> 0.0019999169 | O45: Osan tama iha 02/07/2025
...

Sheet EJEKUSAUN JULHO 2025
A6: Relatorio Alokasaun Kontra Ejekusaun Tranferensia Publicas 2025 (Inf)
A7: Nu | B7: Munisipiu | C7: Postu Administrativu | D7: Suku | E7: Aldeia | F7: Aktividades | G7: Naran Projeito | H7: Unidade | I7: Total Orsamentu | J7: Kustu Estimasaun tuir POI | L7: Realizasaun Gastus | N7: Kumulativu Gastus | Q7: Balansu | R7: Purcentangen% Progresu | T7: Observasaun
J8: Material | K8: Insentivus | L8: Material | M8: Insentivus | N8: Material | O8: Insentivus | P8: Total | R8: Financas | S8: Fisiku
A9: 1 | B9: Aileu | C9: Aileu VILLA | D9: Aissirimou | E9: BERKATI | F9: KONSTRUSAUN | G9: KONST.EST RAI+KONST.PASADEIRA+DEKER | H9: KM | I9: 24231 | J9: =I9-K9 -> 22836 | K9: 1395 | L9: 48.46 | N9: =L9 -> 48.46 | O9: =M9 -> 0 | P9: =N9+O9 -> 48.46 | Q9: =I9-P9 -> 24182.54 | R9: =P9/I9 -> 0.0019999175
A10: 2 | B10: Aileu | C10: Aileu VILLA | D10: Bandudato | E10: BANDUDATO | F10: KONSTRUSAUN | G10: MORU SATAN RAI & BRONJONG | H10: KM | I10: =21430+20 -> 21450 | J10: =I10-K10 -> 16910 | K10: 4540 | L10: 1342.86 | N10: =L10 -> 1342.86 | O10: =M10 -> 0 | P10: =N10+O10 -> 1342.86 | Q10: =I10-P10 -> 20107.14 | R10: =P10/I10 -> 0.062604196
A11: 3 | B11: Aileu | C11: Aileu VILLA | D11: Fahiria | E11: SIDOLE | F11: KONSTRUSAUN | G11: KONST.EST BETAUN+PASADEIRA | H11: KM | I11: 17223 | J11: =I11-K11 -> 12551.5 | K11: =2908.5+1763 -> 4671.5 | L11: 48.45 | N11: =L11 -> 48.45 | O11: =M11 -> 0 | P11: =N11+O11 -> 48.45 | Q11: =I11-P11 -> 17174.55 | R11: =P11/I11 -> 0.0028130988
E12: SARIN | F12: MANUTENSAUN | G12: REHAB.SEDE ALDEIA | H12: KM | I12: 7000 | J12: =I12-K12 -> 6500 | K12: 500 | L12: 0 | N12: =L12 -> 0 | O12: =M12 -> 0 | P12: =N12+O12 -> 0 | Q12: =I12-P12 -> 7000 | R12: =P12/I12 -> 0
A13: 4 | B13: Aileu | C13: Aileu VILLA | D13: Fatubossa | E13: CAICASA | F13: KONSTRUSAUN | G13: KONST.RESIDENCIA PROFESOR | H13: M2 | I13: 24076 | J13: =I13-K13 -> 20420.5 | K13: 3655.5 | L13: 48.15 | N13: =L13 -> 48.15 | O13: =M13 -> 0 | P13: =N13+O13 -> 48.15 | Q13: =I13-P13 -> 24027.85 | R13: =P13/I13 -> 0.0019999169
A14: 5 | B14: Aileu | C14: Aileu VILLA | D14: Hoholau | E14: MANUBATAN | F14: KONSTRUSAUN | G14: KONST. EST. BETAUN+DRAINAGEN+BRONJONG | H14: M | I14: 24076 | J14: =I14-K14 -> 20162 | K14: 3914 | L14: 48.15 | N14: =L14 -> 48.15 | O14: =M14 -> 0 | P14: =N14+O14 -> 48.15 | Q14: =I14-P14 -> 24027.85 | R14: =P14/I14 -> 0.0019999169
A15: 6 | B15: Aileu | C15: Aileu VILLA | D15: Lahae | E15: RIATELU | F15: REHABILITASAUN | G15: REHAB.SISTEMA IRIGASAUN+KONST BRONJONG | H15: KM | I15: 24076 | J15: =I15-K15 -> 18304 | K15: 5772 | L15: 48.15 | N15: =L15 -> 48.15 | O15: =M15 -> 0 | P15: =N15+O15 -> 48.15 | Q15: =I15-P15 -> 24027.85 | R15: =P15/I15 -> 0.0019999169
A16: 7 | B16: Aileu | C16: Aileu VILLA | D16: Lausi | E16: ERBUTI | F16: REHABILITASAUN | G16: KONST.RESIDENCIA PROFESOR | H16: KM | I16: 24076 | J16: =I16-K16 -> 19345 | K16: 4731 | L16: 48.15 | N16: =L16 -> 48.15 | O16: =M16 -> 0 | P16: =N16+O16 -> 48.15 | Q16: =I16-P16 -> 24027.85 | R16: =P16/I16 -> 0.0019999169
A17: 8 | B17: Aileu | C17: Aileu VILLA | D17: Lequitura | E17: RIHEU | F17: KONSTRUSAUN | G17: KONST.EST RAI+KONST DRAINAGEN | H17: KM | I17: 24076 | J17: =I17-K17 -> 22347 | K17: 1729 | L17: 16802.32 | N17: =L17 -> 16802.32 | O17: =M17 -> 0 | P17: =N17+O17 -> 16802.32 | Q17: =I17-P17 -> 7273.68 | R17: =P17/I17 -> 0.69788669
A18: 9 | B18: Aileu | C18: Aileu VILLA | D18: Saboria | E18: SABORIA | F18: KONSTRUSAUN | G18: KONST. EST. BETAUN+DRAINAGEN | H18: KM | I18: 24076 | J18: =I18-K18 -> 19003 | K18: 5073 | L18: 6488.14 | N18: =L18 -> 6488.14 | O18: =M18 -> 0 | P18: =N18+O18 -> 6488.14 | Q18: =I18-P18 -> 17587.86 | R18: =P18/I18 -> 0.26948579
A19: 10 | B19: Aileu | C19: Aileu VILLA | D19: Seloi Craic | E19: COLIHOHO | F19: RAHABILITASAUN | G19: REHAB.SITEMA BEE MOS GRAVITASAUN | H19: M | I19: 16015.1 | J19: =I19-K19 -> 13323.65 | K19: 2691.45 | L19: 53.74 | N19: =L19 -> 53.74 | O19: =M19 -> 0 | P19: =N19+O19 -> 53.74 | Q19: =I19-P19 -> 15961.36 | R19: =P19/I19 -> 0.0033555832
F20: KONSTRUSAUN | G20: KONST.SISTEMA BEE MOS GRAVITASAUN | I20: 10853.9 | J20: =I20-K20 -> 9026.41 | K20: 1827.49 | L20: 0 | N20: =L20 -> 0 | O20: =M20 -> 0 | P20: =N20+O20 -> 0 | Q20: =I20-P20 -> 10853.9 | R20: =P20/I20 -> 0
A21: 11 | B21: Aileu | C21: Aileu VILLA | D21: Seloi Malere | E21: COTABAURU | F21: REHABILITASAUN | G21: KONSTRUSAUN EST BETAUN | H21: KM | I21: 27016 | J21: =I21-K21 -> 22940 | K21: 4076 | L21: 54.03 | N21: =L21 -> 54.03 | O21: =M21 -> 0 | P21: =N21+O21 -> 54.03 | Q21: =I21-P21 -> 26961.97 | R21: =P21/I21 -> 0.001999926
A22: 12 | B22: Aileu | C22: Aileu VILLA | D22: Suco Liurai (Alieu Vila) | E22: FATULMAU | F22: KONSTRUSAUN | G22: BEE MOS SISTEMA GRAVITASAUN | H22: M2 | I22: 26869 | J22: =I22-K22 -> 22440.14 | K22: 4428.86 | L22: 7235.74 | N22: =L22 -> 7235.74 | O22: =M22 -> 0 | P22: =N22+O22 -> 7235.74 | Q22: =I22-P22 -> 19633.26 | R22: =P22/I22 -> 0.26929696
A23: Total | C23: Aileu VILLA | H23: 14 | I23: =SUM(I9:I22) -> 295114 | J23: =SUM(J9:J22) -> 246109.2 | K23: =SUM(K9:K22) -> 49004.8 | L23: =SUM(L9:L22) -> 32266.34 | M23: =SUM(M9:M22) -> 0 | N23: =SUM(N9:N22) -> 32266.34 | O23: =SUM(O9:O22) -> 0 | P23: =SUM(P9:P22) -> 32266.34 | Q23: =SUM(Q9:Q22) -> 262847.66 | R23: =P23/I23 -> 0.10933517
A24: 13 | B24: Aileu | C24: Laulara | D24: Bocolelo | E24: DONFONAMO | F24: KONSTRUSAUN | G24: ESTRADA RURAIS - ESTRADA RAI | H24: KM | I24: 26722 | J24: =I24-K24 -> 25487 | K24: 1235 | L24: 53.44 | N24: =L24 -> 53.44 | O24: =M24 -> 0 | P24: =N24+O24 -> 53.44 | Q24: =I24-P24 -> 26668.56 | R24: =P24/I24 -> 0.0019998503
A25: 14 | B25: Aileu | C25: Laulara | D25: Cotolau | E25: ORNAI | F25: EXTENSAUN | G25: DAPUR E SALA MERENDA ESKOLAR | H25: M2 | I25: 26722 | J25: =I25-K25 -> 22068 | K25: 4654 | L25: 53.44 | N25: =L25 -> 53.44 | O25: =M25 -> 0 | P25: =N25+O25 -> 53.44 | Q25: =I25-P25 -> 26668.56 | R25: =P25/I25 -> 0.0019998503
A26: 15 | B26: Aileu | C26: Laulara | D26: Fatisi | E26: MAUBOUC | F26: KONSTRUSAUN | G26: ESTRADA BETAUN | H26: KM | I26: 26722 | J26: =I26-K26 -> 22775 | K26: 3947 | L26: 53.44 | N26: =L26 -> 53.44 | O26: =M26 -> 0 | P26: =N26+O26 -> 53.44 | Q26: =I26-P26 -> 26668.56 | R26: =P26/I26 -> 0.0019998503
A27: 16 | B27: Aileu | C27: Laulara | D27: Madabeno | E27: MANE HALO | F27: KONSTRUSAUN | G27: REHAB.SEDE ALDEIA | H27: KM | I27: 24076 | J27: =I27-K27 -> 20911 | K27: 3165 | L27: 48.15 | N27: =L27 -> 48.15 | O27: =M27 -> 0 | P27: =N27+O27 -> 48.15 | Q27: =I27-P27 -> 24027.85 | R27: =P27/I27 -> 0.0019999169
A28: 17 | B28: Aileu | C28: Laulara | D28: Talitu | E28: CASMANATUTO | F28: KONSTRUSAUN | G28: ESTRADA BETAUN | H28: KM | I28: 24076 | J28: =I28-K28 -> 20253 | K28: 3823 | L28: 48.15 | N28: =L28 -> 48.15 | O28: =M28 -> 0 | P28: =N28+O28 -> 48.15 | Q28: =I28-P28 -> 24027.85 | R28: =P28/I28 -> 0.0019999169
A29: 18 | B29: Aileu | C29: Laulara | D29: Tohumeta | E29: TOHUMETA | F29: KONSTRUSAUN | G29: ESTRADA BETAUN | H29: KM | I29: 24076 | J29: =I29-K29 -> 20699 | K29: 3377 | L29: 48.15 | N29: =L29 -> 48.15 | O29: =M29 -> 0 | P29: =N29+O29 -> 48.15 | Q29: =I29-P29 -> 24027.85 | R29: =P29/I29 -> 0.0019999169
A30: Total | C30: Laulara | H30: 6 | I30: =SUM(I24:I29) -> 152394 | J30: =SUM(J24:J29) -> 132193 | K30: =SUM(K24:K29) -> 20201 | L30: =SUM(L24:L29) -> 304.77 | M30: =SUM(M24:M29) -> 0 | N30: =SUM(N24:N29) -> 304.77 | O30: =SUM(O24:O29) -> 0 | P30: =SUM(P24:P29) -> 304.77 | Q30: =SUM(Q24:Q29) -> 152089.23 | R30: =P30/I30 -> 0.0019998819
A31: 19 | B31: Aileu | C31: Liquidoe | D31: Acubilitoho | E31: BILOCO | F31: REHABILITASAUN | G31: ESTRADA RURAIS - ESTRADA BETAUN | H31: KM | I31: 21430 | J31: =I31-K31 -> 17569 | K31: 3861 | L31: 42.86 | N31: =L31 -> 42.86 | O31: =M31 -> 0 | P31: =N31+O31 -> 42.86 | Q31: =I31-P31 -> 21387.14 | R31: =P31/I31 -> 0.002
A32: 20 | B32: Aileu | C32: Liquidoe | D32: Bereleu | E32: LEBUTU | F32: KONSTRUSAUN | G32: KONSTRUSAUN BEE MOS SISTEMA BOMBA | H32: KM | I32: 24076 | J32: =I32-K32 -> 19529.04 | K32: 4546.96 | L32: 0 | N32: =L32 -> 0 | O32: =M32 -> 0 | P32: =N32+O32 -> 0 | Q32: =I32-P32 -> 24076 | R32: =P32/I32 -> 0
A33: 21 | B33: Aileu | C33: Liquidoe | D33: Betulau | E33: NAUMATA | F33: REHABILITASAUN | G33: ESTRADA BETAUN | H33: M2 | I33: 24076 | J33: =I33-K33 -> 19419 | K33: 4657 | L33: 48.15 | N33: =L33 -> 48.15 | O33: =M33 -> 0 | P33: =N33+O33 -> 48.15 | Q33: =I33-P33 -> 24027.85 | R33: =P33/I33 -> 0.0019999169
A34: 22 | B34: Aileu | C34: Liquidoe | D34: Fahisoi | E34: LOCOTOI | F34: KONSTRUSAUN | G34: ESTRADA RURAIS - ESTRADA BETAUN | H34: KM | I34: 21430 | J34: =I34-K34 -> 17641 | K34: 3789 | L34: 42.86 | N34: =L34 -> 42.86 | O34: =M34 -> 0 | P34: =N34+O34 -> 42.86 | Q34: =I34-P34 -> 21387.14 | R34: =P34/I34 -> 0.002
A35: 23 | B35: Aileu | C35: Liquidoe | D35: FATURILAU | E35: LEBUMERAN | F35: KONSTRUSAUN | G35: ESTRADA RURAIS - ESTRADA BETAUN | H35: KM | I35: 24076 | J35: =I35-K35 -> 19909 | K35: 4167 | L35: 48.15 | N35: =L35 -> 48.15 | O35: =M35 -> 0 | P35: =N35+O35 -> 48.15 | Q35: =I35-P35 -> 24027.85 | R35: =P35/I35 -> 0.0019999169
A36: 24 | B36: Aileu | C36: Liquidoe | D36: Manucassa | E36: FATUKMRIN | F36: KONSTRUSAUN | G36: KONTRUSAUN RESIDENSIA PESSOAL SAUDE | H36: M2 | I36: 21430 | J36: =I36-K36 -> 17564 | K36: 3866 | L36: 42.86 | N36: =L36 -> 42.86 | O36: =M36 -> 0 | P36: =N36+O36 -> 42.86 | Q36: =I36-P36 -> 21387.14 | R36: =P36/I36 -> 0.002
A37: 25 | B37: Aileu | C37: Liquidoe | D37: Namolesso | E37: AITOIN | F37: KONSTRUSAUN | G37: ESTRADA RURAIS - ESTRADA RAI | H37: KM | I37: 21430 | J37: =I37-K37 -> 19505 | K37: 1925 | L37: 42.86 | N37: =L37 -> 42.86 | O37: =M37 -> 0 | P37: =N37+O37 -> 42.86 | Q37: =I37-P37 -> 21387.14 | R37: =P37/I37 -> 0.002
A38: Total | C38: Liquidoe | H38: 7 | I38: =SUM(I31:I37) -> 157948 | J38: =SUM(J31:J37) -> 131136.04 | K38: =SUM(K31:K37) -> 26811.96 | L38: =SUM(L31:L37) -> 267.74 | M38: =SUM(M31:M37) -> 0 | N38: =SUM(N31:N37) -> 267.74 | O38: =SUM(O31:O37) -> 0 | P38: =SUM(P31:P37) -> 267.74 | Q38: =SUM(Q31:Q37) -> 157680.26 | R38: =P38/I38 -> 0.0016951148
A39: 26 | B39: Aileu | C39: Remexio | D39: Acumau | E39: FATUMANARUK | F39: REHABILITASAUN | G39: REHABILITASAUN BA ESTRADA | H39: M | I39: 26869 | J39: =I39-K39 -> 22553 | K39: 4316 | L39: 53.74 | N39: =L39 -> 53.74 | O39: =M39 -> 0 | P39: =N39+O39 -> 53.74 | Q39: =I39-P39 -> 26815.26 | R39: =P39/I39 -> 0.0020000744
A40: 27 | B40: Aileu | C40: Remexio | D40: Fadabloco | E40: RAIFATU | F40: KONSTRUSAUN | G40: KONSTRUSAUN BEE MOS SISTEMA BOMBA | H40: M2 | I40: 26869 | J40: =I40-K40 -> 23077 | K40: 3792 | L40: 53.74 | N40: =L40 -> 53.74 | O40: =M40 -> 0 | P40: =N40+O40 -> 53.74 | Q40: =I40-P40 -> 26815.26 | R40: =P40/I40 -> 0.0020000744
A41: 28 | B41: Aileu | C41: Remexio | D41: Fahisoi | E41: DIRUHATI | F41: KONSTRUSAUN | G41: ESTRADA BETAUN | H41: M | I41: 20899 | J41: =I41-K41 -> 17243.5 | K41: 3655.5 | L41: 48.15 | N41: =L41 -> 48.15 | O41: =M41 -> 0 | P41: =N41+O41 -> 48.15 | Q41: =I41-P41 -> 20850.85 | R41: =P41/I41 -> 0.002303938
G42: ESTRADA RAI | I42: 3177 | J42: =I42-K42 -> 3177 | N42: =L42 -> 0 | O42: =M42 -> 0 | P42: =N42+O42 -> 0 | Q42: =I42-P42 -> 3177 | R42: =P42/I42 -> 0
A43: 29 | B43: Aileu | C43: Remexio | D43: Faturasa | E43: FACULAUN | F43: REHABILITASAUN | G43: REHABILITASAUN BEE MOS GRAVITASAUN | H43: KM | I43: 24076 | J43: =I43-K43 -> 19677.3 | K43: 4398.7 | L43: 48.15 | N43: =L43 -> 48.15 | O43: =M43 -> 0 | P43: =N43+O43 -> 48.15 | Q43: =I43-P43 -> 24027.85 | R43: =P43/I43 -> 0.0019999169
A44: 30 | B44: Aileu | C44: Remexio | D44: Hautoho | E44: AIBUTIHUN | F44: KONSTRUSAUN | G44: ESTRADA BETAUN | H44: KM | I44: 24076 | J44: =I44-K44 -> 20130 | K44: 3946 | L44: 48.15 | N44: =L44 -> 48.15 | O44: =M44 -> 0 | P44: =N44+O44 -> 48.15 | Q44: =I44-P44 -> 24027.85 | R44: =P44/I44 -> 0.0019999169
A45: 31 | B45: Aileu | C45: Remexio | D45: Maumeta | E45: TUKEU | F45: KONSTRUSAUN | G45: ESTRADA BETAUN | H45: KM | I45: 24076 | J45: =I45-K45 -> 20815 | K45: 3261 | L45: 48.15 | N45: =L45 -> 48.15 | O45: =M45 -> 0 | P45: =N45+O45 -> 48.15 | Q45: =I45-P45 -> 24027.85 | R45: =P45/I45 -> 0.0019999169
...

Sheet EJEKUSAUN AUGUSTU 2025 
A6: Relatorio Alokasaun Kontra Ejekusaun Tranferensia Publicas 2025 (Inf)
A7: Nu | B7: Munisipiu | C7: Postu Administrativu | D7: Suku | E7: Aldeia | F7: Aktividades | G7: Naran Projeito | H7: Unidade | I7: Total Orsamentu | J7: Kustu Estimasaun tuir POI | L7: Realizasaun Gastus | N7: Kumulativu Gastus | Q7: Balansu | R7: Purcentangen% Progresu | T7: Observasaun
J8: Material | K8: Insentivus | L8: Material | M8: Insentivus | N8: Material | O8: Insentivus | P8: Total | R8: Financas | S8: Fisiku | T8: Diff
A9: 1 | B9: Aileu | C9: Aileu VILLA | D9: Aissirimou | E9: BERKATI | F9: KONSTRUSAUN | G9: KONST.EST RAI+KONST.PASADEIRA+DEKER | H9: KM | I9: 24231 | J9: =I9-K9 -> 22836 | K9: 1395 | L9: 14993.4 | N9: ='EJEKUSAUN JULHO 2025'!N9+'EJEKUSAUN AUGUSTU 2025 '!L9 -> 15041.86 | O9: ='EJEKUSAUN JULHO 2025'!O9+'EJEKUSAUN AUGUSTU 2025 '!M9 -> 0 | P9: =N9+O9 -> 15041.86 | Q9: =I9-P9 -> 9189.14 | R9: =P9/I9 -> 0.62076926
A10: 2 | B10: Aileu | C10: Aileu VILLA | D10: Bandudato | E10: BANDUDATO | F10: KONSTRUSAUN | G10: MORU SATAN RAI & BRONJONG | H10: KM | I10: =21430+20 -> 21450 | J10: =I10-K10 -> 21450 | L10: =1125+1525+2147.75 -> 4797.75 | N10: ='EJEKUSAUN JULHO 2025'!N10+'EJEKUSAUN AUGUSTU 2025 '!L10 -> 6140.61 | O10: ='EJEKUSAUN JULHO 2025'!O10+'EJEKUSAUN AUGUSTU 2025 '!M10 -> 0 | P10: =N10+O10 -> 6140.61 | Q10: =I10-P10 -> 15309.39 | R10: =P10/I10 -> 0.28627552 | T10: =15310.3-Q10 -> 0.91
A11: 3 | B11: Aileu | C11: Aileu VILLA | D11: Fahiria | E11: SIDOLE | F11: KONSTRUSAUN | G11: KONST.EST BETAUN+PASADEIRA | H11: KM | I11: 17223 | J11: =I11-K11 -> 14314.5 | K11: 2908.5 | L11: =2480+2580.25-1250 -> 3810.25 | M11: 1250 | N11: ='EJEKUSAUN JULHO 2025'!N11+'EJEKUSAUN AUGUSTU 2025 '!L11 -> 3858.7 | O11: ='EJEKUSAUN JULHO 2025'!O11+'EJEKUSAUN AUGUSTU 2025 '!M11 -> 1250 | P11: =N11+O11 -> 5108.7 | Q11: =I11-P11 -> 12114.3 | R11: =P11/I11 -> 0.2966208
E12: SARIN | F12: MANUTENSAUN | G12: REHAB.SEDE ALDEIA | H12: KM | I12: 7000 | J12: =I12-K12 -> 6500 | K12: 500 | N12: ='EJEKUSAUN JULHO 2025'!N12+'EJEKUSAUN AUGUSTU 2025 '!L12 -> 0 | O12: ='EJEKUSAUN JULHO 2025'!O12+'EJEKUSAUN AUGUSTU 2025 '!M12 -> 0 | P12: =N12+O12 -> 0 | Q12: =I12-P12 -> 7000 | R12: =P12/I12 -> 0
A13: 4 | B13: Aileu | C13: Aileu VILLA | D13: Fatubossa | E13: CAICASA | F13: KONSTRUSAUN | G13: KONST.RESIDENCIA PROFESOR | H13: M2 | I13: 24076 | J13: =I13-K13 -> 24076 | N13: ='EJEKUSAUN JULHO 2025'!N13+'EJEKUSAUN AUGUSTU 2025 '!L13 -> 48.15 | O13: ='EJEKUSAUN JULHO 2025'!O13+'EJEKUSAUN AUGUSTU 2025 '!M13 -> 0 | P13: =N13+O13 -> 48.15 | Q13: =I13-P13 -> 24027.85 | R13: =P13/I13 -> 0.0019999169
A14: 5 | B14: Aileu | C14: Aileu VILLA | D14: Hoholau | E14: MANUBATAN | F14: KONSTRUSAUN | G14: KONST. EST. BETAUN+DRAINAGEN+BRONJONG | H14: M | I14: 24076 | J14: =I14-K14 -> 20162 | K14: 3914 | L14: =100+3922+4165 -> 8187 | N14: ='EJEKUSAUN JULHO 2025'!N14+'EJEKUSAUN AUGUSTU 2025 '!L14 -> 8235.15 | O14: ='EJEKUSAUN JULHO 2025'!O14+'EJEKUSAUN AUGUSTU 2025 '!M14 -> 0 | P14: =N14+O14 -> 8235.15 | Q14: =I14-P14 -> 15840.85 | R14: =P14/I14 -> 0.3420481
A15: 6 | B15: Aileu | C15: Aileu VILLA | D15: Lahae | E15: RIATELU | F15: REHABILITASAUN | G15: REHAB.SISTEMA IRIGASAUN+KONST BRONJONG | H15: KM | I15: 24076 | J15: =I15-K15 -> 18304 | K15: 5772 | L15: 4776 | N15: ='EJEKUSAUN JULHO 2025'!N15+'EJEKUSAUN AUGUSTU 2025 '!L15 -> 4824.15 | O15: ='EJEKUSAUN JULHO 2025'!O15+'EJEKUSAUN AUGUSTU 2025 '!M15 -> 0 | P15: =N15+O15 -> 4824.15 | Q15: =I15-P15 -> 19251.85 | R15: =P15/I15 -> 0.20037174
A16: 7 | B16: Aileu | C16: Aileu VILLA | D16: Lausi | E16: ERBUTI | F16: REHABILITASAUN | G16: KONST.RESIDENCIA PROFESOR | H16: KM | I16: 24076 | J16: =I16-K16 -> 19345 | K16: 4731 | L16: =620+2822.5 -> 3442.5 | N16: ='EJEKUSAUN JULHO 2025'!N16+'EJEKUSAUN AUGUSTU 2025 '!L16 -> 3490.65 | O16: ='EJEKUSAUN JULHO 2025'!O16+'EJEKUSAUN AUGUSTU 2025 '!M16 -> 0 | P16: =N16+O16 -> 3490.65 | Q16: =I16-P16 -> 20585.35 | R16: =P16/I16 -> 0.14498463
A17: 8 | B17: Aileu | C17: Aileu VILLA | D17: Lequitura | E17: RIHEU | F17: KONSTRUSAUN | G17: KONST.EST RAI+KONST DRAINAGEN | H17: KM | I17: 24076 | J17: =I17-K17 -> 24076 | N17: ='EJEKUSAUN JULHO 2025'!N17+'EJEKUSAUN AUGUSTU 2025 '!L17 -> 16802.32 | O17: ='EJEKUSAUN JULHO 2025'!O17+'EJEKUSAUN AUGUSTU 2025 '!M17 -> 0 | P17: =N17+O17 -> 16802.32 | Q17: =I17-P17 -> 7273.68 | R17: =P17/I17 -> 0.69788669
A18: 9 | B18: Aileu | C18: Aileu VILLA | D18: Saboria | E18: SABORIA | F18: KONSTRUSAUN | G18: KONST. EST. BETAUN+DRAINAGEN | H18: KM | I18: 24076 | J18: =I18-K18 -> 19003 | K18: 5073 | L18: =3310+925 -> 4235 | N18: ='EJEKUSAUN JULHO 2025'!N18+'EJEKUSAUN AUGUSTU 2025 '!L18 -> 10723.14 | O18: ='EJEKUSAUN JULHO 2025'!O18+'EJEKUSAUN AUGUSTU 2025 '!M18 -> 0 | P18: =N18+O18 -> 10723.14 | Q18: =I18-P18 -> 13352.86 | R18: =P18/I18 -> 0.44538711 | T18: 0.01
A19: 10 | B19: Aileu | C19: Aileu VILLA | D19: Seloi Craic | E19: COLIHOHO | F19: RAHABILITASAUN | G19: REHAB.SITEMA BEE MOS GRAVITASAUN | H19: M | I19: 16015.1 | J19: =I19-K19 -> 13323.65 | K19: 2691.45 | N19: ='EJEKUSAUN JULHO 2025'!N19+'EJEKUSAUN AUGUSTU 2025 '!L19 -> 53.74 | O19: ='EJEKUSAUN JULHO 2025'!O19+'EJEKUSAUN AUGUSTU 2025 '!M19 -> 0 | P19: =N19+O19 -> 53.74 | Q19: =I19-P19 -> 15961.36 | R19: =P19/I19 -> 0.0033555832
F20: KONSTRUSAUN | G20: KONST.SISTEMA BEE MOS GRAVITASAUN | I20: 10853.9 | J20: =I20-K20 -> 9026.41 | K20: 1827.49 | N20: ='EJEKUSAUN JULHO 2025'!N20+'EJEKUSAUN AUGUSTU 2025 '!L20 -> 0 | O20: ='EJEKUSAUN JULHO 2025'!O20+'EJEKUSAUN AUGUSTU 2025 '!M20 -> 0 | P20: =N20+O20 -> 0 | Q20: =I20-P20 -> 10853.9 | R20: =P20/I20 -> 0
A21: 11 | B21: Aileu | C21: Aileu VILLA | D21: Seloi Malere | E21: COTABAURU | F21: REHABILITASAUN | G21: KONSTRUSAUN EST BETAUN | H21: KM | I21: 27016 | J21: =I21-K21 -> 27016 | N21: ='EJEKUSAUN JULHO 2025'!N21+'EJEKUSAUN AUGUSTU 2025 '!L21 -> 54.03 | O21: ='EJEKUSAUN JULHO 2025'!O21+'EJEKUSAUN AUGUSTU 2025 '!M21 -> 0 | P21: =N21+O21 -> 54.03 | Q21: =I21-P21 -> 26961.97 | R21: =P21/I21 -> 0.001999926
A22: 12 | B22: Aileu | C22: Aileu VILLA | D22: Suco Liurai (Alieu Vila) | E22: FATULMAU | F22: KONSTRUSAUN | G22: BEE MOS SISTEMA GRAVITASAUN | H22: M2 | I22: 26869 | J22: =I22-K22 -> 22440.14 | K22: 4428.86 | N22: ='EJEKUSAUN JULHO 2025'!N22+'EJEKUSAUN AUGUSTU 2025 '!L22 -> 7235.74 | O22: ='EJEKUSAUN JULHO 2025'!O22+'EJEKUSAUN AUGUSTU 2025 '!M22 -> 0 | P22: =N22+O22 -> 7235.74 | Q22: =I22-P22 -> 19633.26 | R22: =P22/I22 -> 0.26929696
A23: Total | C23: Aileu VILLA | H23: 14 | I23: =SUM(I9:I22) -> 295114 | J23: =SUM(J9:J22) -> 261872.7 | K23: =SUM(K9:K22) -> 33241.3 | L23: =SUM(L9:L22) -> 44241.9 | M23: =SUM(M9:M22) -> 1250 | N23: =SUM(N9:N22) -> 76508.24 | O23: =SUM(O9:O22) -> 1250 | P23: =SUM(P9:P22) -> 77758.24 | Q23: =SUM(Q9:Q22) -> 217355.76 | R23: =P23/I23 -> 0.26348543
A24: 13 | B24: Aileu | C24: Laulara | D24: Bocolelo | E24: DONFONAMO | F24: KONSTRUSAUN | G24: ESTRADA RURAIS - ESTRADA RAI | H24: KM | I24: 26722 | J24: =I24-K24 -> 25487 | K24: 1235 | N24: ='EJEKUSAUN JULHO 2025'!N24+'EJEKUSAUN AUGUSTU 2025 '!L24 -> 53.44 | O24: ='EJEKUSAUN JULHO 2025'!O24+'EJEKUSAUN AUGUSTU 2025 '!M24 -> 0 | P24: =N24+O24 -> 53.44 | Q24: =I24-P24 -> 26668.56 | R24: =P24/I24 -> 0.0019998503
A25: 14 | B25: Aileu | C25: Laulara | D25: Cotolau | E25: ORNAI | F25: EXTENSAUN | G25: DAPUR E SALA MERENDA ESKOLAR | H25: M2 | I25: 26722 | J25: =I25-K25 -> 22068 | K25: 4654 | N25: ='EJEKUSAUN JULHO 2025'!N25+'EJEKUSAUN AUGUSTU 2025 '!L25 -> 53.44 | O25: ='EJEKUSAUN JULHO 2025'!O25+'EJEKUSAUN AUGUSTU 2025 '!M25 -> 0 | P25: =N25+O25 -> 53.44 | Q25: =I25-P25 -> 26668.56 | R25: =P25/I25 -> 0.0019998503
A26: 15 | B26: Aileu | C26: Laulara | D26: Fatisi | E26: MAUBOUC | F26: KONSTRUSAUN | G26: ESTRADA BETAUN | H26: KM | I26: 26722 | J26: =I26-K26 -> 22775 | K26: 3947 | L26: =1500+9155 -> 10655 | N26: ='EJEKUSAUN JULHO 2025'!N26+'EJEKUSAUN AUGUSTU 2025 '!L26 -> 10708.44 | O26: ='EJEKUSAUN JULHO 2025'!O26+'EJEKUSAUN AUGUSTU 2025 '!M26 -> 0 | P26: =N26+O26 -> 10708.44 | Q26: =I26-P26 -> 16013.56 | R26: =P26/I26 -> 0.40073497
A27: 16 | B27: Aileu | C27: Laulara | D27: Madabeno | E27: MANE HALO | F27: KONSTRUSAUN | G27: REHAB.SEDE ALDEIA | H27: KM | I27: 24076 | J27: =I27-K27 -> 20911 | K27: 3165 | N27: ='EJEKUSAUN JULHO 2025'!N27+'EJEKUSAUN AUGUSTU 2025 '!L27 -> 48.15 | O27: ='EJEKUSAUN JULHO 2025'!O27+'EJEKUSAUN AUGUSTU 2025 '!M27 -> 0 | P27: =N27+O27 -> 48.15 | Q27: =I27-P27 -> 24027.85 | R27: =P27/I27 -> 0.0019999169
A28: 17 | B28: Aileu | C28: Laulara | D28: Talitu | E28: CASMANATUTO | F28: KONSTRUSAUN | G28: ESTRADA BETAUN | H28: KM | I28: 24076 | J28: =I28-K28 -> 20253 | K28: 3823 | N28: ='EJEKUSAUN JULHO 2025'!N28+'EJEKUSAUN AUGUSTU 2025 '!L28 -> 48.15 | O28: ='EJEKUSAUN JULHO 2025'!O28+'EJEKUSAUN AUGUSTU 2025 '!M28 -> 0 | P28: =N28+O28 -> 48.15 | Q28: =I28-P28 -> 24027.85 | R28: =P28/I28 -> 0.0019999169
A29: 18 | B29: Aileu | C29: Laulara | D29: Tohumeta | E29: TOHUMETA | F29: KONSTRUSAUN | G29: ESTRADA BETAUN | H29: KM | I29: 24076 | J29: =I29-K29 -> 20699 | K29: 3377 | N29: ='EJEKUSAUN JULHO 2025'!N29+'EJEKUSAUN AUGUSTU 2025 '!L29 -> 48.15 | O29: ='EJEKUSAUN JULHO 2025'!O29+'EJEKUSAUN AUGUSTU 2025 '!M29 -> 0 | P29: =N29+O29 -> 48.15 | Q29: =I29-P29 -> 24027.85 | R29: =P29/I29 -> 0.0019999169
A30: Total | C30: Laulara | H30: 6 | I30: =SUM(I24:I29) -> 152394 | J30: =SUM(J24:J29) -> 132193 | K30: =SUM(K24:K29) -> 20201 | L30: =SUM(L24:L29) -> 10655 | M30: =SUM(M24:M29) -> 0 | N30: =SUM(N24:N29) -> 10959.77 | O30: =SUM(O24:O29) -> 0 | P30: =SUM(P24:P29) -> 10959.77 | Q30: =SUM(Q24:Q29) -> 141434.23 | R30: =P30/I30 -> 0.071917333
A31: 19 | B31: Aileu | C31: Liquidoe | D31: Acubilitoho | E31: BILOCO | F31: REHABILITASAUN | G31: ESTRADA RURAIS - ESTRADA BETAUN | H31: KM | I31: 21430 | J31: =I31-K31 -> 17569 | K31: 3861 | N31: ='EJEKUSAUN JULHO 2025'!N31+'EJEKUSAUN AUGUSTU 2025 '!L31 -> 42.86 | O31: ='EJEKUSAUN JULHO 2025'!O31+'EJEKUSAUN AUGUSTU 2025 '!M31 -> 0 | P31: =N31+O31 -> 42.86 | Q31: =I31-P31 -> 21387.14 | R31: =P31/I31 -> 0.002
A32: 20 | B32: Aileu | C32: Liquidoe | D32: Bereleu | E32: LEBUTU | F32: KONSTRUSAUN | G32: KONSTRUSAUN BEE MOS SISTEMA BOMBA | H32: KM | I32: 24076 | J32: =I32-K32 -> 19529.04 | K32: 4546.96 | N32: ='EJEKUSAUN JULHO 2025'!N32+'EJEKUSAUN AUGUSTU 2025 '!L32 -> 0 | O32: ='EJEKUSAUN JULHO 2025'!O32+'EJEKUSAUN AUGUSTU 2025 '!M32 -> 0 | P32: =N32+O32 -> 0 | Q32: =I32-P32 -> 24076 | R32: =P32/I32 -> 0
A33: 21 | B33: Aileu | C33: Liquidoe | D33: Betulau | E33: NAUMATA | F33: REHABILITASAUN | G33: ESTRADA BETAUN | H33: M2 | I33: 24076 | J33: =I33-K33 -> 19419 | K33: 4657 | N33: ='EJEKUSAUN JULHO 2025'!N33+'EJEKUSAUN AUGUSTU 2025 '!L33 -> 48.15 | O33: ='EJEKUSAUN JULHO 2025'!O33+'EJEKUSAUN AUGUSTU 2025 '!M33 -> 0 | P33: =N33+O33 -> 48.15 | Q33: =I33-P33 -> 24027.85 | R33: =P33/I33 -> 0.0019999169
A34: 22 | B34: Aileu | C34: Liquidoe | D34: Fahisoi | E34: LOCOTOI | F34: KONSTRUSAUN | G34: ESTRADA RURAIS - ESTRADA BETAUN | H34: KM | I34: 21430 | J34: =I34-K34 -> 17641 | K34: 3789 | N34: ='EJEKUSAUN JULHO 2025'!N34+'EJEKUSAUN AUGUSTU 2025 '!L34 -> 42.86 | O34: ='EJEKUSAUN JULHO 2025'!O34+'EJEKUSAUN AUGUSTU 2025 '!M34 -> 0 | P34: =N34+O34 -> 42.86 | Q34: =I34-P34 -> 21387.14 | R34: =P34/I34 -> 0.002
A35: 23 | B35: Aileu | C35: Liquidoe | D35: FATURILAU | E35: LEBUMERAN | F35: KONSTRUSAUN | G35: ESTRADA RURAIS - ESTRADA BETAUN | H35: KM | I35: 24076 | J35: =I35-K35 -> 19909 | K35: 4167 | N35: ='EJEKUSAUN JULHO 2025'!N35+'EJEKUSAUN AUGUSTU 2025 '!L35 -> 48.15 | O35: ='EJEKUSAUN JULHO 2025'!O35+'EJEKUSAUN AUGUSTU 2025 '!M35 -> 0 | P35: =N35+O35 -> 48.15 | Q35: =I35-P35 -> 24027.85 | R35: =P35/I35 -> 0.0019999169
A36: 24 | B36: Aileu | C36: Liquidoe | D36: Manucassa | E36: FATUKMRIN | F36: KONSTRUSAUN | G36: KONTRUSAUN RESIDENSIA PESSOAL SAUDE | H36: M2 | I36: 21430 | J36: =I36-K36 -> 17564 | K36: 3866 | N36: ='EJEKUSAUN JULHO 2025'!N36+'EJEKUSAUN AUGUSTU 2025 '!L36 -> 42.86 | O36: ='EJEKUSAUN JULHO 2025'!O36+'EJEKUSAUN AUGUSTU 2025 '!M36 -> 0 | P36: =N36+O36 -> 42.86 | Q36: =I36-P36 -> 21387.14 | R36: =P36/I36 -> 0.002
A37: 25 | B37: Aileu | C37: Liquidoe | D37: Namolesso | E37: AITOIN | F37: KONSTRUSAUN | G37: ESTRADA RURAIS - ESTRADA RAI | H37: KM | I37: 21430 | J37: =I37-K37 -> 19505 | K37: 1925 | N37: ='EJEKUSAUN JULHO 2025'!N37+'EJEKUSAUN AUGUSTU 2025 '!L37 -> 42.86 | O37: ='EJEKUSAUN JULHO 2025'!O37+'EJEKUSAUN AUGUSTU 2025 '!M37 -> 0 | P37: =N37+O37 -> 42.86 | Q37: =I37-P37 -> 21387.14 | R37: =P37/I37 -> 0.002
A38: Total | C38: Liquidoe | H38: 7 | I38: =SUM(I31:I37) -> 157948 | J38: =SUM(J31:J37) -> 131136.04 | K38: =SUM(K31:K37) -> 26811.96 | L38: =SUM(L31:L37) -> 0 | M38: =SUM(M31:M37) -> 0 | N38: =SUM(N31:N37) -> 267.74 | O38: =SUM(O31:O37) -> 0 | P38: =SUM(P31:P37) -> 267.74 | Q38: =SUM(Q31:Q37) -> 157680.26 | R38: =P38/I38 -> 0.0016951148
A39: 26 | B39: Aileu | C39: Remexio | D39: Acumau | E39: FATUMANARUK | F39: REHABILITASAUN | G39: REHABILITASAUN BA ESTRADA | H39: M | I39: 26869 | J39: =I39-K39 -> 22553 | K39: 4316 | N39: ='EJEKUSAUN JULHO 2025'!N39+'EJEKUSAUN AUGUSTU 2025 '!L39 -> 53.74 | O39: ='EJEKUSAUN JULHO 2025'!O39+'EJEKUSAUN AUGUSTU 2025 '!M39 -> 0 | P39: =N39+O39 -> 53.74 | Q39: =I39-P39 -> 26815.26 | R39: =P39/I39 -> 0.0020000744
A40: 27 | B40: Aileu | C40: Remexio | D40: Fadabloco | E40: RAIFATU | F40: KONSTRUSAUN | G40: KONSTRUSAUN BEE MOS SISTEMA BOMBA | H40: M2 | I40: 26869 | J40: =I40-K40 -> 23077 | K40: 3792 | N40: ='EJEKUSAUN JULHO 2025'!N40+'EJEKUSAUN AUGUSTU 2025 '!L40 -> 53.74 | O40: ='EJEKUSAUN JULHO 2025'!O40+'EJEKUSAUN AUGUSTU 2025 '!M40 -> 0 | P40: =N40+O40 -> 53.74 | Q40: =I40-P40 -> 26815.26 | R40: =P40/I40 -> 0.0020000744
A41: 28 | B41: Aileu | C41: Remexio | D41: Fahisoi | E41: DIRUHATI | F41: KONSTRUSAUN | G41: ESTRADA BETAUN | H41: M | I41: 20899 | J41: =I41-K41 -> 17243.5 | K41: 3655.5 | N41: ='EJEKUSAUN JULHO 2025'!N41+'EJEKUSAUN AUGUSTU 2025 '!L41 -> 48.15 | O41: ='EJEKUSAUN JULHO 2025'!O41+'EJEKUSAUN AUGUSTU 2025 '!M41 -> 0 | P41: =N41+O41 -> 48.15 | Q41: =I41-P41 -> 20850.85 | R41: =P41/I41 -> 0.002303938
G42: ESTRADA RAI | I42: 3177 | J42: =I42-K42 -> 3177 | N42: ='EJEKUSAUN JULHO 2025'!N42+'EJEKUSAUN AUGUSTU 2025 '!L42 -> 0 | O42: ='EJEKUSAUN JULHO 2025'!O42+'EJEKUSAUN AUGUSTU 2025 '!M42 -> 0 | P42: =N42+O42 -> 0 | Q42: =I42-P42 -> 3177 | R42: =P42/I42 -> 0
A43: 29 | B43: Aileu | C43: Remexio | D43: Faturasa | E43: FACULAUN | F43: REHABILITASAUN | G43: REHABILITASAUN BEE MOS GRAVITASAUN | H43: KM | I43: 24076 | J43: =I43-K43 -> 19677.3 | K43: 4398.7 | N43: ='EJEKUSAUN JULHO 2025'!N43+'EJEKUSAUN AUGUSTU 2025 '!L43 -> 48.15 | O43: ='EJEKUSAUN JULHO 2025'!O43+'EJEKUSAUN AUGUSTU 2025 '!M43 -> 0 | P43: =N43+O43 -> 48.15 | Q43: =I43-P43 -> 24027.85 | R43: =P43/I43 -> 0.0019999169
A44: 30 | B44: Aileu | C44: Remexio | D44: Hautoho | E44: AIBUTIHUN | F44: KONSTRUSAUN | G44: ESTRADA BETAUN | H44: KM | I44: 24076 | J44: =I44-K44 -> 20130 | K44: 3946 | N44: ='EJEKUSAUN JULHO 2025'!N44+'EJEKUSAUN AUGUSTU 2025 '!L44 -> 48.15 | O44: ='EJEKUSAUN JULHO 2025'!O44+'EJEKUSAUN AUGUSTU 2025 '!M44 -> 0 | P44: =N44+O44 -> 48.15 | Q44: =I44-P44 -> 24027.85 | R44: =P44/I44 -> 0.0019999169
A45: 31 | B45: Aileu | C45: Remexio | D45: Maumeta | E45: TUKEU | F45: KONSTRUSAUN | G45: ESTRADA BETAUN | H45: KM | I45: 24076 | J45: =I45-K45 -> 20815 | K45: 3261 | L45: 3372.5 | N45: ='EJEKUSAUN JULHO 2025'!N45+'EJEKUSAUN AUGUSTU 2025 '!L45 -> 3420.65 | O45: ='EJEKUSAUN JULHO 2025'!O45+'EJEKUSAUN AUGUSTU 2025 '!M45 -> 0 | P45: =N45+O45 -> 3420.65 | Q45: =I45-P45 -> 20655.35 | R45: =P45/I45 -> 0.14207717
...

Sheet EJEKUSAUN SEPT 2025  
A6: Relatorio Alokasaun Kontra Ejekusaun Tranferensia Publicas 2025 (Inf)
A7: Nu | B7: Munisipiu | C7: Postu Administrativu | D7: Suku | E7: Aldeia | F7: Aktividades | G7: Naran Projeito | H7: Unidade | I7: Total Orsamentu | J7: Kustu Estimasaun tuir POI | L7: Realizasaun Gastus | N7: Kumulativu Gastus | Q7: Balansu | R7: Purcentangen% Progresu | T7: Observasaun
J8: Material | K8: Insentivus | L8: Material | M8: Insentivus | N8: Material | O8: Insentivus | P8: Total | R8: Financas | S8: Fisiku | T8: Diff
A9: 1 | B9: Aileu | C9: Aileu VILLA | D9: Aissirimou | E9: BERKATI | F9: KONSTRUSAUN | G9: KONST.EST RAI+KONST.PASADEIRA+DEKER | H9: KM | I9: 24231 | J9: =I9-K9 -> 22836 | K9: 1395 | N9: ='EJEKUSAUN AUGUSTU 2025 '!N9+'EJEKUSAUN SEPT 2025 '!L9 -> 15041.86 | O9: ='EJEKUSAUN AUGUSTU 2025 '!O9+'EJEKUSAUN SEPT 2025 '!M9 -> 0 | P9: =N9+O9 -> 15041.86 | Q9: =I9-P9 -> 9189.14 | R9: =P9/I9 -> 0.62076926
A10: 2 | B10: Aileu | C10: Aileu VILLA | D10: Bandudato | E10: BANDUDATO | F10: KONSTRUSAUN | G10: MORU SATAN RAI & BRONJONG | H10: KM | I10: =21430+20 -> 21450 | J10: =I10-K10 -> 21450 | L10: 1503 | N10: ='EJEKUSAUN AUGUSTU 2025 '!N10+'EJEKUSAUN SEPT 2025 '!L10 -> 7643.61 | O10: ='EJEKUSAUN AUGUSTU 2025 '!O10+'EJEKUSAUN SEPT 2025 '!M10 -> 0 | P10: =N10+O10 -> 7643.61 | Q10: =I10-P10 -> 13806.39 | R10: =P10/I10 -> 0.35634545 | T10: =13807.3-Q10 -> 0.91
A11: 3 | B11: Aileu | C11: Aileu VILLA | D11: Fahiria | E11: SIDOLE | F11: KONSTRUSAUN | G11: KONST.EST BETAUN+PASADEIRA | H11: KM | I11: 17223 | J11: =I11-K11 -> 14314.5 | K11: 2908.5 | L11: =3295-250-M11 -> 1545 | M11: 1500 | N11: ='EJEKUSAUN AUGUSTU 2025 '!N11+'EJEKUSAUN SEPT 2025 '!L11 -> 5403.7 | O11: ='EJEKUSAUN AUGUSTU 2025 '!O11+'EJEKUSAUN SEPT 2025 '!M11 -> 2750 | P11: =N11+O11 -> 8153.7 | Q11: =I11-P11 -> 9069.3 | R11: =P11/I11 -> 0.47341926
E12: SARIN | F12: MANUTENSAUN | G12: REHAB.SEDE ALDEIA | H12: KM | I12: 7000 | J12: =I12-K12 -> 6500 | K12: 500 | L12: 999.25 | N12: ='EJEKUSAUN AUGUSTU 2025 '!N12+'EJEKUSAUN SEPT 2025 '!L12 -> 999.25 | O12: ='EJEKUSAUN AUGUSTU 2025 '!O12+'EJEKUSAUN SEPT 2025 '!M12 -> 0 | P12: =N12+O12 -> 999.25 | Q12: =I12-P12 -> 6000.75 | R12: =P12/I12 -> 0.14275
A13: 4 | B13: Aileu | C13: Aileu VILLA | D13: Fatubossa | E13: CAICASA | F13: KONSTRUSAUN | G13: KONST.RESIDENCIA PROFESOR | H13: M2 | I13: 24076 | J13: =I13-K13 -> 24076 | L13: 4637.5 | N13: ='EJEKUSAUN AUGUSTU 2025 '!N13+'EJEKUSAUN SEPT 2025 '!L13 -> 4685.65 | O13: ='EJEKUSAUN AUGUSTU 2025 '!O13+'EJEKUSAUN SEPT 2025 '!M13 -> 0 | P13: =N13+O13 -> 4685.65 | Q13: =I13-P13 -> 19390.35 | R13: =P13/I13 -> 0.19461912
A14: 5 | B14: Aileu | C14: Aileu VILLA | D14: Hoholau | E14: MANUBATAN | F14: KONSTRUSAUN | G14: KONST. EST. BETAUN+DRAINAGEN+BRONJONG | H14: M | I14: 24076 | J14: =I14-K14 -> 20162 | K14: 3914 | L14: 5701 | N14: ='EJEKUSAUN AUGUSTU 2025 '!N14+'EJEKUSAUN SEPT 2025 '!L14 -> 13936.15 | O14: ='EJEKUSAUN AUGUSTU 2025 '!O14+'EJEKUSAUN SEPT 2025 '!M14 -> 0 | P14: =N14+O14 -> 13936.15 | Q14: =I14-P14 -> 10139.85 | R14: =P14/I14 -> 0.57883992
A15: 6 | B15: Aileu | C15: Aileu VILLA | D15: Lahae | E15: RIATELU | F15: REHABILITASAUN | G15: REHAB.SISTEMA IRIGASAUN+KONST BRONJONG | H15: KM | I15: 24076 | J15: =I15-K15 -> 18304 | K15: 5772 | L15: 2075 | N15: ='EJEKUSAUN AUGUSTU 2025 '!N15+'EJEKUSAUN SEPT 2025 '!L15 -> 6899.15 | O15: ='EJEKUSAUN AUGUSTU 2025 '!O15+'EJEKUSAUN SEPT 2025 '!M15 -> 0 | P15: =N15+O15 -> 6899.15 | Q15: =I15-P15 -> 17176.85 | R15: =P15/I15 -> 0.28655715
A16: 7 | B16: Aileu | C16: Aileu VILLA | D16: Lausi | E16: ERBUTI | F16: REHABILITASAUN | G16: KONST.RESIDENCIA PROFESOR | H16: KM | I16: 24076 | J16: =I16-K16 -> 19345 | K16: 4731 | L16: 7133.7 | N16: ='EJEKUSAUN AUGUSTU 2025 '!N16+'EJEKUSAUN SEPT 2025 '!L16 -> 10624.35 | O16: ='EJEKUSAUN AUGUSTU 2025 '!O16+'EJEKUSAUN SEPT 2025 '!M16 -> 0 | P16: =N16+O16 -> 10624.35 | Q16: =I16-P16 -> 13451.65 | R16: =P16/I16 -> 0.44128385
A17: 8 | B17: Aileu | C17: Aileu VILLA | D17: Lequitura | E17: RIHEU | F17: KONSTRUSAUN | G17: KONST.EST RAI+KONST DRAINAGEN | H17: KM | I17: 24076 | J17: =I17-K17 -> 24076 | N17: ='EJEKUSAUN AUGUSTU 2025 '!N17+'EJEKUSAUN SEPT 2025 '!L17 -> 16802.32 | O17: ='EJEKUSAUN AUGUSTU 2025 '!O17+'EJEKUSAUN SEPT 2025 '!M17 -> 0 | P17: =N17+O17 -> 16802.32 | Q17: =I17-P17 -> 7273.68 | R17: =P17/I17 -> 0.69788669
A18: 9 | B18: Aileu | C18: Aileu VILLA | D18: Saboria | E18: SABORIA | F18: KONSTRUSAUN | G18: KONST. EST. BETAUN+DRAINAGEN | H18: KM | I18: 24076 | J18: =I18-K18 -> 19003 | K18: 5073 | L18: =450+775 -> 1225 | N18: ='EJEKUSAUN AUGUSTU 2025 '!N18+'EJEKUSAUN SEPT 2025 '!L18 -> 11948.14 | O18: ='EJEKUSAUN AUGUSTU 2025 '!O18+'EJEKUSAUN SEPT 2025 '!M18 -> 0 | P18: =N18+O18 -> 11948.14 | Q18: =I18-P18 -> 12127.86 | R18: =P18/I18 -> 0.49626765 | S18: =12127.86-Q18 -> 0 | T18: 0.01
A19: 10 | B19: Aileu | C19: Aileu VILLA | D19: Seloi Craic | E19: COLIHOHO | F19: RAHABILITASAUN | G19: REHAB.SITEMA BEE MOS GRAVITASAUN | H19: M | I19: 16015.1 | J19: =I19-K19 -> 13323.65 | K19: 2691.45 | L19: 3201 | N19: ='EJEKUSAUN AUGUSTU 2025 '!N19+'EJEKUSAUN SEPT 2025 '!L19 -> 3254.74 | O19: ='EJEKUSAUN AUGUSTU 2025 '!O19+'EJEKUSAUN SEPT 2025 '!M19 -> 0 | P19: =N19+O19 -> 3254.74 | Q19: =I19-P19 -> 12760.36 | R19: =P19/I19 -> 0.20322945
F20: KONSTRUSAUN | G20: KONST.SISTEMA BEE MOS GRAVITASAUN | I20: 10853.9 | J20: =I20-K20 -> 9026.41 | K20: 1827.49 | L20: 3150 | N20: ='EJEKUSAUN AUGUSTU 2025 '!N20+'EJEKUSAUN SEPT 2025 '!L20 -> 3150 | O20: ='EJEKUSAUN AUGUSTU 2025 '!O20+'EJEKUSAUN SEPT 2025 '!M20 -> 0 | P20: =N20+O20 -> 3150 | Q20: =I20-P20 -> 7703.9 | R20: =P20/I20 -> 0.29021826
A21: 11 | B21: Aileu | C21: Aileu VILLA | D21: Seloi Malere | E21: COTABAURU | F21: REHABILITASAUN | G21: KONSTRUSAUN EST BETAUN | H21: KM | I21: 27016 | J21: =I21-K21 -> 27016 | L21: 11709.1 | N21: ='EJEKUSAUN AUGUSTU 2025 '!N21+'EJEKUSAUN SEPT 2025 '!L21 -> 11763.13 | O21: ='EJEKUSAUN AUGUSTU 2025 '!O21+'EJEKUSAUN SEPT 2025 '!M21 -> 0 | P21: =N21+O21 -> 11763.13 | Q21: =I21-P21 -> 15252.87 | R21: =P21/I21 -> 0.43541346
A22: 12 | B22: Aileu | C22: Aileu VILLA | D22: Suco Liurai (Alieu Vila) | E22: FATULMAU | F22: KONSTRUSAUN | G22: BEE MOS SISTEMA GRAVITASAUN | H22: M2 | I22: 26869 | J22: =I22-K22 -> 22440.14 | K22: 4428.86 | N22: ='EJEKUSAUN AUGUSTU 2025 '!N22+'EJEKUSAUN SEPT 2025 '!L22 -> 7235.74 | O22: ='EJEKUSAUN AUGUSTU 2025 '!O22+'EJEKUSAUN SEPT 2025 '!M22 -> 0 | P22: =N22+O22 -> 7235.74 | Q22: =I22-P22 -> 19633.26 | R22: =P22/I22 -> 0.26929696 | T22: =19632.26-Q22 -> -1
A23: Total | C23: Aileu VILLA | H23: 14 | I23: =SUM(I9:I22) -> 295114 | J23: =SUM(J9:J22) -> 261872.7 | K23: =SUM(K9:K22) -> 33241.3 | L23: =SUM(L9:L22) -> 42879.55 | M23: =SUM(M9:M22) -> 1500 | N23: =SUM(N9:N22) -> 119387.79 | O23: =SUM(O9:O22) -> 2750 | P23: =SUM(P9:P22) -> 122137.79 | Q23: =SUM(Q9:Q22) -> 172976.21 | R23: =P23/I23 -> 0.41386647
A24: 13 | B24: Aileu | C24: Laulara | D24: Bocolelo | E24: DONFONAMO | F24: KONSTRUSAUN | G24: ESTRADA RURAIS - ESTRADA RAI | H24: KM | I24: 26722 | J24: =I24-K24 -> 25487 | K24: 1235 | N24: ='EJEKUSAUN AUGUSTU 2025 '!N24+'EJEKUSAUN SEPT 2025 '!L24 -> 53.44 | O24: ='EJEKUSAUN AUGUSTU 2025 '!O24+'EJEKUSAUN SEPT 2025 '!M24 -> 0 | P24: =N24+O24 -> 53.44 | Q24: =I24-P24 -> 26668.56 | R24: =P24/I24 -> 0.0019998503
A25: 14 | B25: Aileu | C25: Laulara | D25: Cotolau | E25: ORNAI | F25: EXTENSAUN | G25: DAPUR E SALA MERENDA ESKOLAR | H25: M2 | I25: 26722 | J25: =I25-K25 -> 22068 | K25: 4654 | N25: ='EJEKUSAUN AUGUSTU 2025 '!N25+'EJEKUSAUN SEPT 2025 '!L25 -> 53.44 | O25: ='EJEKUSAUN AUGUSTU 2025 '!O25+'EJEKUSAUN SEPT 2025 '!M25 -> 0 | P25: =N25+O25 -> 53.44 | Q25: =I25-P25 -> 26668.56 | R25: =P25/I25 -> 0.0019998503
A26: 15 | B26: Aileu | C26: Laulara | D26: Fatisi | E26: MAUBOUC | F26: KONSTRUSAUN | G26: ESTRADA BETAUN | H26: KM | I26: 26722 | J26: =I26-K26 -> 22775 | K26: 3947 | L26: =5475-M26 -> 3975 | M26: 1500 | N26: ='EJEKUSAUN AUGUSTU 2025 '!N26+'EJEKUSAUN SEPT 2025 '!L26 -> 14683.44 | O26: ='EJEKUSAUN AUGUSTU 2025 '!O26+'EJEKUSAUN SEPT 2025 '!M26 -> 1500 | P26: =N26+O26 -> 16183.44 | Q26: =I26-P26 -> 10538.56 | R26: =P26/I26 -> 0.60562233 | X26: =16130-N26 -> 1446.56
A27: 16 | B27: Aileu | C27: Laulara | D27: Madabeno | E27: MANE HALO | F27: KONSTRUSAUN | G27: REHAB.SEDE ALDEIA | H27: KM | I27: 24076 | J27: =I27-K27 -> 20911 | K27: 3165 | N27: ='EJEKUSAUN AUGUSTU 2025 '!N27+'EJEKUSAUN SEPT 2025 '!L27 -> 48.15 | O27: ='EJEKUSAUN AUGUSTU 2025 '!O27+'EJEKUSAUN SEPT 2025 '!M27 -> 0 | P27: =N27+O27 -> 48.15 | Q27: =I27-P27 -> 24027.85 | R27: =P27/I27 -> 0.0019999169
A28: 17 | B28: Aileu | C28: Laulara | D28: Talitu | E28: CASMANATUTO | F28: KONSTRUSAUN | G28: ESTRADA BETAUN | H28: KM | I28: 24076 | J28: =I28-K28 -> 20253 | K28: 3823 | L28: 3020 | N28: ='EJEKUSAUN AUGUSTU 2025 '!N28+'EJEKUSAUN SEPT 2025 '!L28 -> 3068.15 | O28: ='EJEKUSAUN AUGUSTU 2025 '!O28+'EJEKUSAUN SEPT 2025 '!M28 -> 0 | P28: =N28+O28 -> 3068.15 | Q28: =I28-P28 -> 21007.85 | R28: =P28/I28 -> 0.12743604
A29: 18 | B29: Aileu | C29: Laulara | D29: Tohumeta | E29: TOHUMETA | F29: KONSTRUSAUN | G29: ESTRADA BETAUN | H29: KM | I29: 24076 | J29: =I29-K29 -> 20699 | K29: 3377 | L29: =14850.75-M29 -> 11773.75 | M29: 3077 | N29: ='EJEKUSAUN AUGUSTU 2025 '!N29+'EJEKUSAUN SEPT 2025 '!L29 -> 11821.9 | O29: ='EJEKUSAUN AUGUSTU 2025 '!O29+'EJEKUSAUN SEPT 2025 '!M29 -> 3077 | P29: =N29+O29 -> 14898.9 | Q29: =I29-P29 -> 9177.1 | R29: =P29/I29 -> 0.61882788
A30: Total | C30: Laulara | H30: 6 | I30: =SUM(I24:I29) -> 152394 | J30: =SUM(J24:J29) -> 132193 | K30: =SUM(K24:K29) -> 20201 | L30: =SUM(L24:L29) -> 18768.75 | M30: =SUM(M24:M29) -> 4577 | N30: =SUM(N24:N29) -> 29728.52 | O30: =SUM(O24:O29) -> 4577 | P30: =SUM(P24:P29) -> 34305.52 | Q30: =SUM(Q24:Q29) -> 118088.48 | R30: =P30/I30 -> 0.2251107
A31: 19 | B31: Aileu | C31: Liquidoe | D31: Acubilitoho | E31: BILOCO | F31: REHABILITASAUN | G31: ESTRADA RURAIS - ESTRADA BETAUN | H31: KM | I31: 21430 | J31: =I31-K31 -> 17569 | K31: 3861 | L31: 100 | N31: ='EJEKUSAUN AUGUSTU 2025 '!N31+'EJEKUSAUN SEPT 2025 '!L31 -> 142.86 | O31: ='EJEKUSAUN AUGUSTU 2025 '!O31+'EJEKUSAUN SEPT 2025 '!M31 -> 0 | P31: =N31+O31 -> 142.86 | Q31: =I31-P31 -> 21287.14 | R31: =P31/I31 -> 0.0066663556
A32: 20 | B32: Aileu | C32: Liquidoe | D32: Bereleu | E32: LEBUTU | F32: KONSTRUSAUN | G32: KONSTRUSAUN BEE MOS SISTEMA BOMBA | H32: KM | I32: 24076 | J32: =I32-K32 -> 19529.04 | K32: 4546.96 | N32: ='EJEKUSAUN AUGUSTU 2025 '!N32+'EJEKUSAUN SEPT 2025 '!L32 -> 0 | O32: ='EJEKUSAUN AUGUSTU 2025 '!O32+'EJEKUSAUN SEPT 2025 '!M32 -> 0 | P32: =N32+O32 -> 0 | Q32: =I32-P32 -> 24076 | R32: =P32/I32 -> 0
A33: 21 | B33: Aileu | C33: Liquidoe | D33: Betulau | E33: NAUMATA | F33: REHABILITASAUN | G33: ESTRADA BETAUN | H33: M2 | I33: 24076 | J33: =I33-K33 -> 19419 | K33: 4657 | L33: 6797 | N33: ='EJEKUSAUN AUGUSTU 2025 '!N33+'EJEKUSAUN SEPT 2025 '!L33 -> 6845.15 | O33: ='EJEKUSAUN AUGUSTU 2025 '!O33+'EJEKUSAUN SEPT 2025 '!M33 -> 0 | P33: =N33+O33 -> 6845.15 | Q33: =I33-P33 -> 17230.85 | R33: =P33/I33 -> 0.28431425
A34: 22 | B34: Aileu | C34: Liquidoe | D34: Fahisoi | E34: LOCOTOI | F34: KONSTRUSAUN | G34: ESTRADA RURAIS - ESTRADA BETAUN | H34: KM | I34: 21430 | J34: =I34-K34 -> 17641 | K34: 3789 | L34: 7448.5 | N34: ='EJEKUSAUN AUGUSTU 2025 '!N34+'EJEKUSAUN SEPT 2025 '!L34 -> 7491.36 | O34: ='EJEKUSAUN AUGUSTU 2025 '!O34+'EJEKUSAUN SEPT 2025 '!M34 -> 0 | P34: =N34+O34 -> 7491.36 | Q34: =I34-P34 -> 13938.64 | R34: =P34/I34 -> 0.3495735
A35: 23 | B35: Aileu | C35: Liquidoe | D35: FATURILAU | E35: LEBUMERAN | F35: KONSTRUSAUN | G35: ESTRADA RURAIS - ESTRADA BETAUN | H35: KM | I35: 24076 | J35: =I35-K35 -> 19909 | K35: 4167 | L35: 6568 | N35: ='EJEKUSAUN AUGUSTU 2025 '!N35+'EJEKUSAUN SEPT 2025 '!L35 -> 6616.15 | O35: ='EJEKUSAUN AUGUSTU 2025 '!O35+'EJEKUSAUN SEPT 2025 '!M35 -> 0 | P35: =N35+O35 -> 6616.15 | Q35: =I35-P35 -> 17459.85 | R35: =P35/I35 -> 0.27480271
A36: 24 | B36: Aileu | C36: Liquidoe | D36: Manucassa | E36: FATUKMRIN | F36: KONSTRUSAUN | G36: KONTRUSAUN RESIDENSIA PESSOAL SAUDE | H36: M2 | I36: 21430 | J36: =I36-K36 -> 17564 | K36: 3866 | L36: 100 | N36: ='EJEKUSAUN AUGUSTU 2025 '!N36+'EJEKUSAUN SEPT 2025 '!L36 -> 142.86 | O36: ='EJEKUSAUN AUGUSTU 2025 '!O36+'EJEKUSAUN SEPT 2025 '!M36 -> 0 | P36: =N36+O36 -> 142.86 | Q36: =I36-P36 -> 21287.14 | R36: =P36/I36 -> 0.0066663556
A37: 25 | B37: Aileu | C37: Liquidoe | D37: Namolesso | E37: AITOIN | F37: KONSTRUSAUN | G37: ESTRADA RURAIS - ESTRADA RAI | H37: KM | I37: 21430 | J37: =I37-K37 -> 19505 | K37: 1925 | L37: 7998.8 | N37: ='EJEKUSAUN AUGUSTU 2025 '!N37+'EJEKUSAUN SEPT 2025 '!L37 -> 8041.66 | O37: ='EJEKUSAUN AUGUSTU 2025 '!O37+'EJEKUSAUN SEPT 2025 '!M37 -> 0 | P37: =N37+O37 -> 8041.66 | Q37: =I37-P37 -> 13388.34 | R37: =P37/I37 -> 0.37525245
A38: Total | C38: Liquidoe | H38: 7 | I38: =SUM(I31:I37) -> 157948 | J38: =SUM(J31:J37) -> 131136.04 | K38: =SUM(K31:K37) -> 26811.96 | L38: =SUM(L31:L37) -> 29012.3 | M38: =SUM(M31:M37) -> 0 | N38: =SUM(N31:N37) -> 29280.04 | O38: =SUM(O31:O37) -> 0 | P38: =SUM(P31:P37) -> 29280.04 | Q38: =SUM(Q31:Q37) -> 128667.96 | R38: =P38/I38 -> 0.18537772
A39: 26 | B39: Aileu | C39: Remexio | D39: Acumau | E39: FATUMANARUK | F39: REHABILITASAUN | G39: REHABILITASAUN BA ESTRADA | H39: M | I39: 26869 | J39: =I39-K39 -> 22553 | K39: 4316 | N39: ='EJEKUSAUN AUGUSTU 2025 '!N39+'EJEKUSAUN SEPT 2025 '!L39 -> 53.74 | O39: ='EJEKUSAUN AUGUSTU 2025 '!O39+'EJEKUSAUN SEPT 2025 '!M39 -> 0 | P39: =N39+O39 -> 53.74 | Q39: =I39-P39 -> 26815.26 | R39: =P39/I39 -> 0.0020000744
A40: 27 | B40: Aileu | C40: Remexio | D40: Fadabloco | E40: RAIFATU | F40: KONSTRUSAUN | G40: KONSTRUSAUN BEE MOS SISTEMA BOMBA | H40: M2 | I40: 26869 | J40: =I40-K40 -> 23077 | K40: 3792 | N40: ='EJEKUSAUN AUGUSTU 2025 '!N40+'EJEKUSAUN SEPT 2025 '!L40 -> 53.74 | O40: ='EJEKUSAUN AUGUSTU 2025 '!O40+'EJEKUSAUN SEPT 2025 '!M40 -> 0 | P40: =N40+O40 -> 53.74 | Q40: =I40-P40 -> 26815.26 | R40: =P40/I40 -> 0.0020000744
A41: 28 | B41: Aileu | C41: Remexio | D41: Fahisoi | E41: DIRUHATI | F41: KONSTRUSAUN | G41: ESTRADA BETAUN | H41: M | I41: 20899 | J41: =I41-K41 -> 17243.5 | K41: 3655.5 | L41: 4862 | N41: ='EJEKUSAUN AUGUSTU 2025 '!N41+'EJEKUSAUN SEPT 2025 '!L41 -> 4910.15 | O41: ='EJEKUSAUN AUGUSTU 2025 '!O41+'EJEKUSAUN SEPT 2025 '!M41 -> 0 | P41: =N41+O41 -> 4910.15 | Q41: =I41-P41 -> 15988.85 | R41: =P41/I41 -> 0.23494665
G42: ESTRADA RAI | I42: 3177 | J42: =I42-K42 -> 3177 | L42: 2425.85 | N42: ='EJEKUSAUN AUGUSTU 2025 '!N42+'EJEKUSAUN SEPT 2025 '!L42 -> 2425.85 | O42: ='EJEKUSAUN AUGUSTU 2025 '!O42+'EJEKUSAUN SEPT 2025 '!M42 -> 0 | P42: =N42+O42 -> 2425.85 | Q42: =I42-P42 -> 751.15 | R42: =P42/I42 -> 0.76356626
A43: 29 | B43: Aileu | C43: Remexio | D43: Faturasa | E43: FACULAUN | F43: REHABILITASAUN | G43: REHABILITASAUN BEE MOS GRAVITASAUN | H43: KM | I43: 24076 | J43: =I43-K43 -> 19677.3 | K43: 4398.7 | L43: 8685.75 | N43: ='EJEKUSAUN AUGUSTU 2025 '!N43+'EJEKUSAUN SEPT 2025 '!L43 -> 8733.9 | O43: ='EJEKUSAUN AUGUSTU 2025 '!O43+'EJEKUSAUN SEPT 2025 '!M43 -> 0 | P43: =N43+O43 -> 8733.9 | Q43: =I43-P43 -> 15342.1 | R43: =P43/I43 -> 0.36276375
A44: 30 | B44: Aileu | C44: Remexio | D44: Hautoho | E44: AIBUTIHUN | F44: KONSTRUSAUN | G44: ESTRADA BETAUN | H44: KM | I44: 24076 | J44: =I44-K44 -> 20130 | K44: 3946 | N44: ='EJEKUSAUN AUGUSTU 2025 '!N44+'EJEKUSAUN SEPT 2025 '!L44 -> 48.15 | O44: ='EJEKUSAUN AUGUSTU 2025 '!O44+'EJEKUSAUN SEPT 2025 '!M44 -> 0 | P44: =N44+O44 -> 48.15 | Q44: =I44-P44 -> 24027.85 | R44: =P44/I44 -> 0.0019999169
A45: 31 | B45: Aileu | C45: Remexio | D45: Maumeta | E45: TUKEU | F45: KONSTRUSAUN | G45: ESTRADA BETAUN | H45: KM | I45: 24076 | J45: =I45-K45 -> 20815 | K45: 3261 | L45: 5695 | N45: ='EJEKUSAUN AUGUSTU 2025 '!N45+'EJEKUSAUN SEPT 2025 '!L45 -> 9115.65 | O45: ='EJEKUSAUN AUGUSTU 2025 '!O45+'EJEKUSAUN SEPT 2025 '!M45 -> 0 | P45: =N45+O45 -> 9115.65 | Q45: =I45-P45 -> 14960.35 | R45: =P45/I45 -> 0.37861979
...

Sheet EJEKUSAUN OCT 2025 
N5: =10514.5-3068.15 -> 7446.35 | O5: Talitu
A6: Relatorio Alokasaun Kontra Ejekusaun Tranferensia Publicas 2025 (Inf)
A7: Nu | B7: Munisipiu | C7: Postu Administrativu | D7: Suku | E7: Aldeia | F7: Aktividades | G7: Naran Projeito | H7: Unidade | I7: Total Orsamentu | J7: Kustu Estimasaun tuir POI | L7: Realizasaun Gastus | N7: Kumulativu Gastus | Q7: Balansu | R7: Purcentangen% Progresu | T7: Observasaun
J8: Material | K8: Insentivus | L8: Material | M8: Insentivus | N8: Material | O8: Insentivus | P8: Total | R8: Financas | S8: Fisiku
A9: 1 | B9: Aileu | C9: Aileu VILLA | D9: Aissirimou | E9: BERKATI | F9: KONSTRUSAUN | G9: KONST.EST RAI+KONST.PASADEIRA+DEKER | H9: KM | I9: 24231 | J9: =I9-K9 -> 22836 | K9: 1395 | L9: =3173.75+1410 -> 4583.75 | N9: ='EJEKUSAUN SEPT 2025 '!N9+'EJEKUSAUN OCT 2025 '!L9 -> 19625.61 | O9: ='EJEKUSAUN SEPT 2025 '!O9+'EJEKUSAUN OCT 2025 '!M9 -> 0 | P9: =N9+O9 -> 19625.61 | Q9: =I9-P9 -> 4605.39 | R9: =P9/I9 -> 0.8099381
A10: 2 | B10: Aileu | C10: Aileu VILLA | D10: Bandudato | E10: BANDUDATO | F10: KONSTRUSAUN | G10: MORU SATAN RAI & BRONJONG | H10: KM | I10: =21430+20 -> 21450 | J10: =I10-K10 -> 21450 | L10: =285+3540 -> 3825 | N10: ='EJEKUSAUN SEPT 2025 '!N10+'EJEKUSAUN OCT 2025 '!L10 -> 11468.61 | O10: ='EJEKUSAUN SEPT 2025 '!O10+'EJEKUSAUN OCT 2025 '!M10 -> 0 | P10: =N10+O10 -> 11468.61 | Q10: =I10-P10 -> 9981.39 | R10: =P10/I10 -> 0.53466713
A11: 3 | B11: Aileu | C11: Aileu VILLA | D11: Fahiria | E11: SIDOLE | F11: KONSTRUSAUN | G11: KONST.EST BETAUN+PASADEIRA | H11: KM | I11: 17223 | J11: =I11-K11 -> 14314.5 | K11: 2908.5 | N11: ='EJEKUSAUN SEPT 2025 '!N11+'EJEKUSAUN OCT 2025 '!L11 -> 5403.7 | O11: ='EJEKUSAUN SEPT 2025 '!O11+'EJEKUSAUN OCT 2025 '!M11 -> 2750 | P11: =N11+O11 -> 8153.7 | Q11: =I11-P11 -> 9069.3 | R11: =P11/I11 -> 0.47341926
E12: SARIN | F12: MANUTENSAUN | G12: REHAB.SEDE ALDEIA | H12: KM | I12: 7000 | J12: =I12-K12 -> 6500 | K12: 500 | L12: =615+3575.5 -> 4190.5 | N12: ='EJEKUSAUN SEPT 2025 '!N12+'EJEKUSAUN OCT 2025 '!L12 -> 5189.75 | O12: ='EJEKUSAUN SEPT 2025 '!O12+'EJEKUSAUN OCT 2025 '!M12 -> 0 | P12: =N12+O12 -> 5189.75 | Q12: =I12-P12 -> 1810.25 | R12: =P12/I12 -> 0.74139286
A13: 4 | B13: Aileu | C13: Aileu VILLA | D13: Fatubossa | E13: CAICASA | F13: KONSTRUSAUN | G13: KONST.RESIDENCIA PROFESOR | H13: M2 | I13: 24076 | J13: =I13-K13 -> 24076 | L13: =2075.5+665 -> 2740.5 | N13: ='EJEKUSAUN SEPT 2025 '!N13+'EJEKUSAUN OCT 2025 '!L13 -> 7426.15 | O13: ='EJEKUSAUN SEPT 2025 '!O13+'EJEKUSAUN OCT 2025 '!M13 -> 0 | P13: =N13+O13 -> 7426.15 | Q13: =I13-P13 -> 16649.85 | R13: =P13/I13 -> 0.30844617
A14: 5 | B14: Aileu | C14: Aileu VILLA | D14: Hoholau | E14: MANUBATAN | F14: KONSTRUSAUN | G14: KONST. EST. BETAUN+DRAINAGEN+BRONJONG | H14: M | I14: 24076 | J14: =I14-K14 -> 20162 | K14: 3914 | L14: =2000+1262+880 -> 4142 | N14: ='EJEKUSAUN SEPT 2025 '!N14+'EJEKUSAUN OCT 2025 '!L14 -> 18078.15 | O14: ='EJEKUSAUN SEPT 2025 '!O14+'EJEKUSAUN OCT 2025 '!M14 -> 0 | P14: =N14+O14 -> 18078.15 | Q14: =I14-P14 -> 5997.85 | R14: =P14/I14 -> 0.75087847
A15: 6 | B15: Aileu | C15: Aileu VILLA | D15: Lahae | E15: RIATELU | F15: REHABILITASAUN | G15: REHAB.SISTEMA IRIGASAUN+KONST BRONJONG | H15: KM | I15: 24076 | J15: =I15-K15 -> 18304 | K15: 5772 | L15: =1406.65+975+174.75+174.75+4040.4-M15 -> 2731.15 | M15: 4040.4 | N15: ='EJEKUSAUN SEPT 2025 '!N15+'EJEKUSAUN OCT 2025 '!L15 -> 9630.3 | O15: ='EJEKUSAUN SEPT 2025 '!O15+'EJEKUSAUN OCT 2025 '!M15 -> 4040.4 | P15: =N15+O15 -> 13670.7 | Q15: =I15-P15 -> 10405.3 | R15: =P15/I15 -> 0.56781442
A16: 7 | B16: Aileu | C16: Aileu VILLA | D16: Lausi | E16: ERBUTI | F16: REHABILITASAUN | G16: KONST.RESIDENCIA PROFESOR | H16: KM | I16: 24076 | J16: =I16-K16 -> 19345 | K16: 4731 | L16: 1875 | N16: ='EJEKUSAUN SEPT 2025 '!N16+'EJEKUSAUN OCT 2025 '!L16 -> 12499.35 | O16: ='EJEKUSAUN SEPT 2025 '!O16+'EJEKUSAUN OCT 2025 '!M16 -> 0 | P16: =N16+O16 -> 12499.35 | Q16: =I16-P16 -> 11576.65 | R16: =P16/I16 -> 0.51916224
A17: 8 | B17: Aileu | C17: Aileu VILLA | D17: Lequitura | E17: RIHEU | F17: KONSTRUSAUN | G17: KONST.EST RAI+KONST DRAINAGEN | H17: KM | I17: 24076 | J17: =I17-K17 -> 18173 | K17: =1283+1140+1000+1380+600+500 -> 5903 | L17: =1283+1140+1000+1380+1100 -> 5903 | N17: ='EJEKUSAUN SEPT 2025 '!N17+'EJEKUSAUN OCT 2025 '!L17 -> 22705.32 | O17: ='EJEKUSAUN SEPT 2025 '!O17+'EJEKUSAUN OCT 2025 '!M17 -> 0 | P17: =N17+O17 -> 22705.32 | Q17: =I17-P17 -> 1370.68 | R17: =P17/I17 -> 0.94306862
A18: 9 | B18: Aileu | C18: Aileu VILLA | D18: Saboria | E18: SABORIA | F18: KONSTRUSAUN | G18: KONST. EST. BETAUN+DRAINAGEN | H18: KM | I18: 24076 | J18: =I18-K18 -> 19003 | K18: 5073 | L18: 1994.5 | N18: ='EJEKUSAUN SEPT 2025 '!N18+'EJEKUSAUN OCT 2025 '!L18 -> 13942.64 | O18: ='EJEKUSAUN SEPT 2025 '!O18+'EJEKUSAUN OCT 2025 '!M18 -> 0 | P18: =N18+O18 -> 13942.64 | Q18: =I18-P18 -> 10133.36 | R18: =P18/I18 -> 0.57910949
A19: 10 | B19: Aileu | C19: Aileu VILLA | D19: Seloi Craic | E19: COLIHOHO | F19: RAHABILITASAUN | G19: REHAB.SITEMA BEE MOS GRAVITASAUN | H19: M | I19: 16015.1 | J19: =I19-K19 -> 13323.65 | K19: 2691.45 | L19: =5792.4+460+100 -> 6352.4 | N19: ='EJEKUSAUN SEPT 2025 '!N19+'EJEKUSAUN OCT 2025 '!L19 -> 9607.14 | O19: ='EJEKUSAUN SEPT 2025 '!O19+'EJEKUSAUN OCT 2025 '!M19 -> 0 | P19: =N19+O19 -> 9607.14 | Q19: =I19-P19 -> 6407.96 | R19: =P19/I19 -> 0.59988011
F20: KONSTRUSAUN | G20: KONST.SISTEMA BEE MOS GRAVITASAUN | I20: 10853.9 | J20: =I20-K20 -> 9026.41 | K20: 1827.49 | N20: ='EJEKUSAUN SEPT 2025 '!N20+'EJEKUSAUN OCT 2025 '!L20 -> 3150 | O20: ='EJEKUSAUN SEPT 2025 '!O20+'EJEKUSAUN OCT 2025 '!M20 -> 0 | P20: =N20+O20 -> 3150 | Q20: =I20-P20 -> 7703.9 | R20: =P20/I20 -> 0.29021826
A21: 11 | B21: Aileu | C21: Aileu VILLA | D21: Seloi Malere | E21: COTABAURU | F21: REHABILITASAUN | G21: KONSTRUSAUN EST BETAUN | H21: KM | I21: 27016 | J21: =I21-K21 -> 27016 | L21: 4959 | N21: ='EJEKUSAUN SEPT 2025 '!N21+'EJEKUSAUN OCT 2025 '!L21 -> 16722.13 | O21: ='EJEKUSAUN SEPT 2025 '!O21+'EJEKUSAUN OCT 2025 '!M21 -> 0 | P21: =N21+O21 -> 16722.13 | Q21: =I21-P21 -> 10293.87 | R21: =P21/I21 -> 0.61897135
A22: 12 | B22: Aileu | C22: Aileu VILLA | D22: Suco Liurai (Alieu Vila) | E22: FATULMAU | F22: KONSTRUSAUN | G22: BEE MOS SISTEMA GRAVITASAUN | H22: M2 | I22: 26869 | J22: =I22-K22 -> 22440.14 | K22: 4428.86 | L22: =50+4474 -> 4524 | N22: ='EJEKUSAUN SEPT 2025 '!N22+'EJEKUSAUN OCT 2025 '!L22 -> 11759.74 | O22: ='EJEKUSAUN SEPT 2025 '!O22+'EJEKUSAUN OCT 2025 '!M22 -> 0 | P22: =N22+O22 -> 11759.74 | Q22: =I22-P22 -> 15109.26 | R22: =P22/I22 -> 0.43766943
A23: Total | C23: Aileu VILLA | H23: 14 | I23: =SUM(I9:I22) -> 295114 | J23: =SUM(J9:J22) -> 255969.7 | K23: =SUM(K9:K22) -> 39144.3 | L23: =SUM(L9:L22) -> 47820.8 | M23: =SUM(M9:M22) -> 4040.4 | N23: =SUM(N9:N22) -> 167208.59 | O23: =SUM(O9:O22) -> 6790.4 | P23: =SUM(P9:P22) -> 173998.99 | Q23: =SUM(Q9:Q22) -> 121115.01 | R23: =P23/I23 -> 0.58959924
